BEGIN:VCALENDAR
VERSION:2.0
PRODID:-//cSPACE Marda Loop - ECPv6.15.20//NONSGML v1.0//EN
CALSCALE:GREGORIAN
METHOD:PUBLISH
X-ORIGINAL-URL:https://cspacemardaloop.com
X-WR-CALDESC:Events for cSPACE Marda Loop
REFRESH-INTERVAL;VALUE=DURATION:PT1H
X-Robots-Tag:noindex
X-PUBLISHED-TTL:PT1H
BEGIN:VTIMEZONE
TZID:UTC
BEGIN:STANDARD
TZOFFSETFROM:+0000
TZOFFSETTO:+0000
TZNAME:UTC
DTSTART:20230101T000000
END:STANDARD
END:VTIMEZONE
BEGIN:VTIMEZONE
TZID:America/Edmonton
BEGIN:DAYLIGHT
TZOFFSETFROM:-0700
TZOFFSETTO:-0600
TZNAME:MDT
DTSTART:20220313T090000
END:DAYLIGHT
BEGIN:STANDARD
TZOFFSETFROM:-0600
TZOFFSETTO:-0700
TZNAME:MST
DTSTART:20221106T080000
END:STANDARD
BEGIN:DAYLIGHT
TZOFFSETFROM:-0700
TZOFFSETTO:-0600
TZNAME:MDT
DTSTART:20230312T090000
END:DAYLIGHT
BEGIN:STANDARD
TZOFFSETFROM:-0600
TZOFFSETTO:-0700
TZNAME:MST
DTSTART:20231105T080000
END:STANDARD
BEGIN:DAYLIGHT
TZOFFSETFROM:-0700
TZOFFSETTO:-0600
TZNAME:MDT
DTSTART:20240310T090000
END:DAYLIGHT
BEGIN:STANDARD
TZOFFSETFROM:-0600
TZOFFSETTO:-0700
TZNAME:MST
DTSTART:20241103T080000
END:STANDARD
END:VTIMEZONE
BEGIN:VEVENT
DTSTART;TZID=UTC:20240615T100000
DTEND;TZID=UTC:20240615T140000
DTSTAMP:20260421T235304
CREATED:20240519T203028Z
LAST-MODIFIED:20240519T203028Z
UID:10001648-1718445600-1718460000@cspacemardaloop.com
SUMMARY:The Market at cSPACE Marda Loop
DESCRIPTION:Join us for a brand new outdoor inner-city market on Art Park at cSPACE Marda Loop!\nJoin us at The Market at cSPACE Marda Loop for a vibrant fusion of art\, culture\, and foodie goodies! Enjoy a lively atmosphere celebrating local talents and flavours. \n🌟 Highlights:\n– Discover unique arts and crafts from talented vendors 🎨✂️\n– Enjoy engaging free programming for kids from the amazing artists at Jube School 🧒🎨\n– Explore a variety of fresh local produce and culinary delights from food vendors 🥦🍅\n– Delight in live performances by both established and emerging artists 🎶🎤 \nWhether you’re in search of farm-fresh produce\, one-of-a-kind handmade treasures\, family-friendly activities\, or simply want to groove to some tunes\, The Market at cSPACE Marda Loop offers something special for everyone.
URL:https://cspacemardaloop.com/event/the-market-at-cspace-marda-loop-3/
LOCATION:cSPACE Marda Loop – Art Park
CATEGORIES:Art Park
ATTACH;FMTTYPE=image/jpeg:https://cspacemardaloop.com/wp-content/uploads/2024/04/market-tents.jpg
ORGANIZER;CN="cSPACE Marda Loop":MAILTO:info@cspaceprojects.com
END:VEVENT
BEGIN:VEVENT
DTSTART;TZID=UTC:20240525T100000
DTEND;TZID=UTC:20240525T140000
DTSTAMP:20260421T235304
CREATED:20240519T202904Z
LAST-MODIFIED:20240519T202904Z
UID:10001647-1716631200-1716645600@cspacemardaloop.com
SUMMARY:The Market at cSPACE Marda Loop
DESCRIPTION:Join us for a brand new outdoor inner-city market on Art Park at cSPACE Marda Loop!\nJoin us at The Market at cSPACE Marda Loop for a vibrant fusion of art\, culture\, and foodie goodies! Enjoy a lively atmosphere celebrating local talents and flavours. \n🌟 Highlights:\n– Discover unique arts and crafts from talented vendors 🎨✂️\n– Enjoy engaging free programming for kids from the amazing artists at Jube School 🧒🎨\n– Explore a variety of fresh local produce and culinary delights from food vendors 🥦🍅\n– Delight in live performances by both established and emerging artists 🎶🎤 \nWhether you’re in search of farm-fresh produce\, one-of-a-kind handmade treasures\, family-friendly activities\, or simply want to groove to some tunes\, The Market at cSPACE Marda Loop offers something special for everyone.
URL:https://cspacemardaloop.com/event/the-market-at-cspace-marda-loop/
LOCATION:cSPACE Marda Loop – Art Park
CATEGORIES:Art Park
ATTACH;FMTTYPE=image/jpeg:https://cspacemardaloop.com/wp-content/uploads/2024/04/market-tents.jpg
ORGANIZER;CN="cSPACE Marda Loop":MAILTO:info@cspaceprojects.com
END:VEVENT
BEGIN:VEVENT
DTSTART;TZID=America/Edmonton:20230908T130000
DTEND;TZID=America/Edmonton:20230908T153000
DTSTAMP:20260421T235304
CREATED:20230901T203106Z
LAST-MODIFIED:20230901T220927Z
UID:10000170-1694178000-1694187000@cspacemardaloop.com
SUMMARY:Solar Dyeing in the Park
DESCRIPTION:Alberta Craft is putting on a fun Interactive beginner workshop on Solar Dyeing with Lael Chmelyk. Learn how to extract beautiful colours from different plants using only the sun to drive the process. \nThis workshop will be an introduction to solar dyeing using foraged plants\, kitchen scraps and fabric remnants. We will discuss responsible and ethical harvesting for natural dyes\, as well as fabric preparation including scouring and mordanting. This workshop will spark your curiosity as well as give you the tools to continue this experimentation all year long\, using only the power of the sun to apply colour to cloth/yarn in natural materials of cotton/linen/silk/ wool. Once you try this technique\, everything has the potential to become dye – from your compost to spent blooms.
URL:https://cspacemardaloop.com/event/solar-dyeing-in-the-park/
LOCATION:cSPACE Marda Loop – Art Park
CATEGORIES:Art Park
ATTACH;FMTTYPE=image/jpeg:https://cspacemardaloop.com/wp-content/uploads/2023/09/lael--scaled.jpg
END:VEVENT
END:VCALENDAR