BEGIN:VCALENDAR
VERSION:2.0
PRODID:-//cSPACE Marda Loop - ECPv6.15.20//NONSGML v1.0//EN
CALSCALE:GREGORIAN
METHOD:PUBLISH
X-ORIGINAL-URL:https://cspacemardaloop.com
X-WR-CALDESC:Events for cSPACE Marda Loop
REFRESH-INTERVAL;VALUE=DURATION:PT1H
X-Robots-Tag:noindex
X-PUBLISHED-TTL:PT1H
BEGIN:VTIMEZONE
TZID:UTC
BEGIN:STANDARD
TZOFFSETFROM:+0000
TZOFFSETTO:+0000
TZNAME:UTC
DTSTART:20250101T000000
END:STANDARD
END:VTIMEZONE
BEGIN:VTIMEZONE
TZID:America/Edmonton
BEGIN:DAYLIGHT
TZOFFSETFROM:-0700
TZOFFSETTO:-0600
TZNAME:MDT
DTSTART:20240310T090000
END:DAYLIGHT
BEGIN:STANDARD
TZOFFSETFROM:-0600
TZOFFSETTO:-0700
TZNAME:MST
DTSTART:20241103T080000
END:STANDARD
BEGIN:DAYLIGHT
TZOFFSETFROM:-0700
TZOFFSETTO:-0600
TZNAME:MDT
DTSTART:20250309T090000
END:DAYLIGHT
BEGIN:STANDARD
TZOFFSETFROM:-0600
TZOFFSETTO:-0700
TZNAME:MST
DTSTART:20251102T080000
END:STANDARD
BEGIN:DAYLIGHT
TZOFFSETFROM:-0700
TZOFFSETTO:-0600
TZNAME:MDT
DTSTART:20260308T090000
END:DAYLIGHT
BEGIN:STANDARD
TZOFFSETFROM:-0600
TZOFFSETTO:-0700
TZNAME:MST
DTSTART:20261101T080000
END:STANDARD
END:VTIMEZONE
BEGIN:VEVENT
DTSTART;TZID=UTC:20260411T130000
DTEND;TZID=UTC:20260411T160000
DTSTAMP:20260420T044027
CREATED:20260324T172116Z
LAST-MODIFIED:20260324T172833Z
UID:10007048-1775912400-1775923200@cspacemardaloop.com
SUMMARY:Gallery Reception: Rebus Plates for our Times/Assiettes Rebus pour temps qui Courent
DESCRIPTION:Gallery Reception: Rebus Plates for our Times/Assiettes Rebus pour temps qui Courent\ncSPACE Marda Loop\nAlberta Craft Gallery – Level 2\nApril 11\, 2026\n1:00 PM – 4:00 PM\n \n\n\n\n\n\n\n\n\nJoin Alberta Craft Council and Alliance Française at cSPACE for an afternoon of art\, ideas\, and community with Rebus Plates for Our Times / Assiettes Rébus pour Les Temps Qui Courent. \nBegin your visit on Level 4 in the RGO Treehouse with a thought-provoking craft talk\, Pictorial Puns: Rebus Plates for Our Times\, presented by craft historian Dr. Jennifer Salahub. This engaging talk explores the rich history of rebus imagery—visual riddles that combine pictures and letters to convey layered meanings—and their evolution from 19th-century French ceramic traditions into contemporary artistic practice. \nFollowing the talk\, head down to the Alberta Craft Gallery on Level 2 for the artist reception\, where you can experience the exhibition firsthand and connect with the work in a welcoming\, social setting. \nRooted in a historical tradition popularized by makers such as the Faïencerie de Gien in France\, rebus plates once conveyed everything from moral lessons to political commentary. This contemporary exhibition revisits and reimagines that form\, offering fresh perspectives on the complexities of our current moment. \nFeaturing work by Montréal-born\, Calgary-based artist and Professor Emerita Mireille Perron—founder of the Laboratory of Feminist Pataphysics—this exhibition reflects a playful yet critical approach to art\, craft\, and social discourse. \nWe’re proud to host this free\, public event at cSPACE. Everyone is welcome to attend and experience the creativity and conversation unfolding within our community. \nThis exhibition is generously supported by Alliance Française. \n\nRSVP Online \n\nSCHEDULE: \n\n\n Craft Talk – 1:00 PM- 2:00 PM: Pictorial Puns: Rebus Plates for Our Times Talk with Dr. Jennifer Salahub\, Craft Historian\, RGO Treehouse 4th floor\, cSPACE\nArtist Reception – 2:00 PM – 4:00 PM: Alberta Craft Calgary\, 2nd floor\, cSPACE\n\nFree | Everyone Welcome
URL:https://cspacemardaloop.com/event/rebus-plates-for-our-timesassiettes-rebus-pour-temps-qui-courent/
LOCATION:Alberta Craft Gallery at cSPACE\, 1721 29 Avenue Southwest\, Calgary\, AB\, T2T 1P5\, Canada
CATEGORIES:Alberta Craft Gallery Level 2,RGO Treehouse Full
ATTACH;FMTTYPE=image/jpeg:https://cspacemardaloop.com/wp-content/uploads/2026/03/rebus-plates-for-our-timesassiettes-rebus-pour-temps-qui-courent.jpg
END:VEVENT
BEGIN:VEVENT
DTSTART;TZID=America/Edmonton:20250823T133000
DTEND;TZID=America/Edmonton:20250823T160000
DTSTAMP:20260420T044027
CREATED:20250719T232707Z
LAST-MODIFIED:20250720T000105Z
UID:10004599-1755955800-1755964800@cspacemardaloop.com
SUMMARY:Leaving an Impression: Cyanotype Workshop with Mireille Perron
DESCRIPTION:Leaving an Impression: Cyanotype Workshop with Mireille Perron\ncSPACE Marda Loop\nAlberta Craft Gallery – Level 2\nAugust 23\, 2025\n1:30 PM – 4:30 PM \nMake your own cyanotype print using an old photographic technique\, and learn how to use the local flora & fauna in your art! \nThis hands-on 2 1/2 hour workshop is an introduction to one of the first photographic processes ever developed. The cyanotype process\, also known as blueprint or sunprint utilizes photosensitive iron salts and continues to be relevant today to produce fine art prints. This process can be done with paper and fabric. This workshop will focus on cyanotype paper. You will design\, expose in the sun\, and develop in water your own cyanotypes. An UV lamp will be available if the sun is not showing up that day. \nThis is a contact printing method. Where the light reaches paper (or fabric)\, it turns blue. Where light is blocked\, it remains white\, or the colour of the paper. Participants are encouraged to bring objects/materials for their compositions. Select your objects thinking of the shadows they will leave. For example\, transparent reflective glass objects i.e. such as small drinking glasses with nice cut glass bottom\, and other random transparent objects. Intricate flowers and leaves like any small objects with an intricate contour such as lace\, strings\, gears\, buttons etc. Experimentation can produce some really interesting results. \nAll materials provided. \nBe ready to go outside in the sun (hat\, sunglasses\, sunscreen…) \nPurchase Tickets: www.eventbrite.ca/e/leaving-an-impression-cyanotype-workshop-with-mireille-perron-tickets-1466835798359?aff=ebdssbdestsearch \nAbout the Artist: Mireille Perron was born in 1957 in Montréal\, Québec. Since 1989 she has been living and working in Moh-kins-tsis/Calgary\, Alberta. Perron is the founder of the Laboratory of Feminist Pataphysics (2000 —)\, a social experiment that masquerades as collaborative works of art/craft and events. Her art work has been presented in solo and group exhibitions in Canada\, and more occasionally in Europe and the United States. She taught at the Alberta University of the Arts until 2018 when she received the title of Professor Emerita.
URL:https://cspacemardaloop.com/event/leaving-an-impression-cyanotype-workshop-with-mireille-perron-2/
LOCATION:Alberta Craft Gallery at cSPACE\, 1721 29 Avenue Southwest\, Calgary\, AB\, T2T 1P5\, Canada
CATEGORIES:Alberta Craft Gallery Level 2
ATTACH;FMTTYPE=image/jpeg:https://cspacemardaloop.com/wp-content/uploads/2025/07/working-event-calendar-squares-8.5-x-8.5-in.jpg
END:VEVENT
BEGIN:VEVENT
DTSTART;TZID=America/Edmonton:20250823T100000
DTEND;TZID=America/Edmonton:20250823T123000
DTSTAMP:20260420T044027
CREATED:20250719T232705Z
LAST-MODIFIED:20250720T000002Z
UID:10004598-1755943200-1755952200@cspacemardaloop.com
SUMMARY:Leaving an Impression: Cyanotype Workshop with Mireille Perron
DESCRIPTION:Leaving an Impression: Cyanotype Workshop with Mireille Perron\ncSPACE Marda Loop\nAlberta Craft Gallery – Level 2\nAugust 23\, 2025\n10:00 AM – 12:30 PM \nMake your own cyanotype print using an old photographic technique\, and learn how to use the local flora & fauna in your art! \nThis hands-on 2 1/2 hour workshop is an introduction to one of the first photographic processes ever developed. The cyanotype process\, also known as blueprint or sunprint utilizes photosensitive iron salts and continues to be relevant today to produce fine art prints. This process can be done with paper and fabric. This workshop will focus on cyanotype paper. You will design\, expose in the sun\, and develop in water your own cyanotypes. An UV lamp will be available if the sun is not showing up that day. \nThis is a contact printing method. Where the light reaches paper (or fabric)\, it turns blue. Where light is blocked\, it remains white\, or the colour of the paper. Participants are encouraged to bring objects/materials for their compositions. Select your objects thinking of the shadows they will leave. For example\, transparent reflective glass objects i.e. such as small drinking glasses with nice cut glass bottom\, and other random transparent objects. Intricate flowers and leaves like any small objects with an intricate contour such as lace\, strings\, gears\, buttons etc. Experimentation can produce some really interesting results. \nAll materials provided. \nBe ready to go outside in the sun (hat\, sunglasses\, sunscreen…) \nPurchase Tickets: www.eventbrite.ca/e/leaving-an-impression-cyanotype-workshop-with-mireille-perron-tickets-1466835798359?aff=ebdssbdestsearch \nAbout the Artist: Mireille Perron was born in 1957 in Montréal\, Québec. Since 1989 she has been living and working in Moh-kins-tsis/Calgary\, Alberta. Perron is the founder of the Laboratory of Feminist Pataphysics (2000 —)\, a social experiment that masquerades as collaborative works of art/craft and events. Her art work has been presented in solo and group exhibitions in Canada\, and more occasionally in Europe and the United States. She taught at the Alberta University of the Arts until 2018 when she received the title of Professor Emerita.
URL:https://cspacemardaloop.com/event/leaving-an-impression-cyanotype-workshop-with-mireille-perron/
LOCATION:Alberta Craft Gallery at cSPACE\, 1721 29 Avenue Southwest\, Calgary\, AB\, T2T 1P5\, Canada
CATEGORIES:Alberta Craft Gallery Level 2
ATTACH;FMTTYPE=image/jpeg:https://cspacemardaloop.com/wp-content/uploads/2025/07/working-event-calendar-squares-8.5-x-8.5-in.jpg
END:VEVENT
BEGIN:VEVENT
DTSTART;TZID=America/Edmonton:20250614T130000
DTEND;TZID=America/Edmonton:20250614T153000
DTSTAMP:20260420T044027
CREATED:20250602T030028Z
LAST-MODIFIED:20250602T030028Z
UID:10004544-1749906000-1749915000@cspacemardaloop.com
SUMMARY:Forest Floor - Wood Burning Workshop
DESCRIPTION:Join us for a hands-on wood-burning workshop that celebrates the heart of the forest! All materials\, tools and instructions provided.
URL:https://cspacemardaloop.com/event/forest-floor-wood-burning-workshop-2/
LOCATION:Alberta Craft Gallery at cSPACE\, 1721 29 Avenue Southwest\, Calgary\, AB\, T2T 1P5\, Canada
ATTACH;FMTTYPE=image/jpeg:https://cspacemardaloop.com/wp-content/uploads/2025/06/5a51c302ed6804a8dfe436439956a7e0-1.jpg
END:VEVENT
BEGIN:VEVENT
DTSTART;TZID=America/Edmonton:20250614T100000
DTEND;TZID=America/Edmonton:20250614T123000
DTSTAMP:20260420T044027
CREATED:20250602T030026Z
LAST-MODIFIED:20250602T030027Z
UID:10004545-1749895200-1749904200@cspacemardaloop.com
SUMMARY:Forest Floor - Wood Burning Workshop
DESCRIPTION:Join us for a hands-on wood-burning workshop that celebrates the heart of the forest! All materials\, tools and instructions provided.
URL:https://cspacemardaloop.com/event/forest-floor-wood-burning-workshop/
LOCATION:Alberta Craft Gallery at cSPACE\, 1721 29 Avenue Southwest\, Calgary\, AB\, T2T 1P5\, Canada
ATTACH;FMTTYPE=image/jpeg:https://cspacemardaloop.com/wp-content/uploads/2025/06/5a51c302ed6804a8dfe436439956a7e0.jpg
END:VEVENT
END:VCALENDAR