BEGIN:VCALENDAR
VERSION:2.0
PRODID:-//cSPACE Marda Loop - ECPv6.15.20//NONSGML v1.0//EN
CALSCALE:GREGORIAN
METHOD:PUBLISH
X-ORIGINAL-URL:https://cspacemardaloop.com
X-WR-CALDESC:Events for cSPACE Marda Loop
REFRESH-INTERVAL;VALUE=DURATION:PT1H
X-Robots-Tag:noindex
X-PUBLISHED-TTL:PT1H
BEGIN:VTIMEZONE
TZID:UTC
BEGIN:STANDARD
TZOFFSETFROM:+0000
TZOFFSETTO:+0000
TZNAME:UTC
DTSTART:20220101T000000
END:STANDARD
END:VTIMEZONE
BEGIN:VEVENT
DTSTART;TZID=UTC:20241010T181500
DTEND;TZID=UTC:20241010T201500
DTSTAMP:20260423T212442
CREATED:20240705T174956Z
LAST-MODIFIED:20240911T191856Z
UID:10002536-1728584100-1728591300@cspacemardaloop.com
SUMMARY:Quest Theatre Treks Fall Drama Classes
DESCRIPTION:Quest Theatre Treks Fall Drama Classes for Kids – Unleash Your Kid’s Creativity\nOur Drama Classes encourage students to collectively contribute to a devised theatre creation. Developmental drama games\, storytelling activities\, character development\, physicality\, and story making are explored to create an original play for performance and/or sharing of a work in progress by the end of the class session. Students are encouraged to bring\, borrow\, or make props and costumes throughout the process. A fun\, inclusive\, low stress class that celebrates the organic\, ridiculous\, and brilliant creative journey of young people. \nAges: 9-12\nDates: Thursdays from September 19th – November 28th\, 2024\n*No class Oct. 31st\nTime: 6:15 pm to 8:15 pm \nMore info/registration: https://www.questtheatre.org/drama-classes
URL:https://cspacemardaloop.com/event/quest-theatre-treks-fall-drama-classes/2024-10-10/
LOCATION:cSPACE Marda Loop\, 1721 29 Avenue Southwest\, Calgary\, AB\, T2T 6T7\, Canada
ATTACH;FMTTYPE=image/png:https://cspacemardaloop.com/wp-content/uploads/2024/07/4.png
END:VEVENT
BEGIN:VEVENT
DTSTART;TZID=UTC:20241003T181500
DTEND;TZID=UTC:20241003T201500
DTSTAMP:20260423T212442
CREATED:20240705T174956Z
LAST-MODIFIED:20240911T191856Z
UID:10002535-1727979300-1727986500@cspacemardaloop.com
SUMMARY:Quest Theatre Treks Fall Drama Classes
DESCRIPTION:Quest Theatre Treks Fall Drama Classes for Kids – Unleash Your Kid’s Creativity\nOur Drama Classes encourage students to collectively contribute to a devised theatre creation. Developmental drama games\, storytelling activities\, character development\, physicality\, and story making are explored to create an original play for performance and/or sharing of a work in progress by the end of the class session. Students are encouraged to bring\, borrow\, or make props and costumes throughout the process. A fun\, inclusive\, low stress class that celebrates the organic\, ridiculous\, and brilliant creative journey of young people. \nAges: 9-12\nDates: Thursdays from September 19th – November 28th\, 2024\n*No class Oct. 31st\nTime: 6:15 pm to 8:15 pm \nMore info/registration: https://www.questtheatre.org/drama-classes
URL:https://cspacemardaloop.com/event/quest-theatre-treks-fall-drama-classes/2024-10-03/
LOCATION:cSPACE Marda Loop\, 1721 29 Avenue Southwest\, Calgary\, AB\, T2T 6T7\, Canada
ATTACH;FMTTYPE=image/png:https://cspacemardaloop.com/wp-content/uploads/2024/07/4.png
END:VEVENT
BEGIN:VEVENT
DTSTART;TZID=UTC:20240926T181500
DTEND;TZID=UTC:20240926T201500
DTSTAMP:20260423T212442
CREATED:20240705T174956Z
LAST-MODIFIED:20240911T191856Z
UID:10002534-1727374500-1727381700@cspacemardaloop.com
SUMMARY:Quest Theatre Treks Fall Drama Classes
DESCRIPTION:Quest Theatre Treks Fall Drama Classes for Kids – Unleash Your Kid’s Creativity\nOur Drama Classes encourage students to collectively contribute to a devised theatre creation. Developmental drama games\, storytelling activities\, character development\, physicality\, and story making are explored to create an original play for performance and/or sharing of a work in progress by the end of the class session. Students are encouraged to bring\, borrow\, or make props and costumes throughout the process. A fun\, inclusive\, low stress class that celebrates the organic\, ridiculous\, and brilliant creative journey of young people. \nAges: 9-12\nDates: Thursdays from September 19th – November 28th\, 2024\n*No class Oct. 31st\nTime: 6:15 pm to 8:15 pm \nMore info/registration: https://www.questtheatre.org/drama-classes
URL:https://cspacemardaloop.com/event/quest-theatre-treks-fall-drama-classes/2024-09-26/
LOCATION:cSPACE Marda Loop\, 1721 29 Avenue Southwest\, Calgary\, AB\, T2T 6T7\, Canada
ATTACH;FMTTYPE=image/png:https://cspacemardaloop.com/wp-content/uploads/2024/07/4.png
END:VEVENT
BEGIN:VEVENT
DTSTART;TZID=UTC:20240919T181500
DTEND;TZID=UTC:20240919T201500
DTSTAMP:20260423T212442
CREATED:20240705T174956Z
LAST-MODIFIED:20240911T191856Z
UID:10002533-1726769700-1726776900@cspacemardaloop.com
SUMMARY:Quest Theatre Treks Fall Drama Classes
DESCRIPTION:Quest Theatre Treks Fall Drama Classes for Kids – Unleash Your Kid’s Creativity\nOur Drama Classes encourage students to collectively contribute to a devised theatre creation. Developmental drama games\, storytelling activities\, character development\, physicality\, and story making are explored to create an original play for performance and/or sharing of a work in progress by the end of the class session. Students are encouraged to bring\, borrow\, or make props and costumes throughout the process. A fun\, inclusive\, low stress class that celebrates the organic\, ridiculous\, and brilliant creative journey of young people. \nAges: 9-12\nDates: Thursdays from September 19th – November 28th\, 2024\n*No class Oct. 31st\nTime: 6:15 pm to 8:15 pm \nMore info/registration: https://www.questtheatre.org/drama-classes
URL:https://cspacemardaloop.com/event/quest-theatre-treks-fall-drama-classes/2024-09-19/
LOCATION:cSPACE Marda Loop\, 1721 29 Avenue Southwest\, Calgary\, AB\, T2T 6T7\, Canada
ATTACH;FMTTYPE=image/png:https://cspacemardaloop.com/wp-content/uploads/2024/07/4.png
END:VEVENT
BEGIN:VEVENT
DTSTART;VALUE=DATE:20240812
DTEND;VALUE=DATE:20240817
DTSTAMP:20260423T212442
CREATED:20240726T192214Z
LAST-MODIFIED:20240726T192214Z
UID:10002552-1723420800-1723852799@cspacemardaloop.com
SUMMARY:Quest Theatre Summer Camps for Kids: August 12-16
DESCRIPTION:Unlock Your Child’s Creativity: One-Week Theatre Camps with Quest Theatre\nKids can be shy or enthusiastic\, intellectual\, or physical\, imaginative\, or quiet – but they all have great stories to tell. Creating a show in one-week time is an exhilarating experience! Each class at camp is facilitated by two professional artists that love sharing their expertise in and passion for theatre making with young people. Quest Theatre camps support all levels of creative development and nurture the organic ridiculous and brilliant ideas of your child! \nMore info and registration here: https://www.questtheatre.org/summer-camps
URL:https://cspacemardaloop.com/event/quest-theatre-summer-camps-for-kids-august-12-16/
LOCATION:cSPACE Marda Loop\, 1721 29 Avenue Southwest\, Calgary\, AB\, T2T 6T7\, Canada
ATTACH;FMTTYPE=image/jpeg:https://cspacemardaloop.com/wp-content/uploads/2024/07/untitled-design-2.jpg
END:VEVENT
BEGIN:VEVENT
DTSTART;VALUE=DATE:20240805
DTEND;VALUE=DATE:20240810
DTSTAMP:20260423T212442
CREATED:20240726T192144Z
LAST-MODIFIED:20240726T192144Z
UID:10002551-1722816000-1723247999@cspacemardaloop.com
SUMMARY:Quest Theatre Summer Camps for Kids: August 5-9
DESCRIPTION:Unlock Your Child’s Creativity: One-Week Theatre Camps with Quest Theatre\nKids can be shy or enthusiastic\, intellectual\, or physical\, imaginative\, or quiet – but they all have great stories to tell. Creating a show in one-week time is an exhilarating experience! Each class at camp is facilitated by two professional artists that love sharing their expertise in and passion for theatre making with young people. Quest Theatre camps support all levels of creative development and nurture the organic ridiculous and brilliant ideas of your child! \nMore info and registration here: https://www.questtheatre.org/summer-camps
URL:https://cspacemardaloop.com/event/quest-theatre-summer-camps-for-kids-august-5-9/
LOCATION:cSPACE Marda Loop\, 1721 29 Avenue Southwest\, Calgary\, AB\, T2T 6T7\, Canada
ATTACH;FMTTYPE=image/jpeg:https://cspacemardaloop.com/wp-content/uploads/2024/07/untitled-design-2.jpg
END:VEVENT
BEGIN:VEVENT
DTSTART;VALUE=DATE:20240729
DTEND;VALUE=DATE:20240803
DTSTAMP:20260423T212442
CREATED:20240726T191616Z
LAST-MODIFIED:20240726T191727Z
UID:10002518-1722211200-1722643199@cspacemardaloop.com
SUMMARY:Quest Theatre Summer Camps for Kids: July 29-August 2
DESCRIPTION:Unlock Your Child’s Creativity: One-Week Theatre Camps with Quest Theatre\nKids can be shy or enthusiastic\, intellectual\, or physical\, imaginative\, or quiet – but they all have great stories to tell. Creating a show in one-week time is an exhilarating experience! Each class at camp is facilitated by two professional artists that love sharing their expertise in and passion for theatre making with young people. Quest Theatre camps support all levels of creative development and nurture the organic ridiculous and brilliant ideas of your child! \nMore info and registration here: https://www.questtheatre.org/summer-camps
URL:https://cspacemardaloop.com/event/quest-theatre-summer-camps-for-kids/
LOCATION:cSPACE Marda Loop\, 1721 29 Avenue Southwest\, Calgary\, AB\, T2T 6T7\, Canada
ATTACH;FMTTYPE=image/jpeg:https://cspacemardaloop.com/wp-content/uploads/2024/07/untitled-design-2.jpg
END:VEVENT
BEGIN:VEVENT
DTSTART;TZID=UTC:20230506T130000
DTEND;TZID=UTC:20230506T135000
DTSTAMP:20260423T212442
CREATED:20230502T193541Z
LAST-MODIFIED:20230502T194102Z
UID:10000004-1683378000-1683381000@cspacemardaloop.com
SUMMARY:Most Imaginary Worlds
DESCRIPTION:A play created by artists with disabilities\, inspired by stories of children with disabilities. \nCharlotte Bubble feels like the world just doesn’t make any sense to her\, “I feel like something is wrong\, like the world and me just don’t fit.”  Wishing she could imagine a whole new world made just for her\, she visits the Make Believers Maker Space where she discovers stories of hope\, gems of hilarity\, battles with equality\, and triumphs of the human spirit. Will Charlotte’s imagination be the key to holding space for herself\, articulating what she needs\, and inviting others into her world? \nCreated by the Point of View Ensemble \nScripted by Col Cseke with development support from Inside Out Theatre and Quest Theatre. \nThemes: Imagination\, inclusion\, accessibility and empathy.\n\nSuitable for K – 6\nRunning time: 50 min\n\nThu May 4th\, 2023 – 7:00 pm\nSat May 6th\, 2023 – 1:00 pm \nIf you’d like to organize and gather together 10+ attendees\, get in touch with Helena (helena@questtheatre.org ) and she can arrange for you to get the group/school rate.
URL:https://cspacemardaloop.com/event/most-imaginary-worlds/2023-05-06/
LOCATION:cSPACE Marda Loop\, 1721 29 Avenue Southwest\, Calgary\, AB\, T2T 6T7\, Canada
CATEGORIES:Studio Theatre
ATTACH;FMTTYPE=image/png:https://cspacemardaloop.com/wp-content/uploads/2023/05/most_imaginary_worlds_logo500x250px.png
END:VEVENT
BEGIN:VEVENT
DTSTART;TZID=UTC:20230504T190000
DTEND;TZID=UTC:20230504T205000
DTSTAMP:20260423T212442
CREATED:20230502T193541Z
LAST-MODIFIED:20230502T194102Z
UID:10000003-1683226800-1683233400@cspacemardaloop.com
SUMMARY:Most Imaginary Worlds
DESCRIPTION:A play created by artists with disabilities\, inspired by stories of children with disabilities. \nCharlotte Bubble feels like the world just doesn’t make any sense to her\, “I feel like something is wrong\, like the world and me just don’t fit.”  Wishing she could imagine a whole new world made just for her\, she visits the Make Believers Maker Space where she discovers stories of hope\, gems of hilarity\, battles with equality\, and triumphs of the human spirit. Will Charlotte’s imagination be the key to holding space for herself\, articulating what she needs\, and inviting others into her world? \nCreated by the Point of View Ensemble \nScripted by Col Cseke with development support from Inside Out Theatre and Quest Theatre. \nThemes: Imagination\, inclusion\, accessibility and empathy.\n\nSuitable for K – 6\nRunning time: 50 min\n\nThu May 4th\, 2023 – 7:00 pm\nSat May 6th\, 2023 – 1:00 pm \nIf you’d like to organize and gather together 10+ attendees\, get in touch with Helena (helena@questtheatre.org ) and she can arrange for you to get the group/school rate.
URL:https://cspacemardaloop.com/event/most-imaginary-worlds/2023-05-04/
LOCATION:cSPACE Marda Loop\, 1721 29 Avenue Southwest\, Calgary\, AB\, T2T 6T7\, Canada
CATEGORIES:Studio Theatre
ATTACH;FMTTYPE=image/png:https://cspacemardaloop.com/wp-content/uploads/2023/05/most_imaginary_worlds_logo500x250px.png
END:VEVENT
END:VCALENDAR