BEGIN:VCALENDAR
VERSION:2.0
PRODID:-//cSPACE Marda Loop - ECPv6.15.20//NONSGML v1.0//EN
CALSCALE:GREGORIAN
METHOD:PUBLISH
X-WR-CALNAME:cSPACE Marda Loop
X-ORIGINAL-URL:https://cspacemardaloop.com
X-WR-CALDESC:Events for cSPACE Marda Loop
REFRESH-INTERVAL;VALUE=DURATION:PT1H
X-Robots-Tag:noindex
X-PUBLISHED-TTL:PT1H
BEGIN:VTIMEZONE
TZID:America/Edmonton
BEGIN:DAYLIGHT
TZOFFSETFROM:-0700
TZOFFSETTO:-0600
TZNAME:MDT
DTSTART:20240310T090000
END:DAYLIGHT
BEGIN:STANDARD
TZOFFSETFROM:-0600
TZOFFSETTO:-0700
TZNAME:MST
DTSTART:20241103T080000
END:STANDARD
BEGIN:DAYLIGHT
TZOFFSETFROM:-0700
TZOFFSETTO:-0600
TZNAME:MDT
DTSTART:20250309T090000
END:DAYLIGHT
BEGIN:STANDARD
TZOFFSETFROM:-0600
TZOFFSETTO:-0700
TZNAME:MST
DTSTART:20251102T080000
END:STANDARD
BEGIN:DAYLIGHT
TZOFFSETFROM:-0700
TZOFFSETTO:-0600
TZNAME:MDT
DTSTART:20260308T090000
END:DAYLIGHT
BEGIN:STANDARD
TZOFFSETFROM:-0600
TZOFFSETTO:-0700
TZNAME:MST
DTSTART:20261101T080000
END:STANDARD
END:VTIMEZONE
BEGIN:VEVENT
DTSTART;TZID=America/Edmonton:20250510T200000
DTEND;TZID=America/Edmonton:20250510T220000
DTSTAMP:20260420T013424
CREATED:20250303T191517Z
LAST-MODIFIED:20250415T165105Z
UID:10004445-1746907200-1746914400@cspacemardaloop.com
SUMMARY:Juggle & Jive: An Evening of Mesmerizing Music
DESCRIPTION:Get ready to be amazed by incredible music and guest performances at “Juggle & Jive: An Evening of Mesmerizing Music”!\n\n\nWelcome to **Juggle & Jive: An Evening of Mesmerizing Music**! Join us on **Sat May 10\, 2025** at **8:00 PM** for a night filled with incredible music and entertainment. The event will take place at **cSPACE Marda Loop**\, a vibrant venue perfect for a night of fun. Get ready to be amazed by talented musicians and performers who will keep you entertained all evening long. Don’t miss out on this exciting event – grab your friends and come juggle and jive with us! \nGeneral Admission\, Mocktails and other non-alcoholic drinks available pre-show.
URL:https://cspacemardaloop.com/event/juggle-jive-an-evening-of-mesmerizing-music/
LOCATION:cSPACE Marda Loop\, 1721 29 Avenue Southwest\, Calgary\, AB\, T2T 6T7\, Canada
CATEGORIES:Studio Theatre
ATTACH;FMTTYPE=image/jpeg:https://cspacemardaloop.com/wp-content/uploads/2025/03/6a31cdabd8a4a3aa3080342006139237.jpg
END:VEVENT
END:VCALENDAR