BEGIN:VCALENDAR
VERSION:2.0
PRODID:-//cSPACE Marda Loop - ECPv6.15.20//NONSGML v1.0//EN
CALSCALE:GREGORIAN
METHOD:PUBLISH
X-WR-CALNAME:cSPACE Marda Loop
X-ORIGINAL-URL:https://cspacemardaloop.com
X-WR-CALDESC:Events for cSPACE Marda Loop
REFRESH-INTERVAL;VALUE=DURATION:PT1H
X-Robots-Tag:noindex
X-PUBLISHED-TTL:PT1H
BEGIN:VTIMEZONE
TZID:UTC
BEGIN:STANDARD
TZOFFSETFROM:+0000
TZOFFSETTO:+0000
TZNAME:UTC
DTSTART:20230101T000000
END:STANDARD
END:VTIMEZONE
BEGIN:VEVENT
DTSTART;VALUE=DATE:20250206
DTEND;VALUE=DATE:20250207
DTSTAMP:20260419T175140
CREATED:20250113T232831Z
LAST-MODIFIED:20250212T202251Z
UID:10004235-1738828800-1738861200@cspacemardaloop.com
SUMMARY:EXPOSURE Photography Festival at cSPACE Marda Loop
DESCRIPTION:EXPOSURE Photography Festival at cSPACE Marda Loop\ncSPACE Marda Loop is thrilled to partner once again with the Exposure Photography Festival to celebrate the vibrant photographic talent in Alberta and beyond. Our gallery spaces will host an exciting lineup of exhibitors\, including: \nLevel 1: “Alive\, She Cried” – Collaborative Live Music Photography Straight From The Pit\nLevel 2: “Figuring” – Alexa McKeown\nLevel 3: “Best of Alberta” – Professional Photographers of Canada\nLevel 4: “Exposing the Darkroom” – SAIT Darkroom Group\nCubby+Cupola: “Since I’ve Moved” – Ian Gregory \nThe Exposure Photography Festival is an annual celebration that brings together internationally renowned photographers\, alongside emerging and established local talent. Known for its inclusive and participatory spirit\, the festival serves as a creative hub where photographers\, curators\, art lovers\, and professionals converge to explore the art and craft of photography. \nWith over 900\,000+ visits in recent years\, the festival has become a cornerstone of Alberta’s thriving arts scene. Join us at cSPACE Marda Loop to experience the magic of this year’s festival\, connect with Alberta’s creative community\, and celebrate the power of photography. \n📅 Date: February 6-March 1\, 2025\n📍 Location: cSPACE Marda Loop\, 1721 29 Ave SW\, Calgary \nFor more information\, visit https://www.exposurephotofestival.com/
URL:https://cspacemardaloop.com/event/exposure-photography-festival-at-cspace-marda-loop/2025-02-06/2/
CATEGORIES:Gallery Level 1,Gallery Level 2,Gallery Level 3,Gallery Level 4,Hallway Galleries
ATTACH;FMTTYPE=image/jpeg:https://cspacemardaloop.com/wp-content/uploads/2025/01/exposure-at-cspace.jpg
END:VEVENT
BEGIN:VEVENT
DTSTART;VALUE=DATE:20250206
DTEND;VALUE=DATE:20250302
DTSTAMP:20260419T175140
CREATED:20250113T232831Z
LAST-MODIFIED:20250212T202251Z
UID:10003045-1738800000-1740873599@cspacemardaloop.com
SUMMARY:EXPOSURE Photography Festival at cSPACE Marda Loop
DESCRIPTION:EXPOSURE Photography Festival at cSPACE Marda Loop\ncSPACE Marda Loop is thrilled to partner once again with the Exposure Photography Festival to celebrate the vibrant photographic talent in Alberta and beyond. Our gallery spaces will host an exciting lineup of exhibitors\, including: \nLevel 1: “Alive\, She Cried” – Collaborative Live Music Photography Straight From The Pit\nLevel 2: “Figuring” – Alexa McKeown\nLevel 3: “Best of Alberta” – Professional Photographers of Canada\nLevel 4: “Exposing the Darkroom” – SAIT Darkroom Group\nCubby+Cupola: “Since I’ve Moved” – Ian Gregory \nThe Exposure Photography Festival is an annual celebration that brings together internationally renowned photographers\, alongside emerging and established local talent. Known for its inclusive and participatory spirit\, the festival serves as a creative hub where photographers\, curators\, art lovers\, and professionals converge to explore the art and craft of photography. \nWith over 900\,000+ visits in recent years\, the festival has become a cornerstone of Alberta’s thriving arts scene. Join us at cSPACE Marda Loop to experience the magic of this year’s festival\, connect with Alberta’s creative community\, and celebrate the power of photography. \n📅 Date: February 6-March 1\, 2025\n📍 Location: cSPACE Marda Loop\, 1721 29 Ave SW\, Calgary \nFor more information\, visit https://www.exposurephotofestival.com/
URL:https://cspacemardaloop.com/event/exposure-photography-festival-at-cspace-marda-loop/2025-02-06/1/
CATEGORIES:Gallery Level 1,Gallery Level 2,Gallery Level 3,Gallery Level 4,Hallway Galleries
ATTACH;FMTTYPE=image/jpeg:https://cspacemardaloop.com/wp-content/uploads/2025/01/exposure-at-cspace.jpg
END:VEVENT
BEGIN:VEVENT
DTSTART;VALUE=DATE:20250204
DTEND;VALUE=DATE:20250302
DTSTAMP:20260419T175140
CREATED:20250201T193018Z
LAST-MODIFIED:20250206T195505Z
UID:10003353-1738627200-1740873599@cspacemardaloop.com
SUMMARY:Exposure Photography Festival: Alive! She Cried (curated)
DESCRIPTION:Level 1 Hallway Gallery\nFebruary 6 – March 1 \nLive performance photography plays a vital role in the thriving rock and roll music scene\, serving not just as documentation but as an art form unto itself.\nCapturing the fervor\, emotion and charisma of a live performance requires a photographer to have spontaneous artistry\, decisiveness\, and the ability to stay tuned to the music and audience in order to get the perfect picture. Done well\, a live performance photo can become a time capsule\, taking you right to the edge of a stage\, where the pulse of the lights\, the energy of a crowd and movement of the music collide into an iconic still frame. \nAs part of the Exposure Festival\, a collection of Calgary-based photographers present “Alive\, She Cried”\, a celebration of live music\, and the photography that gives the performance life after the stage lights have gone down. Curated by Cary Schatz and Kirsten Aubrey\, the show delivers raw images from the pit.
URL:https://cspacemardaloop.com/event/exposure-photography-festival-alive-she-cried-curated/
LOCATION:cSPACE Marda Loop\, 1721 29 Avenue Southwest\, Calgary\, AB\, T2T 6T7\, Canada
CATEGORIES:Gallery Level 1
ATTACH;FMTTYPE=image/jpeg:https://cspacemardaloop.com/wp-content/uploads/2025/02/alive-she-cried-2.jpg
END:VEVENT
BEGIN:VEVENT
DTSTART;VALUE=DATE:20250203
DTEND;VALUE=DATE:20250302
DTSTAMP:20260419T175140
CREATED:20250121T175211Z
LAST-MODIFIED:20250121T223948Z
UID:10003057-1738540800-1740873599@cspacemardaloop.com
SUMMARY:Exposure Photography Festival: Ian Gregory\, Since I've Moved
DESCRIPTION:Cubby Gallery (Level 2)\n+ Cupola Gallery (Level 4)\nMonth of February \nArtist Statement\nA series in-progress\, since immigrating to Canada in 2016. This work documents my unfolding relationship with the vast emptiness of the prairies. While I was instantly drawn to this province’s postcard mountainscapes\, I quickly realized that driving alone along long stretches of flatland highway stirred deeper feelings in me. These miles have become the road home. \n— \nAbout the Artist\nIan Martin Gregory grew up in Chelmsford\, England and moved to Canada in 2016. He is a self-taught musician\, letterpress printer\, and photographer. He is also a cSPACE tenant. Find him at Feast Studio on the second floor.
URL:https://cspacemardaloop.com/event/exposure-photography-festival-ian-gregory-since-ive-moved/
LOCATION:cSPACE Marda Loop\, 1721 29 Avenue Southwest\, Calgary\, AB\, T2T 6T7\, Canada
CATEGORIES:Level 2 Cubby Gallery,Level 4 Cupola Gallery
ATTACH;FMTTYPE=image/jpeg:https://cspacemardaloop.com/wp-content/uploads/2025/01/since-ive-moved-scaled.jpg
END:VEVENT
BEGIN:VEVENT
DTSTART;TZID=UTC:20240129T080000
DTEND;TZID=UTC:20240229T200000
DTSTAMP:20260419T175140
CREATED:20240129T224658Z
LAST-MODIFIED:20240201T221808Z
UID:10000336-1706515200-1709236800@cspacemardaloop.com
SUMMARY:Exposure Photo Fest: CROSSING BOUNDARIES\, Dipankar Mukherjee
DESCRIPTION:The Exposure Photo Fest runs for the month of February in galleries and non-traditional art spaces across Calgary. cSPACE is proud to participate with galleries on all four levels of cSPACE Marda Loop.  \nCROSSING BOUNDARIES – CAPTURING THE HUMAN CONDITION \nPhotographer: Dipankar Mukherjee\nHallway Gallery Level 4\ncSPACE Marda Loop\nFor the month of February \nThis exhibition shares documentary photographs of humans taken in different settings to give us a further understanding of our race. What we do with this realization is another matter. What boundaries do we cross? What boundaries do we attempt to cross? Why do we even bother? Does this cause any action for change? These are the questions the photographer will want the viewers to get involved with. \nThe photographs are not meant to be “art.” The human condition is reflected as it is. I strongly believe that the places where the photographs were taken have relevance to the context. Necessity of Hope at the foothills of Mt. Kilimanjaro\, a Cuban face\, a sculpture of a woman in chains in Zanzibar\, Keepers of the Gorillas in Rwanda\, and others are very relevant to their locations. They reflect the uniqueness of the human condition as the location dictates\, but what is expressed in the faces is universal.
URL:https://cspacemardaloop.com/event/exposure-photo-fest-crossing-boundaries-dipankar-mukherjee/
LOCATION:cSPACE Marda Loop\, 1721 29 Avenue Southwest\, Calgary\, AB\, T2T 6T7\, Canada
CATEGORIES:Gallery Level 4
ATTACH;FMTTYPE=image/jpeg:https://cspacemardaloop.com/wp-content/uploads/2024/01/necessityofhope-foothillsofmt.kilimanjarotanzania.jpeg
END:VEVENT
BEGIN:VEVENT
DTSTART;TZID=UTC:20240129T080000
DTEND;TZID=UTC:20240229T200000
DTSTAMP:20260419T175140
CREATED:20240129T224329Z
LAST-MODIFIED:20240205T192104Z
UID:10000335-1706515200-1709236800@cspacemardaloop.com
SUMMARY:Exposure Photo Fest: SHADOWS PASSING\, Sean Drysdale
DESCRIPTION:The Exposure Photo Fest runs for the month of February in galleries and non-traditional art spaces across Calgary. cSPACE is proud to participate with galleries on all four levels of cSPACE Marda Loop.  \nSHADOWS PASSING \nPhotographers: Sean Drysdale\nHallway Gallery Level 3\ncSPACE Marda Loop\nFor the month of February \nDrysdale returns to cSPACE in 2024 with a new installation\, in which he explores our apparent desire to be both connected to others and apart from them.  As in previous bodies of work\, the images are readily accessible\, and potentially stimulate the viewer to pursue multiple avenues of thought.
URL:https://cspacemardaloop.com/event/exposure-photo-fest-shadows-passing-sean-drysdale/
LOCATION:cSPACE Marda Loop\, 1721 29 Avenue Southwest\, Calgary\, AB\, T2T 6T7\, Canada
CATEGORIES:Gallery Level 3
ATTACH;FMTTYPE=image/jpeg:https://cspacemardaloop.com/wp-content/uploads/2024/01/seanpdrysdaleexposurefestivalwebpageimage-e1707160851581.jpeg
END:VEVENT
BEGIN:VEVENT
DTSTART;TZID=UTC:20240129T080000
DTEND;TZID=UTC:20240229T200000
DTSTAMP:20260419T175140
CREATED:20240129T223636Z
LAST-MODIFIED:20240205T192212Z
UID:10000334-1706515200-1709236800@cspacemardaloop.com
SUMMARY:Exposure Photo Fest: PORTRAITS\, Chopped Liver
DESCRIPTION:The Exposure Photo Fest runs for the month of February in galleries and non-traditional art spaces across Calgary. cSPACE is proud to participate with galleries on all four levels of cSPACE Marda Loop.  \nCHOPPED LIVER – PORTRAITS \nPhotographers: Cary Schatz\, JC Yepes and David Marion\nHallway Gallery Level 1\ncSPACE Marda Loop\nFor the month of February \nChopped Liver is a collective based in Calgary\, Alberta showcasing local artists. The collective was formed by three people\, Cary Schatz\, JC Yepes and David Marion. Although artistically rooted in Street Photography and Documentary\, Chopped Liver is focused on highlighting all local artists. As the name implies\, the purpose was to give attention to artists not typically recognized. \nThis exhibition is titled Chopped Liver – Portraits\, all presenters will be showing portraits in photography and other mediums.
URL:https://cspacemardaloop.com/event/exposure-photo-fest-portraits-chopped-liver/
LOCATION:cSPACE Marda Loop\, 1721 29 Avenue Southwest\, Calgary\, AB\, T2T 6T7\, Canada
CATEGORIES:Gallery Level 1
ATTACH;FMTTYPE=image/jpeg:https://cspacemardaloop.com/wp-content/uploads/2024/01/chopped-liver-exposure_20240012-e1707160923777.jpeg
END:VEVENT
BEGIN:VEVENT
DTSTART;TZID=UTC:20240129T080000
DTEND;TZID=UTC:20240229T200000
DTSTAMP:20260419T175141
CREATED:20240129T223237Z
LAST-MODIFIED:20240205T191948Z
UID:10000333-1706515200-1709236800@cspacemardaloop.com
SUMMARY:Exposure Photo Fest: FOOD FOUND FORGOTTEN\, Shallon Cunningham
DESCRIPTION:The Exposure Photo Fest runs for the month of February in galleries and non-traditional art spaces across Calgary. cSPACE is proud to participate with galleries on all four levels of cSPACE Marda Loop.  \nFOOD FOUND FORGOTTEN \nPhotographer: Shallon Cunningham\nHallway Gallery Level 2\ncSPACE Marda Loop\nFor the month of February \nA photography exhibit by Food Found Forgotten\, featuring mothers and grandmothers celebrating family heritage and recipes. \n\n“The power these women have had on our lives is undeniable. None of us would be where we are without them. Their strength\, their determination\, their love and support\, have made us who we are today…” – Shallon Cunningham\, Photographer and Founder\, Food Found Forgotten. \n\nFood Found Forgotten’s purpose is to capture these moments and stories\, before they are forgotten.
URL:https://cspacemardaloop.com/event/exposure-photo-fest-food-found-forgotten-shallon-cunningham/
LOCATION:cSPACE Marda Loop\, 1721 29 Avenue Southwest\, Calgary\, AB\, T2T 6T7\, Canada
CATEGORIES:Gallery Level 2
ATTACH;FMTTYPE=image/jpeg:https://cspacemardaloop.com/wp-content/uploads/2024/01/found-food-e1707160701864.jpg
END:VEVENT
BEGIN:VEVENT
DTSTART;TZID=UTC:20240129T080000
DTEND;TZID=UTC:20240229T200000
DTSTAMP:20260419T175141
CREATED:20240129T222809Z
LAST-MODIFIED:20240205T191713Z
UID:10000332-1706515200-1709236800@cspacemardaloop.com
SUMMARY:Exposure Photo Fest: SNAPSHOTS\, Leigh Reed
DESCRIPTION:The Exposure Photo Fest runs for the month of February in galleries and non-traditional art spaces across Calgary. cSPACE is proud to participate with galleries on all four levels of cSPACE Marda Loop.  \nSNAPSHOTS \nPhotographer: Leigh Reed\nCubby Gallery (cSPACE Marda Loop Level 2)\nFor the month of February \nSometimes an unplanned adventure with an open road with no destination in mind can lead to Snapshots of unexpected creativity.
URL:https://cspacemardaloop.com/event/exposure-photo-fest-snapshots-by-leigh-reed/
LOCATION:cSPACE Marda Loop\, 1721 29 Avenue Southwest\, Calgary\, AB\, T2T 6T7\, Canada
CATEGORIES:Level 2 Cubby Gallery
ATTACH;FMTTYPE=image/jpeg:https://cspacemardaloop.com/wp-content/uploads/2024/01/snapshots-e1707160557900.jpeg
END:VEVENT
BEGIN:VEVENT
DTSTART;TZID=UTC:20240129T080000
DTEND;TZID=UTC:20240229T200000
DTSTAMP:20260419T175141
CREATED:20231030T154126Z
LAST-MODIFIED:20240201T222241Z
UID:10000211-1706515200-1709236800@cspacemardaloop.com
SUMMARY:Exposure Photo Fest: INTO THE LIGHT OF AFRICA: An Exploration of Connection
DESCRIPTION:The Exposure Photo Fest runs for the month of February in galleries and non-traditional art spaces across Calgary. cSPACE is proud to participate with galleries on all four levels of cSPACE Marda Loop.  \nINTO THE LIGHT OF AFRICA: An Exploration of Connection\nPhotographer: Kristin Duff\nCupola Gallery (cSPACE Marda Loop Level 4)\nFor the month of February \nThrough my lens\, I seek to transport the viewer into the breathtaking realms of Africa’s iconic savannahs and expansive desert.  From the majestic African elephant with its sheer size and gentle demeanour\, to the elusive leopard\, epitomizing grace and strength\, each creature tells its own story. -Kristin Duff \nFor more on the exhibition and the artist\, read our blog post here.
URL:https://cspacemardaloop.com/event/into-the-light-of-africa/
LOCATION:cSPACE Marda Loop\, 1721 29 Avenue Southwest\, Calgary\, AB\, T2T 6T7\, Canada
CATEGORIES:Level 4 Cupola Gallery
ATTACH;FMTTYPE=image/jpeg:https://cspacemardaloop.com/wp-content/uploads/2023/10/magic-kingdom-copy.jpg
END:VEVENT
END:VCALENDAR