BEGIN:VCALENDAR
VERSION:2.0
PRODID:-//cSPACE Marda Loop - ECPv6.15.20//NONSGML v1.0//EN
CALSCALE:GREGORIAN
METHOD:PUBLISH
X-WR-CALNAME:cSPACE Marda Loop
X-ORIGINAL-URL:https://cspacemardaloop.com
X-WR-CALDESC:Events for cSPACE Marda Loop
REFRESH-INTERVAL;VALUE=DURATION:PT1H
X-Robots-Tag:noindex
X-PUBLISHED-TTL:PT1H
BEGIN:VTIMEZONE
TZID:America/Edmonton
BEGIN:DAYLIGHT
TZOFFSETFROM:-0700
TZOFFSETTO:-0600
TZNAME:MDT
DTSTART:20220313T090000
END:DAYLIGHT
BEGIN:STANDARD
TZOFFSETFROM:-0600
TZOFFSETTO:-0700
TZNAME:MST
DTSTART:20221106T080000
END:STANDARD
BEGIN:DAYLIGHT
TZOFFSETFROM:-0700
TZOFFSETTO:-0600
TZNAME:MDT
DTSTART:20230312T090000
END:DAYLIGHT
BEGIN:STANDARD
TZOFFSETFROM:-0600
TZOFFSETTO:-0700
TZNAME:MST
DTSTART:20231105T080000
END:STANDARD
BEGIN:DAYLIGHT
TZOFFSETFROM:-0700
TZOFFSETTO:-0600
TZNAME:MDT
DTSTART:20240310T090000
END:DAYLIGHT
BEGIN:STANDARD
TZOFFSETFROM:-0600
TZOFFSETTO:-0700
TZNAME:MST
DTSTART:20241103T080000
END:STANDARD
BEGIN:DAYLIGHT
TZOFFSETFROM:-0700
TZOFFSETTO:-0600
TZNAME:MDT
DTSTART:20250309T090000
END:DAYLIGHT
BEGIN:STANDARD
TZOFFSETFROM:-0600
TZOFFSETTO:-0700
TZNAME:MST
DTSTART:20251102T080000
END:STANDARD
END:VTIMEZONE
BEGIN:VTIMEZONE
TZID:UTC
BEGIN:STANDARD
TZOFFSETFROM:+0000
TZOFFSETTO:+0000
TZNAME:UTC
DTSTART:20230101T000000
END:STANDARD
END:VTIMEZONE
BEGIN:VEVENT
DTSTART;TZID=America/Edmonton:20240625T160000
DTEND;TZID=America/Edmonton:20240625T183000
DTSTAMP:20260420T154134
CREATED:20240617T163145Z
LAST-MODIFIED:20240617T163728Z
UID:10002496-1719331200-1719340200@cspacemardaloop.com
SUMMARY:Report to Community 2024
DESCRIPTION:Studio Theatre at cSPACE Marda Loop\n1721 – 29 Ave. SW \nPresentation 4:00-5:30 p.m.\nReception 5:30 – 6:30 p.m.\n \nCalgary Arts Development’s Annual Report to Community\nJoin us for a report of our various activities in 2023 presented by Patti Pon\, President & CEO. At this event we will also officially thank poet laureate Wakefield Brewster for his term as poet laureate (2022-2024) and welcome new poet laureate Shone Thistle (2024-2026). Stay for the reception to mingle with Calgary Arts Development staff members and others from the arts community.
URL:https://cspacemardaloop.com/event/report-to-community-2024/
LOCATION:cSPACE Marda Loop-  Studio Theatre\, 1721 29th Ave. SW\, Calgary\, AB\, T2T 6T7\, Canada
CATEGORIES:Studio Theatre
ATTACH;FMTTYPE=image/jpeg:https://cspacemardaloop.com/wp-content/uploads/2024/06/9e2dd45e0f19a501569356e8495c80d3.jpg
END:VEVENT
BEGIN:VEVENT
DTSTART;TZID=UTC:20240511T143000
DTEND;TZID=UTC:20240511T163000
DTSTAMP:20260420T154134
CREATED:20240506T200147Z
LAST-MODIFIED:20240506T200230Z
UID:10001673-1715437800-1715445000@cspacemardaloop.com
SUMMARY:Women! Life! Freedom!
DESCRIPTION:cSPACE Marda Loop\nRGO Treehouse South \nWomen! Life! Freedom! is an empowering intergenerational therapeutic art event specially curated for the Calgary Persian Community. Join Tara Vahab and Sepidar Yeganeh Farid for a session filled with creativity\, healing\, and connection as we come together to reflect on the past 1.5 years events in Iran. We are hopping to bring some peace and joy by celebrating womanhood\, life\, and freedom through art\, songwriting\, karaeko\,dance\, discussions and short creative activities \nThis in-person event is a unique opportunity to bond with fellow community members and express yourself through various art forms. Let’s create\, heal\, and grow together!
URL:https://cspacemardaloop.com/event/women-life-freedom/
LOCATION:cSPACE Marda Loop – RGO Treehouse\, Suite #475
CATEGORIES:RGO Treehouse South
ATTACH;FMTTYPE=image/jpeg:https://cspacemardaloop.com/wp-content/uploads/2024/05/1_20240326_124443_0000.jpg
END:VEVENT
BEGIN:VEVENT
DTSTART;TZID=America/Edmonton:20230613T163000
DTEND;TZID=America/Edmonton:20230613T190000
DTSTAMP:20260420T154134
CREATED:20230511T210212Z
LAST-MODIFIED:20230606T172519Z
UID:10000015-1686673800-1686682800@cspacemardaloop.com
SUMMARY:CADA Report to Community
DESCRIPTION:Calgary Arts Development’s Annual Report to Community\n\n\nStudio Theatre at cSPACE Marda Loop (formerly known as cSPACE King Edward)\n1721 – 29 Ave. SW \n\nPresentation 4:30-5:45 p.m.\nReception 5:45 – 7:00 p.m.\n\nASL Interpretation will be available for the presentation  \nJoin us for a report of our various activities in 2022 with updates from Patti Pon\, President & CEO; Melissa Tuplin\, Director\, Community Investment & Impact; and Sable Sweetgrass\, Director\, Reconciliation & Engagement. Stay for the reception to mingle with Calgary Arts Development staff members and others from the arts community.
URL:https://cspacemardaloop.com/event/report-to-community/
LOCATION:cSPACE Marda Loop-  Studio Theatre\, 1721 29th Ave. SW\, Calgary\, AB\, T2T 6T7\, Canada
CATEGORIES:Studio Theatre
ATTACH;FMTTYPE=image/jpeg:https://cspacemardaloop.com/wp-content/uploads/2023/05/38df947d25cf16c64db4dd7976f4dfbd-1.jpg
END:VEVENT
END:VCALENDAR