BEGIN:VCALENDAR
VERSION:2.0
PRODID:-//cSPACE Marda Loop - ECPv6.15.20//NONSGML v1.0//EN
CALSCALE:GREGORIAN
METHOD:PUBLISH
X-ORIGINAL-URL:https://cspacemardaloop.com
X-WR-CALDESC:Events for cSPACE Marda Loop
REFRESH-INTERVAL;VALUE=DURATION:PT1H
X-Robots-Tag:noindex
X-PUBLISHED-TTL:PT1H
BEGIN:VTIMEZONE
TZID:America/Edmonton
BEGIN:DAYLIGHT
TZOFFSETFROM:-0700
TZOFFSETTO:-0600
TZNAME:MDT
DTSTART:20240310T090000
END:DAYLIGHT
BEGIN:STANDARD
TZOFFSETFROM:-0600
TZOFFSETTO:-0700
TZNAME:MST
DTSTART:20241103T080000
END:STANDARD
BEGIN:DAYLIGHT
TZOFFSETFROM:-0700
TZOFFSETTO:-0600
TZNAME:MDT
DTSTART:20250309T090000
END:DAYLIGHT
BEGIN:STANDARD
TZOFFSETFROM:-0600
TZOFFSETTO:-0700
TZNAME:MST
DTSTART:20251102T080000
END:STANDARD
BEGIN:DAYLIGHT
TZOFFSETFROM:-0700
TZOFFSETTO:-0600
TZNAME:MDT
DTSTART:20260308T090000
END:DAYLIGHT
BEGIN:STANDARD
TZOFFSETFROM:-0600
TZOFFSETTO:-0700
TZNAME:MST
DTSTART:20261101T080000
END:STANDARD
END:VTIMEZONE
BEGIN:VEVENT
DTSTART;TZID=America/Edmonton:20250504T173000
DTEND;TZID=America/Edmonton:20250504T200000
DTSTAMP:20260420T074800
CREATED:20250415T172556Z
LAST-MODIFIED:20250415T173956Z
UID:10004513-1746379800-1746388800@cspacemardaloop.com
SUMMARY:Fireside Chat with Mayor Gondek: Voices of Grassroots Leaders
DESCRIPTION:Fireside Chat with Mayor Gondek: Voices of Grassroots Leaders\nThis chat will focus on exploring the challenges and opportunities facing Calgary’s diverse communities\, and how grassroots leadership can help inform policies.\n\nDate: Sunday\, May 4\, 2025\n\nTime: 5:30 PM – 8:00 PM \nLocation: cSPACE Marda Loop – #125\, 1721 29 Ave SW\, Calgary \nRegistration is mandatory \n\n\n\nJoin us for a timely and engaging evening as we welcome Mayor Jyoti Gondek for an intimate conversation with Calgary’s grassroots leaders and community changemakers. \nThis dialogue will spotlight the voices and lived experiences of local leaders who are shaping the city through community action\, advocacy\, and innovation. \nTogether\, we’ll explore the challenges and opportunities facing Calgary’s diverse communities\, and how grassroots leadership can help inform inclusive policy\, civic growth\, and lasting change. \nDon’t miss this opportunity to connect\, be heard\, and help shape the future of our city \n\n\nFor more details: info@calgaryafrican.ca | 📞 587-328-7040 \nEventbrite: https://www.eventbrite.com/e/fireside-chat-with-mayor-gondek-voices-of-grassroots-leaders-tickets-1323274302059?aff=ebdssbdestsearch&keep_tld=1
URL:https://cspacemardaloop.com/event/fireside-chat-with-mayor-gondek-voices-of-grassroots-leaders/
LOCATION:cSPACE Marda Loop\, 1721 29 Avenue Southwest\, Calgary\, AB\, T2T 6T7\, Canada
CATEGORIES:RGO Treehouse Full
ATTACH;FMTTYPE=image/jpeg:https://cspacemardaloop.com/wp-content/uploads/2025/04/working-4.jpg
END:VEVENT
END:VCALENDAR