BEGIN:VCALENDAR
VERSION:2.0
PRODID:-//cSPACE Marda Loop - ECPv6.15.20//NONSGML v1.0//EN
CALSCALE:GREGORIAN
METHOD:PUBLISH
X-ORIGINAL-URL:https://cspacemardaloop.com
X-WR-CALDESC:Events for cSPACE Marda Loop
REFRESH-INTERVAL;VALUE=DURATION:PT1H
X-Robots-Tag:noindex
X-PUBLISHED-TTL:PT1H
BEGIN:VTIMEZONE
TZID:America/Edmonton
BEGIN:DAYLIGHT
TZOFFSETFROM:-0700
TZOFFSETTO:-0600
TZNAME:MDT
DTSTART:20220313T090000
END:DAYLIGHT
BEGIN:STANDARD
TZOFFSETFROM:-0600
TZOFFSETTO:-0700
TZNAME:MST
DTSTART:20221106T080000
END:STANDARD
BEGIN:DAYLIGHT
TZOFFSETFROM:-0700
TZOFFSETTO:-0600
TZNAME:MDT
DTSTART:20230312T090000
END:DAYLIGHT
BEGIN:STANDARD
TZOFFSETFROM:-0600
TZOFFSETTO:-0700
TZNAME:MST
DTSTART:20231105T080000
END:STANDARD
BEGIN:DAYLIGHT
TZOFFSETFROM:-0700
TZOFFSETTO:-0600
TZNAME:MDT
DTSTART:20240310T090000
END:DAYLIGHT
BEGIN:STANDARD
TZOFFSETFROM:-0600
TZOFFSETTO:-0700
TZNAME:MST
DTSTART:20241103T080000
END:STANDARD
BEGIN:DAYLIGHT
TZOFFSETFROM:-0700
TZOFFSETTO:-0600
TZNAME:MDT
DTSTART:20250309T090000
END:DAYLIGHT
BEGIN:STANDARD
TZOFFSETFROM:-0600
TZOFFSETTO:-0700
TZNAME:MST
DTSTART:20251102T080000
END:STANDARD
END:VTIMEZONE
BEGIN:VTIMEZONE
TZID:UTC
BEGIN:STANDARD
TZOFFSETFROM:+0000
TZOFFSETTO:+0000
TZNAME:UTC
DTSTART:20230101T000000
END:STANDARD
END:VTIMEZONE
BEGIN:VEVENT
DTSTART;TZID=America/Edmonton:20240921T140000
DTEND;TZID=America/Edmonton:20240921T160000
DTSTAMP:20260423T231636
CREATED:20240911T221803Z
LAST-MODIFIED:20240911T221803Z
UID:10002895-1726927200-1726934400@cspacemardaloop.com
SUMMARY:Reception for Coming Up Next
DESCRIPTION:Everyone is invited to this free reception for Coming Up Next\n\n\nJoin Alberta Craft and the artists in attendance for the Calgary reception of Coming Up Next. \nCelebrating the creativity\, innovation and skill of emerging\, Canadian Craft artists\, Coming Up Next is an exhibition of works selected from a diverse variety of approaches\, mediums\, and regions. Coming Up Next 2024 is an exciting collection of works in Fibre\, Ceramics\, Mixed Media\, Fish Leather\, and Metal\, made by artists from Ontario\, British Columbia\, the NWT and of course\, Alberta. \n \nReception: Saturday\, September 21\, 2024 | 2 -4pm \nAlberta Craft Calgary Gallery \ncSPACE – Marda Loop\, 2nd floor\, 1729 – 29 Avenue SW \nParking lot and accessible entrance is off 29 Avenue. Street parking is free around the building. \n \nExhibition September 14 – November 2\, 2024
URL:https://cspacemardaloop.com/event/reception-for-coming-up-next-2/
ATTACH;FMTTYPE=image/jpeg:https://cspacemardaloop.com/wp-content/uploads/2024/09/5096f8f4b433bd40cddb1cb1bd3e9ab8-1.jpg
END:VEVENT
BEGIN:VEVENT
DTSTART;VALUE=DATE:20240914
DTEND;VALUE=DATE:20241103
DTSTAMP:20260423T231636
CREATED:20240911T222728Z
LAST-MODIFIED:20240911T222728Z
UID:10002896-1726272000-1730591999@cspacemardaloop.com
SUMMARY:Alberta Craft Gallery Presents: Coming Up Next
DESCRIPTION:Exhibition September 14 – November 2\, 2024\nAlberta Craft Gallery and Shop\nOn Level 2 of cSPACE Marda Loop \nCelebrating the creativity\, innovation and skill of emerging\, Canadian Craft artists\, Coming Up Next is an exhibition of works selected from a diverse variety of approaches\, mediums\, and regions. Coming Up Next 2024 is an exciting collection of works in Fibre\, Ceramics\, Mixed Media\, Fish Leather\, and Metal\, made by artists from Ontario\, British Columbia\, the NWT and of course\, Alberta. \n 
URL:https://cspacemardaloop.com/event/alberta-craft-gallery-presents-coming-up-next/
CATEGORIES:Alberta Craft Gallery Level 2
ATTACH;FMTTYPE=image/jpeg:https://cspacemardaloop.com/wp-content/uploads/2024/09/5096f8f4b433bd40cddb1cb1bd3e9ab8.jpg
END:VEVENT
BEGIN:VEVENT
DTSTART;TZID=UTC:20240706T080000
DTEND;TZID=UTC:20240831T170000
DTSTAMP:20260423T231636
CREATED:20240704T205138Z
LAST-MODIFIED:20240704T205225Z
UID:10002502-1720252800-1725123600@cspacemardaloop.com
SUMMARY:Minutiae\, an Exhibition of Miniature Artworks
DESCRIPTION:cSPACE Marda Loop\nAlberta Craft Council\nUntil August 31 \nMinutiae is a fascinating display of miniature artworks created by 53 artists across Canada. These tiny works are meant to be observed up close and personal\, exploring the intricate details and thoughtfully crafted designs. The exhibition includes diverse works\, such as aspic salad brooches\, miniature pottery studios\, and silver candlesticks designed for birthday candles. Each piece showcases the artist’s attention to detail and ability to create in the smallest forms. What does minutiae mean to you? Come and explore this unique exhibition and discover the magnitude in the minutest of details. \nSee Alberta Craft Council for current hours: https://www.albertacraft.ab.ca/calgary-gallery-exhibitions/minutiae-yyc
URL:https://cspacemardaloop.com/event/minutiaie-an-exhibition-of-miniature-artworks/
LOCATION:Alberta Craft Gallery at cSPACE – Marda Loop\, 4th floor\, 1721 29 Avenue Southwest\, Calgary\, AB\, T2T 6T7\, Canada
CATEGORIES:Alberta Craft Gallery Level 2
ATTACH;FMTTYPE=image/jpeg:https://cspacemardaloop.com/wp-content/uploads/2024/07/minutiaeyycwebcarousel.jpg
END:VEVENT
BEGIN:VEVENT
DTSTART;TZID=America/Edmonton:20231125T180000
DTEND;TZID=America/Edmonton:20231125T220000
DTSTAMP:20260423T231636
CREATED:20231115T212843Z
LAST-MODIFIED:20231115T214503Z
UID:10000226-1700935200-1700949600@cspacemardaloop.com
SUMMARY:Let it Snow!
DESCRIPTION:We invite you to join us at our 5th annual fundraising shopping party. \nHello Calgary! We invite you to join us at our 5th annual fundraising shopping party on Saturday\, November 25\, from 6 – 10pm. Let’s toast the season in great company while supporting the work of Alberta Artists. \nLive music by Erin Ross\, cash bar\, appetizers\, raffles\, and fabulous door prizes will accompany an incredible holiday shopping party with discounts from 20% all the way up to 30% off regular prices! \nEarly bird ticket purchases before midnight Wednesday\, November 8 will be automatically entered to win a $100 Alberta Craft Council gift certificate! \nProceeds from this festive evening support Alberta Craft’s programming and member services. Buy your tickets today! \nTickets: Alberta Craft Members $20 | General Admission $30 \nTickets can also be purchased in person at Alberta Craft Gallery – Calgary (cSPACE – Marda Loop 1721 – 29 Avenue SW) or by phone at 587-391-0129 during gallery hours – Wednesday – Friday: 11am-5pm and Saturday: 10am – 5pm. \nwww.albertacraft.ab.ca \nTickets for this fundraising event are non-refundable.
URL:https://cspacemardaloop.com/event/let-it-snow/
CATEGORIES:Alberta Craft Gallery Level 2
ATTACH;FMTTYPE=image/jpeg:https://cspacemardaloop.com/wp-content/uploads/2023/11/d75790d5297c8efccb7584ce6fd5a559.jpg
END:VEVENT
BEGIN:VEVENT
DTSTART;TZID=America/Edmonton:20231021T130000
DTEND;TZID=America/Edmonton:20231021T153000
DTSTAMP:20260423T231636
CREATED:20230901T202033Z
LAST-MODIFIED:20230901T202033Z
UID:10000172-1697893200-1697902200@cspacemardaloop.com
SUMMARY:Making a Coil Pot
DESCRIPTION:Discover your artistic self through the tactile experience of coil building ceramics in this 2 day workshop. Join the Alberta Craft Gallery-Calgary and artist Darlene Swan from 10am-12:30pm on Saturday\, October 7 & again on Saturday October 21 as we explore hand-building with coils\, and glazing & surface decoration. \nDay 1\, Saturday\, October 7 – Learn about shaping and molding ceramic forms through the technique of coil building. Finished pieces will be allowed to dry and be bisque fired for you in preparation for Day 2. \nDay 2\, Saturday October 21 – Explore glazing and surface decoration and prepare your pot for the 2nd firing. The pieces will be available for pick-up 2 weeks later after a 2nd firing.
URL:https://cspacemardaloop.com/event/making-a-coil-pot/2023-10-21/
LOCATION:cSPACE Marda Loop – RGO Treehouse\, Suite #475
CATEGORIES:RGO Treehouse South
ATTACH;FMTTYPE=image/jpeg:https://cspacemardaloop.com/wp-content/uploads/2023/09/darlene-scaled.jpg
END:VEVENT
BEGIN:VEVENT
DTSTART;TZID=America/Edmonton:20231007T130000
DTEND;TZID=America/Edmonton:20231007T153000
DTSTAMP:20260423T231636
CREATED:20230901T202033Z
LAST-MODIFIED:20230901T202033Z
UID:10000171-1696683600-1696692600@cspacemardaloop.com
SUMMARY:Making a Coil Pot
DESCRIPTION:Discover your artistic self through the tactile experience of coil building ceramics in this 2 day workshop. Join the Alberta Craft Gallery-Calgary and artist Darlene Swan from 10am-12:30pm on Saturday\, October 7 & again on Saturday October 21 as we explore hand-building with coils\, and glazing & surface decoration. \nDay 1\, Saturday\, October 7 – Learn about shaping and molding ceramic forms through the technique of coil building. Finished pieces will be allowed to dry and be bisque fired for you in preparation for Day 2. \nDay 2\, Saturday October 21 – Explore glazing and surface decoration and prepare your pot for the 2nd firing. The pieces will be available for pick-up 2 weeks later after a 2nd firing.
URL:https://cspacemardaloop.com/event/making-a-coil-pot/2023-10-07/
LOCATION:cSPACE Marda Loop – RGO Treehouse\, Suite #475
CATEGORIES:RGO Treehouse South
ATTACH;FMTTYPE=image/jpeg:https://cspacemardaloop.com/wp-content/uploads/2023/09/darlene-scaled.jpg
END:VEVENT
BEGIN:VEVENT
DTSTART;TZID=America/Edmonton:20230511T183000
DTEND;TZID=America/Edmonton:20230511T210000
DTSTAMP:20260423T231636
CREATED:20230510T212543Z
LAST-MODIFIED:20230510T212543Z
UID:10000012-1683829800-1683838800@cspacemardaloop.com
SUMMARY:Bright Nights Talk with Carissa Baktay
DESCRIPTION:Carissa Baktay will speak about her exhibition Form(ed) and the body of work she is making with glass\, horse hair and textile.\n\n\nAlberta Craft Council’s presents Bright Nights with Carissa Baktay \nIn conjunction with her exhibition Form(ed) at the Alberta Craft Gallery – Calgary from May 6 – June 24\, 2023.  Carissa Baktay will speak about her recent body of sculptural work. Combining found objects with glass\, hair and textile\, the artist will elaborate on her use of symbol\, language and gendered body in her performative artifacts and installations.  \nThis exhibition was generously funded through The Alberta Foundation for the Arts \n \nThursday\, May 11\, 4th Floor Treehouse\, cSPACE – Marda Loop\, 1721 – 29 Avenue SW Calgary \nCash Bar Opens:  6:30 pm \nPresentation: 7:00 – 8:30 pm \nExhibition Tour of Form(ed) with Carissa at Alberta Craft Gallery:  8:30 – 9:00 pm \n \nAbout the Artist: \nCarissa Baktay is a multi-media sculptor\, currently exploring glass\, hair\, textile and found materials. As an experienced glass maker she has earned degrees from Alberta University of the Arts\, attended the Rhode Island School of Design with scholarship\, and received her Masters’ from Universidade Nova de Lisboa. Using experimental technologies and mediums combined with time honoured glass making methods\, she has been invited to work in studios in Bulgaria\, Norway\, Finland and Portugal. Recently her work has been recognized with multiple grants from The Alberta Foundation for the Arts\, The Canada Council for the Arts\, SÍM\, KÍM\, and the Icelandic Design Fund.  \nCarissa Baktays’ process based practice is deeply connected to material and memory and by collecting and reimagining materials\, she transforms their presence in space and presents a new poetic material understanding that shares the borders between art\, craft and design. Ironic and playful\, these mixed material sculptures come to life through intuitive process and intimate performative acts.
URL:https://cspacemardaloop.com/event/bright-nights-talk-with-carissa-baktay/
LOCATION:Alberta Craft Gallery at cSPACE – Marda Loop\, 4th floor\, 1721 29 Avenue Southwest\, Calgary\, AB\, T2T 6T7\, Canada
ATTACH;FMTTYPE=image/jpeg:https://cspacemardaloop.com/wp-content/uploads/2023/05/ae02f2440d7e60724bbb8f795fe67177-1-e1683754147901.jpg
END:VEVENT
END:VCALENDAR