BEGIN:VCALENDAR
VERSION:2.0
PRODID:-//cSPACE Marda Loop - ECPv6.15.20//NONSGML v1.0//EN
CALSCALE:GREGORIAN
METHOD:PUBLISH
X-ORIGINAL-URL:https://cspacemardaloop.com
X-WR-CALDESC:Events for cSPACE Marda Loop
REFRESH-INTERVAL;VALUE=DURATION:PT1H
X-Robots-Tag:noindex
X-PUBLISHED-TTL:PT1H
BEGIN:VTIMEZONE
TZID:UTC
BEGIN:STANDARD
TZOFFSETFROM:+0000
TZOFFSETTO:+0000
TZNAME:UTC
DTSTART:20240101T000000
END:STANDARD
END:VTIMEZONE
BEGIN:VEVENT
DTSTART;VALUE=DATE:20250325
DTEND;VALUE=DATE:20250421
DTSTAMP:20260424T111431
CREATED:20250329T215709Z
LAST-MODIFIED:20250329T220119Z
UID:10004483-1742860800-1745193599@cspacemardaloop.com
SUMMARY:Exhibition: As Above So Below by Jennifer Illanes
DESCRIPTION:Exhibition: As Above So Below by Jennifer Illanes\nJoin artist Jennifer Illanes in her exploration of the spirituality of her ancestors\, from historic Scotland\, in her exhibition “As Above So Below”. The show\, which features stylized medieval suits of fabric armor\, banners\, and other sculptural pieces\, will be up until April 21st\, 2025 and is located in the Cupola Gallery on the 4th floor. \nhttps://www.jenniferillanes.ca/
URL:https://cspacemardaloop.com/event/exhibition-as-above-so-below-by-jennifer-illanes/
LOCATION:cSPACE Marda Loop\, 1721 29 Avenue Southwest\, Calgary\, AB\, T2T 6T7\, Canada
CATEGORIES:Level 4 Cupola Gallery
ATTACH;FMTTYPE=image/jpeg:https://cspacemardaloop.com/wp-content/uploads/2025/03/20250322_122137_0000.jpg
ORGANIZER;CN="Calgary Allied Arts Foundation":MAILTO:caafresidency@gmail.com
END:VEVENT
BEGIN:VEVENT
DTSTART;TZID=UTC:20250404T100000
DTEND;TZID=UTC:20250404T130000
DTSTAMP:20260424T111431
CREATED:20250304T000406Z
LAST-MODIFIED:20250304T000407Z
UID:10004385-1743760800-1743771600@cspacemardaloop.com
SUMMARY:Sewing 101 with Ryoko Work/Shop
DESCRIPTION:Come learn how to sew\, and start making your own projects.\nJoin us in the spacious and inspiring new Riyoko Work/Shop and learn the fundamental beginner skills to get on your way to exploring and creating! In this class\, students will learn their way around the machine through various projects and gain the foundational sewing skills to translate into future projects for themselves. Students will learn how to read patterns\, and how to choose fabrics and patterns right for the projects they are making. They will make a reversible\, lined gift bag\, pyjama pants\, and learn how to hem pants\, and sew zippers. The skills of sewing can seem daunting\, but with the right instruction\, it can be fun and sew much easier than you think! \nThis course is three 3-hour sessions. The next sessions are: \nMonday March 3\, 10 & 17 – 6 pm to 9 pm \nor \nFriday April 4\, 11 & 25 – 10 am to 1 pm \nor \nMay 12\, 26 & June 2 – 6 pm to 9 pm
URL:https://cspacemardaloop.com/event/sewing-101-with-ryoko-work-shop-2/2025-04-04/
CATEGORIES:Riyoko Suite #445
ATTACH;FMTTYPE=image/jpeg:https://cspacemardaloop.com/wp-content/uploads/2025/02/copy-of-sewing-101-8.5-x-11-in-1.jpg-1.jpg
ORGANIZER;CN="Riyoko Work/Shop":MAILTO:info@riyoko.ca
END:VEVENT
BEGIN:VEVENT
DTSTART;TZID=UTC:20250405T100000
DTEND;TZID=UTC:20250405T140000
DTSTAMP:20260424T111431
CREATED:20250218T231105Z
LAST-MODIFIED:20250305T005937Z
UID:10004314-1743847200-1743861600@cspacemardaloop.com
SUMMARY:ReFashion with Riyoko Work/Shop
DESCRIPTION:Come explore how to deconstruct and reconstruct clothing into one-of-a-kind pieces of your own.\nIn this class\, students will learn techniques on how to take apart\, and put back together clothing* to create new fashion pieces of their own. From appliqué and patches to making a vest from a jacket\, the possibilities are whatever one can imagine (within the functionality of construction;))! And with the right instruction\, it can be fun and sew much fun to dive into! \n*A few weeks prior to class students will be contacted by the instructor to get a feel for what your projects are. \nThis course is two 4-hour sessions each. The session dates are: \nSaturday March 15 & 22 \nand/ or \nSaturday March 29 & April 5 \nand/ or \nSaturday June 7 & 14 \nand/ or \nSaturday June 21 & 28 \nMore info here: https://riyoko.ca/products/refashion
URL:https://cspacemardaloop.com/event/refashion-with-riyoko-work-shop/2025-04-05/
CATEGORIES:Riyoko Suite #445
ATTACH;FMTTYPE=image/jpeg:https://cspacemardaloop.com/wp-content/uploads/2025/02/re-fashion-8.5-x-11-in.jpg
ORGANIZER;CN="Riyoko Work/Shop":MAILTO:info@riyoko.ca
END:VEVENT
BEGIN:VEVENT
DTSTART;TZID=UTC:20250407T180000
DTEND;TZID=UTC:20250407T210000
DTSTAMP:20260424T111431
CREATED:20250218T230803Z
LAST-MODIFIED:20250218T230803Z
UID:10004256-1744048800-1744059600@cspacemardaloop.com
SUMMARY:Intermediate Sewing with Riyoko Work/Shop
DESCRIPTION:Come continue your sewing journey!\nTake your skills to the next level by sewing a fun summer skirt with us and build on skills from Sewing 101. In this class students will learn how to sew button holes\, enclosed seam allowance\, waistbands\, different kinds of hem treatments and more pockets! The skills of sewing can seem daunting\, but with the right instruction\, it can be fun and sew much easier than you think. \nThis course is four 3-hour sessions. The next sessions are: \nMonday March 31 & April 7\, 14\, 28 – 6 pm to 9 pm \nor \nMonday June 9\, 16\, 23 & 30 – 6 pm to 9 pm
URL:https://cspacemardaloop.com/event/intermediate-sewing-with-riyoko-work-shop/2025-04-07/
CATEGORIES:Riyoko Suite #445
ATTACH;FMTTYPE=image/jpeg:https://cspacemardaloop.com/wp-content/uploads/2025/02/copy-of-sewing-101-8.5-x-11-in.jpg.jpg
ORGANIZER;CN="Riyoko Work/Shop":MAILTO:info@riyoko.ca
END:VEVENT
BEGIN:VEVENT
DTSTART;TZID=UTC:20250411T100000
DTEND;TZID=UTC:20250411T130000
DTSTAMP:20260424T111431
CREATED:20250304T000406Z
LAST-MODIFIED:20250304T000407Z
UID:10004387-1744365600-1744376400@cspacemardaloop.com
SUMMARY:Sewing 101 with Ryoko Work/Shop
DESCRIPTION:Come learn how to sew\, and start making your own projects.\nJoin us in the spacious and inspiring new Riyoko Work/Shop and learn the fundamental beginner skills to get on your way to exploring and creating! In this class\, students will learn their way around the machine through various projects and gain the foundational sewing skills to translate into future projects for themselves. Students will learn how to read patterns\, and how to choose fabrics and patterns right for the projects they are making. They will make a reversible\, lined gift bag\, pyjama pants\, and learn how to hem pants\, and sew zippers. The skills of sewing can seem daunting\, but with the right instruction\, it can be fun and sew much easier than you think! \nThis course is three 3-hour sessions. The next sessions are: \nMonday March 3\, 10 & 17 – 6 pm to 9 pm \nor \nFriday April 4\, 11 & 25 – 10 am to 1 pm \nor \nMay 12\, 26 & June 2 – 6 pm to 9 pm
URL:https://cspacemardaloop.com/event/sewing-101-with-ryoko-work-shop-2/2025-04-11/
CATEGORIES:Riyoko Suite #445
ATTACH;FMTTYPE=image/jpeg:https://cspacemardaloop.com/wp-content/uploads/2025/02/copy-of-sewing-101-8.5-x-11-in-1.jpg-1.jpg
ORGANIZER;CN="Riyoko Work/Shop":MAILTO:info@riyoko.ca
END:VEVENT
BEGIN:VEVENT
DTSTART;TZID=UTC:20250412T110000
DTEND;TZID=UTC:20250412T150000
DTSTAMP:20260424T111431
CREATED:20250313T154312Z
LAST-MODIFIED:20250313T154537Z
UID:10004473-1744455600-1744470000@cspacemardaloop.com
SUMMARY:Fabric Swap! with Riyoko Workshop
DESCRIPTION:Shout out to all Craftivists\, Sewists\, DIYers\, Designers\, and Artists!\nIt’s our 3rd edition of Fabric Swap! Come join us! We all have fabric that we love but may never use\, right? Let’s stir up some new inspirational energy and trade with each other! We will have tables set up inside and outside our studio for you to lay down your fabric\, and peruse what each other has contributed. \nThe rules for Fabric Swap are: \n\nClean\, useable fabrics only\n1 meter or more – no less!*\nBe thoughtful about the items you take\, and what you will make. Take what inspires you but also leave some for others to be inspired:)\nYou are not obligated to take anything with you\, but please also be thoughtful about the amount you drop off to us.\nNo notions or tools\nNo clothing\nBring a bag to tote home your finds\nThe tables will be out all day on April 12\, from 11am to 3 pm – come chat with fellow fabric enthusiasts! Bring in and take home some fabric! We will donate whatever is still with us at the end of the day to Ujamma Grandmas\n\n*Ujamma Grandmas will only take fabric 1 m or more\, so please help us by only donating pieces that are 1 m +. Thank you in advance! \nLocation: \nWe are located in cSPACE Marda Loop. Our studio is #445\, 1721 29 Ave SW. We are on the 4th floor of the building. There is free parking all around the building. Entrances are on 30th Ave SW and 29 Ave SW. \nAfter you’ve perused the swap\, take your time wandering around cSPACE! We have the Alberta Craft Council in the building\, Aroma Coffee Shop\, and Art Shows on each floor. Looking forward to seeing you all! \nhttps://riyoko.ca/blogs/news/fabric-swap-spring-2025-edition
URL:https://cspacemardaloop.com/event/fabric-swap-with-riyoko-workshop/
CATEGORIES:Riyoko Suite #445
ATTACH;FMTTYPE=image/jpeg:https://cspacemardaloop.com/wp-content/uploads/2025/03/fab-swap-insta-postfinal.jpeg
ORGANIZER;CN="Riyoko Work/Shop":MAILTO:info@riyoko.ca
END:VEVENT
BEGIN:VEVENT
DTSTART;TZID=UTC:20250414T180000
DTEND;TZID=UTC:20250414T210000
DTSTAMP:20260424T111431
CREATED:20250218T230803Z
LAST-MODIFIED:20250218T230803Z
UID:10004257-1744653600-1744664400@cspacemardaloop.com
SUMMARY:Intermediate Sewing with Riyoko Work/Shop
DESCRIPTION:Come continue your sewing journey!\nTake your skills to the next level by sewing a fun summer skirt with us and build on skills from Sewing 101. In this class students will learn how to sew button holes\, enclosed seam allowance\, waistbands\, different kinds of hem treatments and more pockets! The skills of sewing can seem daunting\, but with the right instruction\, it can be fun and sew much easier than you think. \nThis course is four 3-hour sessions. The next sessions are: \nMonday March 31 & April 7\, 14\, 28 – 6 pm to 9 pm \nor \nMonday June 9\, 16\, 23 & 30 – 6 pm to 9 pm
URL:https://cspacemardaloop.com/event/intermediate-sewing-with-riyoko-work-shop/2025-04-14/
CATEGORIES:Riyoko Suite #445
ATTACH;FMTTYPE=image/jpeg:https://cspacemardaloop.com/wp-content/uploads/2025/02/copy-of-sewing-101-8.5-x-11-in.jpg.jpg
ORGANIZER;CN="Riyoko Work/Shop":MAILTO:info@riyoko.ca
END:VEVENT
BEGIN:VEVENT
DTSTART;TZID=UTC:20250425T100000
DTEND;TZID=UTC:20250425T130000
DTSTAMP:20260424T111431
CREATED:20250304T000406Z
LAST-MODIFIED:20250304T000407Z
UID:10004446-1745575200-1745586000@cspacemardaloop.com
SUMMARY:Sewing 101 with Ryoko Work/Shop
DESCRIPTION:Come learn how to sew\, and start making your own projects.\nJoin us in the spacious and inspiring new Riyoko Work/Shop and learn the fundamental beginner skills to get on your way to exploring and creating! In this class\, students will learn their way around the machine through various projects and gain the foundational sewing skills to translate into future projects for themselves. Students will learn how to read patterns\, and how to choose fabrics and patterns right for the projects they are making. They will make a reversible\, lined gift bag\, pyjama pants\, and learn how to hem pants\, and sew zippers. The skills of sewing can seem daunting\, but with the right instruction\, it can be fun and sew much easier than you think! \nThis course is three 3-hour sessions. The next sessions are: \nMonday March 3\, 10 & 17 – 6 pm to 9 pm \nor \nFriday April 4\, 11 & 25 – 10 am to 1 pm \nor \nMay 12\, 26 & June 2 – 6 pm to 9 pm
URL:https://cspacemardaloop.com/event/sewing-101-with-ryoko-work-shop-2/2025-04-25/
CATEGORIES:Riyoko Suite #445
ATTACH;FMTTYPE=image/jpeg:https://cspacemardaloop.com/wp-content/uploads/2025/02/copy-of-sewing-101-8.5-x-11-in-1.jpg-1.jpg
ORGANIZER;CN="Riyoko Work/Shop":MAILTO:info@riyoko.ca
END:VEVENT
BEGIN:VEVENT
DTSTART;TZID=UTC:20250428T180000
DTEND;TZID=UTC:20250428T210000
DTSTAMP:20260424T111431
CREATED:20250218T230803Z
LAST-MODIFIED:20250218T230803Z
UID:10004258-1745863200-1745874000@cspacemardaloop.com
SUMMARY:Intermediate Sewing with Riyoko Work/Shop
DESCRIPTION:Come continue your sewing journey!\nTake your skills to the next level by sewing a fun summer skirt with us and build on skills from Sewing 101. In this class students will learn how to sew button holes\, enclosed seam allowance\, waistbands\, different kinds of hem treatments and more pockets! The skills of sewing can seem daunting\, but with the right instruction\, it can be fun and sew much easier than you think. \nThis course is four 3-hour sessions. The next sessions are: \nMonday March 31 & April 7\, 14\, 28 – 6 pm to 9 pm \nor \nMonday June 9\, 16\, 23 & 30 – 6 pm to 9 pm
URL:https://cspacemardaloop.com/event/intermediate-sewing-with-riyoko-work-shop/2025-04-28/
CATEGORIES:Riyoko Suite #445
ATTACH;FMTTYPE=image/jpeg:https://cspacemardaloop.com/wp-content/uploads/2025/02/copy-of-sewing-101-8.5-x-11-in.jpg.jpg
ORGANIZER;CN="Riyoko Work/Shop":MAILTO:info@riyoko.ca
END:VEVENT
END:VCALENDAR