BEGIN:VCALENDAR
VERSION:2.0
PRODID:-//cSPACE Marda Loop - ECPv6.15.20//NONSGML v1.0//EN
CALSCALE:GREGORIAN
METHOD:PUBLISH
X-ORIGINAL-URL:https://cspacemardaloop.com
X-WR-CALDESC:Events for cSPACE Marda Loop
REFRESH-INTERVAL;VALUE=DURATION:PT1H
X-Robots-Tag:noindex
X-PUBLISHED-TTL:PT1H
BEGIN:VTIMEZONE
TZID:UTC
BEGIN:STANDARD
TZOFFSETFROM:+0000
TZOFFSETTO:+0000
TZNAME:UTC
DTSTART:20240101T000000
END:STANDARD
END:VTIMEZONE
BEGIN:VEVENT
DTSTART;VALUE=DATE:20251007
DTEND;VALUE=DATE:20251102
DTSTAMP:20260420T210331
CREATED:20250913T174727Z
LAST-MODIFIED:20251016T170706Z
UID:10005014-1759795200-1762041599@cspacemardaloop.com
SUMMARY:EXHIBITION: Building Blocks by Sean Drysdale
DESCRIPTION:Building Blocks by Sean Drysdale\ncSPACE Marda Loop\nGallery Level 3\nOctober 7 – November 1\, 2025\n8:00 AM – 8:00 PM (Closed Sundays) \n\n\n\nSean Drysdale returns to cSPACE with version 3 of Building Blocks\, an exhibition of large images. \n\nArtist’s Talk:  \nThursday\, October 16 | 5:30pm-7:45pm \nIn Attendance:  \n\nWednesday\, October 8 | 6-8pm\nSaturday October 25 | 1-3pm\nSaturday November 1 | 1-3pm\nOr by arrangement\n\nClosing Reception: \nThursday\, October 30 | 5:00-7:30pm \nAbout the Artist: \nSean Drysdale graduated from Emily Carr College of Art and Design in 1984\, where he studied photography. Subsequent studies in mathematics and computers at Simon Fraser University led to a career in information management. \nHe returned to photography as an art form in 2016. By 2023\, he concluded that the world did not need another photographer. The label had always felt like a shirt occasionally worn but never entirely comfortable. Instead\, he began calling himself a wanderer—a description that felt far more fitting. To Drysdale\, this is a liberating and playful identity\, one that frees them from unhelpful personal expectations and existential questions such as what defines a “real” photographer.
URL:https://cspacemardaloop.com/event/building-blocks-by-sean-drysdale/
LOCATION:cSPACE Marda Loop\, 1721 29 Avenue Southwest\, Calgary\, AB\, T2T 6T7\, Canada
CATEGORIES:Gallery Level 3
ATTACH;FMTTYPE=image/jpeg:https://cspacemardaloop.com/wp-content/uploads/2025/09/screenshot-2025-09-13-at-11.36.24-am.jpg
END:VEVENT
BEGIN:VEVENT
DTSTART;VALUE=DATE:20251110
DTEND;VALUE=DATE:20251125
DTSTAMP:20260420T210331
CREATED:20251016T170459Z
LAST-MODIFIED:20251016T170747Z
UID:10005781-1762732800-1764028799@cspacemardaloop.com
SUMMARY:EXHIBITION: Winterfield Art
DESCRIPTION:Winterfield Art Exhibiton\ncSPACE Marda Loop\nGallery Level 2\nNovember 10 – 24 2025\n8:00 AM – 8:00 PM (Closed Sundays) \n\nOpening Reception: November 13 | 6:00pm – 8:00pm \n\n\nArtist Tammy Winterfeld transforms Gallery Level 2 of cSPACE Marda Loop with a vibrant collection of her signature paintings. \nA public reception will be held on November 13 from 6–8 PM\, featuring an expanded selection of artwork\, apparel\, candles\, and fine art prints available for purchase. Guests will enjoy 15% off all Winterfield creations during the event. \nCelebrate creativity and connection—join the artist and fellow community members to explore\, converse\, and warm the halls of cSPACE with art and conversation.
URL:https://cspacemardaloop.com/event/winterfield-art/
LOCATION:cSPACE Marda Loop\, 1721 29 Avenue Southwest\, Calgary\, AB\, T2T 6T7\, Canada
CATEGORIES:Gallery Level 2
ATTACH;FMTTYPE=image/jpeg:https://cspacemardaloop.com/wp-content/uploads/2025/10/winterfield-art-exhibition-nov-2025.jpg
END:VEVENT
BEGIN:VEVENT
DTSTART;TZID=UTC:20251113T180000
DTEND;TZID=UTC:20251113T200000
DTSTAMP:20260420T210331
CREATED:20251016T170810Z
LAST-MODIFIED:20251016T170810Z
UID:10005782-1763056800-1763064000@cspacemardaloop.com
SUMMARY:RECEPTION: Winterfield Art
DESCRIPTION:Winterfield Art Exhibiton\ncSPACE Marda Loop\nGallery Level 2\nNovember 10 – 24 2025\n8:00 AM – 8:00 PM (Closed Sundays) \n\nOpening Reception: November 13 | 6:00pm – 8:00pm \n\n\nArtist Tammy Winterfeld transforms Gallery Level 2 of cSPACE Marda Loop with a vibrant collection of her signature paintings. \nA public reception will be held on November 13 from 6–8 PM\, featuring an expanded selection of artwork\, apparel\, candles\, and fine art prints available for purchase. Guests will enjoy 15% off all Winterfield creations during the event. \nRSVP FREE HERE
URL:https://cspacemardaloop.com/event/reception-winterfield-art/
LOCATION:cSPACE Marda Loop\, 1721 29 Avenue Southwest\, Calgary\, AB\, T2T 6T7\, Canada
CATEGORIES:Gallery Level 2
ATTACH;FMTTYPE=image/jpeg:https://cspacemardaloop.com/wp-content/uploads/2025/10/winterfield-art-exhibition-nov-2025.jpg
END:VEVENT
END:VCALENDAR