BEGIN:VCALENDAR
VERSION:2.0
PRODID:-//cSPACE Marda Loop - ECPv6.15.20//NONSGML v1.0//EN
CALSCALE:GREGORIAN
METHOD:PUBLISH
X-ORIGINAL-URL:https://cspacemardaloop.com
X-WR-CALDESC:Events for cSPACE Marda Loop
REFRESH-INTERVAL;VALUE=DURATION:PT1H
X-Robots-Tag:noindex
X-PUBLISHED-TTL:PT1H
BEGIN:VTIMEZONE
TZID:UTC
BEGIN:STANDARD
TZOFFSETFROM:+0000
TZOFFSETTO:+0000
TZNAME:UTC
DTSTART:20220101T000000
END:STANDARD
END:VTIMEZONE
BEGIN:VEVENT
DTSTART;TZID=UTC:20230827T130000
DTEND;TZID=UTC:20230827T160000
DTSTAMP:20260425T224832
CREATED:20230823T173507Z
LAST-MODIFIED:20230823T173837Z
UID:10000136-1693141200-1693152000@cspacemardaloop.com
SUMMARY:Show & Shine - Car Show presented by The Edward
DESCRIPTION:The Edward presents a Show & Shine car show event on Art Park at cSPACE Marda Loop. \nFeaturing \n\nNice old cars\nNathan’s gourmet hot dogs and drinks for car owners\nEntertainment by Howard Chapman\nIce cream truck!\n\nMore info in the poster attached.
URL:https://cspacemardaloop.com/event/show-shine-car-show-presented-by-the-edward/
LOCATION:cSPACE Marda Loop\, 1721 29 Avenue Southwest\, Calgary\, AB\, T2T 6T7\, Canada
CATEGORIES:Art Park
ATTACH;FMTTYPE=image/jpeg:https://cspacemardaloop.com/wp-content/uploads/2023/08/calgary-edward-aug-27-2023-1-e1690499536193.jpg
ORGANIZER;CN="The Edward":MAILTO:deanna.bensler@optimaliving.ca
END:VEVENT
END:VCALENDAR