BEGIN:VCALENDAR
VERSION:2.0
PRODID:-//cSPACE Marda Loop - ECPv6.15.20//NONSGML v1.0//EN
CALSCALE:GREGORIAN
METHOD:PUBLISH
X-WR-CALNAME:cSPACE Marda Loop
X-ORIGINAL-URL:https://cspacemardaloop.com
X-WR-CALDESC:Events for cSPACE Marda Loop
REFRESH-INTERVAL;VALUE=DURATION:PT1H
X-Robots-Tag:noindex
X-PUBLISHED-TTL:PT1H
BEGIN:VTIMEZONE
TZID:UTC
BEGIN:STANDARD
TZOFFSETFROM:+0000
TZOFFSETTO:+0000
TZNAME:UTC
DTSTART:20240101T000000
END:STANDARD
END:VTIMEZONE
BEGIN:VEVENT
DTSTART;VALUE=DATE:20250317
DTEND;VALUE=DATE:20250422
DTSTAMP:20260424T104803
CREATED:20250406T024311Z
LAST-MODIFIED:20250406T025507Z
UID:10004487-1742169600-1745279999@cspacemardaloop.com
SUMMARY:Exhibition: "Royal Whimsy" - Jen Bain
DESCRIPTION:Exhibition: “Royal Whimsy” – Jen Bain\ncSPACE Marda Loop \nLevel 4 Hallway Gallery \nMarch 17 – April 22\, 2025 \nReception: Saturday\, April 19 \nA Vibrant Celebration of Whimsy\, Icons\, and Imagination \nStep into a world of colour\, nostalgia\, and playful creativity in this vibrant art exhibition by Jen. As a puppeteer on Fraggle Rock\, Jen has ‘firsthand’ access to Jim Henson’s beloved characters—making them\, in a way\, the first fan artist of the Fraggles! This collection brings the magic of Henson’s creations to life alongside an eclectic mix of themes\, from tropical Tiki vibes to the wonders of sea life and towering trees. \nThe exhibition also features striking celebrity portraits\, each infused with the artist’s signature whimsical style. Whether it’s the mischievous spirit of the Muppets\, the lush mystique of the natural world\, or the iconic faces of pop culture\, every piece invites viewers to celebrate joy\, imagination\, and the art of storytelling. \nJoin us for an immersive experience where nostalgia meets bold\, new expression—because the world is always better with a little more colour and wonder.
URL:https://cspacemardaloop.com/event/exhibition-royal-whimsy-jen-bain/
LOCATION:cSPACE Marda Loop\, 1721 29 Avenue Southwest\, Calgary\, AB\, T2T 6T7\, Canada
CATEGORIES:Gallery Level 4
ATTACH;FMTTYPE=image/jpeg:https://cspacemardaloop.com/wp-content/uploads/2025/04/img_3956.jpeg
END:VEVENT
BEGIN:VEVENT
DTSTART;VALUE=DATE:20250423
DTEND;VALUE=DATE:20250506
DTSTAMP:20260424T104803
CREATED:20250419T205130Z
LAST-MODIFIED:20250419T205130Z
UID:10004522-1745366400-1746489599@cspacemardaloop.com
SUMMARY:Exhibition: "Prairie Histories" - Corinne Cowell
DESCRIPTION:Exhibition: “Prairie Histories” by Corinne Cowell\ncSPACE Marda Loop\nGallery Level 3\nuntil May 5\, 2025 \nFrom the artist:\nThis ongoing series deals with narratives and memory as well as the environment and our place within it. A series of “prairie ghosts” speaks to the history and perseverance of family and struggle as well as the abandonment of those precious homesteads of the early 1900’s. These disturbed landscapes are fraught with memories\, long faded but still lingering. \nThe buildings\, straining to remain\, alone and resilient against the elements\, will ultimately disintegrate back into the landscape. This reclaiming by the land forms a series of mysteries\, offering a great depth for potential narratives. These are the stories I want to tell. \nThese pieces are made using my own photography\, which I transfer to the under painted surface. Using many layers and glazes of acrylic paint\, I develop the mood and transparency of the image to support the imagined narrative of the work. \nIf you are interested in purchasing any of Corinne’s pieces\, please visit her website corinnecowell.com \, where you can also find her small paintings and mixed media fibre work. You can also follow her on Instagram @corinnecowell .
URL:https://cspacemardaloop.com/event/exhibition-prairie-histories-corinne-cowell/
LOCATION:cSPACE Marda Loop\, 1721 29 Avenue Southwest\, Calgary\, AB\, T2T 6T7\, Canada
CATEGORIES:Gallery Level 3
ATTACH;FMTTYPE=image/jpeg:https://cspacemardaloop.com/wp-content/uploads/2025/04/working-8.5-x-8.5-in-7.jpg
END:VEVENT
END:VCALENDAR