BEGIN:VCALENDAR
VERSION:2.0
PRODID:-//cSPACE Marda Loop - ECPv6.15.20//NONSGML v1.0//EN
CALSCALE:GREGORIAN
METHOD:PUBLISH
X-WR-CALNAME:cSPACE Marda Loop
X-ORIGINAL-URL:https://cspacemardaloop.com
X-WR-CALDESC:Events for cSPACE Marda Loop
REFRESH-INTERVAL;VALUE=DURATION:PT1H
X-Robots-Tag:noindex
X-PUBLISHED-TTL:PT1H
BEGIN:VTIMEZONE
TZID:America/Edmonton
BEGIN:DAYLIGHT
TZOFFSETFROM:-0700
TZOFFSETTO:-0600
TZNAME:MDT
DTSTART:20230312T090000
END:DAYLIGHT
BEGIN:STANDARD
TZOFFSETFROM:-0600
TZOFFSETTO:-0700
TZNAME:MST
DTSTART:20231105T080000
END:STANDARD
BEGIN:DAYLIGHT
TZOFFSETFROM:-0700
TZOFFSETTO:-0600
TZNAME:MDT
DTSTART:20240310T090000
END:DAYLIGHT
BEGIN:STANDARD
TZOFFSETFROM:-0600
TZOFFSETTO:-0700
TZNAME:MST
DTSTART:20241103T080000
END:STANDARD
BEGIN:DAYLIGHT
TZOFFSETFROM:-0700
TZOFFSETTO:-0600
TZNAME:MDT
DTSTART:20250309T090000
END:DAYLIGHT
BEGIN:STANDARD
TZOFFSETFROM:-0600
TZOFFSETTO:-0700
TZNAME:MST
DTSTART:20251102T080000
END:STANDARD
END:VTIMEZONE
BEGIN:VEVENT
DTSTART;TZID=America/Edmonton:20241130T180000
DTEND;TZID=America/Edmonton:20241130T220000
DTSTAMP:20260422T164930
CREATED:20241101T160321Z
LAST-MODIFIED:20241112T174528Z
UID:10002955-1732989600-1733004000@cspacemardaloop.com
SUMMARY:Alberta Craft Gallery's Annual Let it Snow Event
DESCRIPTION:We invite you to join us at our 6th annual fundraising shopping party.\nHello Calgary! We invite you to join us at our 6th annual fundraising party on Saturday\, November 30\, from 6 – 10pm\, and toast the season in great company while supporting the work of Alberta Artists. \nLive music by Erin Ross\, cash bar\, appetizers\, raffles\, and fabulous door prizes will accompany an incredible holiday shopping party with chance discounts of up to 30%. \nProceeds from this festive evening empowers our charitable organization to provide opportunities for local Craft artists\, fueling their creative journeys and connecting them to our communities through captivating experiences. Buy your tickets today! \nEarly bird ticket purchases before midnight Saturday\, November 23 will be automatically entered to win a $100 Alberta Craft gift certificate! \nTickets:\nIn Advance: Alberta Craft Members $30 | General Admission $40\nNight of at the Door: Alberta Craft Members $35 | General Admission $45 \n​Tickets can also be purchased in person at Alberta Craft Gallery – Calgary (cSPACE – Marda Loop 1721 – 29 Avenue SW) or by phone at 587-391-0129 during gallery hours – Wednesday – Friday: 11am – 5pm and Saturday: 10am – 5pm. \nTickets to this fundraising event are non-refundable.
URL:https://cspacemardaloop.com/event/let-it-snow-2/
LOCATION:AB
CATEGORIES:Alberta Craft Gallery Level 2
ATTACH;FMTTYPE=image/jpeg:https://cspacemardaloop.com/wp-content/uploads/2024/11/let-it-snow-square.jpg
END:VEVENT
BEGIN:VEVENT
DTSTART;TZID=America/Edmonton:20241207T140000
DTEND;TZID=America/Edmonton:20241207T160000
DTSTAMP:20260422T164930
CREATED:20241114T191810Z
LAST-MODIFIED:20241202T213638Z
UID:10002967-1733580000-1733587200@cspacemardaloop.com
SUMMARY:Needle Felt a Holiday Ornament
DESCRIPTION:cSPACE Marda Loop\nAlberta Craft Gallery – Level 2 \nJoin us for an enjoyable afternoon of felting and create a charming ornament to take home. All materials\, tools\, and instructions provided.\nDive into the magic of the season with Jill Nuckles in an exciting beginner needle felting workshop! Unleash your creativity and craft your very own unique holiday ornament that’s sure to dazzle. With step-by-step guidance\, you’ll effortlessly learn how to bring a charming critter to life\, and once you’ve mastered the basics\, the sky’s the limit – you can create anything your heart desires! \nAll materials are provided\, so you’ll leave with a felting needle\, a foam block\, and extra wool to keep those crafting vibes going at home. Don’t miss out on this chance to create something truly special! Join us for a fun-filled day of creativity and inspiration! \nNo experience is necessary. \nAge: 12+
URL:https://cspacemardaloop.com/event/needle-felt-a-holiday-ornament/
LOCATION:AB
CATEGORIES:Alberta Craft Gallery Level 2
ATTACH;FMTTYPE=image/jpeg:https://cspacemardaloop.com/wp-content/uploads/2024/11/needlefeltworkshop.jpg
END:VEVENT
BEGIN:VEVENT
DTSTART;TZID=America/Edmonton:20241214T100000
DTEND;TZID=America/Edmonton:20241214T140000
DTSTAMP:20260422T164930
CREATED:20241115T000915Z
LAST-MODIFIED:20241202T212604Z
UID:10002968-1734170400-1734184800@cspacemardaloop.com
SUMMARY:FREE: Make a wooden ornament with Susanah Windrum - drop in
DESCRIPTION:Please join us for a fun free workshop for all ages and make a wooden ornament for your tree or window.\nSusanah Windrum will teach us how to decorate wood slices with your favorite holiday imagery. With a string\, they can be hung anywhere you need a little cheer. \nAbout the artist\nSusanah Windrum earned a Diploma in Theatre Arts Production at Mount Royal University. The program enhanced her technical and creative abilities through the designing and construction of sets\, costumes and props. She also received a BFA from Emily Carr University of Art + Design. \nSince graduating\, she has continued her education with courses and workshops in jewellery and metalwork. Susanah has been teaching classes with Alberta Craft Gallery since 2017. \nAges 4+ \nParents must be present to supervise or make their own flower \nFree workshop
URL:https://cspacemardaloop.com/event/free-make-a-wooden-ornament-with-susanah-windrum/
LOCATION:AB
CATEGORIES:Alberta Craft Gallery Level 2
ATTACH;FMTTYPE=image/jpeg:https://cspacemardaloop.com/wp-content/uploads/2024/11/62390a6fb6f6948eb44d1a6e00189d8a-1.jpg
END:VEVENT
END:VCALENDAR