BEGIN:VCALENDAR
VERSION:2.0
PRODID:-//cSPACE Marda Loop - ECPv6.15.20//NONSGML v1.0//EN
CALSCALE:GREGORIAN
METHOD:PUBLISH
X-ORIGINAL-URL:https://cspacemardaloop.com
X-WR-CALDESC:Events for cSPACE Marda Loop
REFRESH-INTERVAL;VALUE=DURATION:PT1H
X-Robots-Tag:noindex
X-PUBLISHED-TTL:PT1H
BEGIN:VTIMEZONE
TZID:America/Edmonton
BEGIN:DAYLIGHT
TZOFFSETFROM:-0700
TZOFFSETTO:-0600
TZNAME:MDT
DTSTART:20230312T090000
END:DAYLIGHT
BEGIN:STANDARD
TZOFFSETFROM:-0600
TZOFFSETTO:-0700
TZNAME:MST
DTSTART:20231105T080000
END:STANDARD
BEGIN:DAYLIGHT
TZOFFSETFROM:-0700
TZOFFSETTO:-0600
TZNAME:MDT
DTSTART:20240310T090000
END:DAYLIGHT
BEGIN:STANDARD
TZOFFSETFROM:-0600
TZOFFSETTO:-0700
TZNAME:MST
DTSTART:20241103T080000
END:STANDARD
BEGIN:DAYLIGHT
TZOFFSETFROM:-0700
TZOFFSETTO:-0600
TZNAME:MDT
DTSTART:20250309T090000
END:DAYLIGHT
BEGIN:STANDARD
TZOFFSETFROM:-0600
TZOFFSETTO:-0700
TZNAME:MST
DTSTART:20251102T080000
END:STANDARD
END:VTIMEZONE
BEGIN:VTIMEZONE
TZID:UTC
BEGIN:STANDARD
TZOFFSETFROM:+0000
TZOFFSETTO:+0000
TZNAME:UTC
DTSTART:20230101T000000
END:STANDARD
END:VTIMEZONE
BEGIN:VEVENT
DTSTART;VALUE=DATE:20240914
DTEND;VALUE=DATE:20241103
DTSTAMP:20260421T143107
CREATED:20240911T222728Z
LAST-MODIFIED:20240911T222728Z
UID:10002896-1726272000-1730591999@cspacemardaloop.com
SUMMARY:Alberta Craft Gallery Presents: Coming Up Next
DESCRIPTION:Exhibition September 14 – November 2\, 2024\nAlberta Craft Gallery and Shop\nOn Level 2 of cSPACE Marda Loop \nCelebrating the creativity\, innovation and skill of emerging\, Canadian Craft artists\, Coming Up Next is an exhibition of works selected from a diverse variety of approaches\, mediums\, and regions. Coming Up Next 2024 is an exciting collection of works in Fibre\, Ceramics\, Mixed Media\, Fish Leather\, and Metal\, made by artists from Ontario\, British Columbia\, the NWT and of course\, Alberta. \n 
URL:https://cspacemardaloop.com/event/alberta-craft-gallery-presents-coming-up-next/
LOCATION:AB
CATEGORIES:Alberta Craft Gallery Level 2
ATTACH;FMTTYPE=image/jpeg:https://cspacemardaloop.com/wp-content/uploads/2024/09/5096f8f4b433bd40cddb1cb1bd3e9ab8.jpg
END:VEVENT
BEGIN:VEVENT
DTSTART;TZID=America/Edmonton:20240921T140000
DTEND;TZID=America/Edmonton:20240921T160000
DTSTAMP:20260421T143107
CREATED:20240911T221803Z
LAST-MODIFIED:20240911T223003Z
UID:10002894-1726927200-1726934400@cspacemardaloop.com
SUMMARY:Alberta Craft Council Reception for Coming Up Next
DESCRIPTION:Everyone is invited to this free reception for Coming Up Next\n\n\nJoin Alberta Craft and the artists in attendance for the Calgary reception of Coming Up Next. \nCelebrating the creativity\, innovation and skill of emerging\, Canadian Craft artists\, Coming Up Next is an exhibition of works selected from a diverse variety of approaches\, mediums\, and regions. Coming Up Next 2024 is an exciting collection of works in Fibre\, Ceramics\, Mixed Media\, Fish Leather\, and Metal\, made by artists from Ontario\, British Columbia\, the NWT and of course\, Alberta. \n  \nReception: Saturday\, September 21\, 2024 | 2 -4pm \nAlberta Craft Calgary Gallery \ncSPACE – Marda Loop\, 2nd floor\, 1729 – 29 Avenue SW \nParking lot and accessible entrance is off 29 Avenue. Street parking is free around the building. \n  \nExhibition September 14 – November 2\, 2024
URL:https://cspacemardaloop.com/event/reception-for-coming-up-next/
LOCATION:AB
CATEGORIES:Alberta Craft Gallery Level 2
ATTACH;FMTTYPE=image/jpeg:https://cspacemardaloop.com/wp-content/uploads/2024/09/5096f8f4b433bd40cddb1cb1bd3e9ab8.jpg
END:VEVENT
BEGIN:VEVENT
DTSTART;TZID=UTC:20240927T120000
DTEND;TZID=UTC:20240927T190000
DTSTAMP:20260421T143107
CREATED:20240913T211850Z
LAST-MODIFIED:20240913T222446Z
UID:10002897-1727438400-1727463600@cspacemardaloop.com
SUMMARY:Riyoko Work/Shop Fabric Sale!
DESCRIPTION:Join us for our Fall Edition Fabric Sale!\nGot some projects in mind for the Halloween & Holiday season ahead? Dive into a trove of fabulous fabrics\, essential notions\, clothing\, tools\, and machinery! Explore our curated collection of vintage finds\, clothing\, and conscious quality sustainable fabrics including wools\, knits\, recycled polyesters\, and organic cottons – there’s no limit to what you can create! Don’t miss out\, come on by our studio on September 27 & 28 to stock up on inspiration. See you there!
URL:https://cspacemardaloop.com/event/riyoko-work-shop-fabric-sale-2/
LOCATION:cSPACE Marda Loop\, 1721 29 Avenue Southwest\, Calgary\, AB\, T2T 6T7\, Canada
CATEGORIES:Riyoko Suite #445
ATTACH;FMTTYPE=image/jpeg:https://cspacemardaloop.com/wp-content/uploads/2024/09/2.jpg
ORGANIZER;CN="Riyoko Work/Shop":MAILTO:info@riyoko.ca
END:VEVENT
BEGIN:VEVENT
DTSTART;TZID=UTC:20240928T100000
DTEND;TZID=UTC:20240928T160000
DTSTAMP:20260421T143107
CREATED:20240913T192113Z
LAST-MODIFIED:20240913T192113Z
UID:10002898-1727517600-1727539200@cspacemardaloop.com
SUMMARY:Riyoko Work/Shop Fabric Sale!
DESCRIPTION:Join us for our Fall Edition Fabric Sale!\nGot some projects in mind for the Halloween & Holiday season ahead? Dive into a trove of fabulous fabrics\, essential notions\, clothing\, tools\, and machinery! Explore our curated collection of vintage finds\, clothing\, and conscious quality sustainable fabrics including wools\, knits\, recycled polyesters\, and organic cottons – there’s no limit to what you can create! Don’t miss out\, come on by our studio on September 27 & 28 to stock up on inspiration. See you there!
URL:https://cspacemardaloop.com/event/riyoko-work-shop-fabric-sale/2024-09-28/
LOCATION:cSPACE Marda Loop\, 1721 29 Avenue Southwest\, Calgary\, AB\, T2T 6T7\, Canada
CATEGORIES:Riyoko Suite #445
ATTACH;FMTTYPE=image/jpeg:https://cspacemardaloop.com/wp-content/uploads/2024/09/2.jpg
ORGANIZER;CN="Riyoko Work/Shop":MAILTO:info@riyoko.ca
END:VEVENT
BEGIN:VEVENT
DTSTART;TZID=UTC:20240928T110000
DTEND;TZID=UTC:20240928T160000
DTSTAMP:20260421T143107
CREATED:20240913T191900Z
LAST-MODIFIED:20240913T222526Z
UID:10002899-1727521200-1727539200@cspacemardaloop.com
SUMMARY:Riyoko Work/Shop Fabric Swap
DESCRIPTION:Calling all Craftivists\, Sewists\, DIYers\, Designers\, and Artists!\nCome join us for our second Fabric Swap! Our first one was such a fun success\, we’ve decided to hold another! We all have fabric that we love but may never use\, right? Let’s stir up some new inspirational energy and trade with each other! We will have tables set up outside our studio on September 28th for you to lay down your fabric\, and peruse what each other has contributed. \nThe rules for our first swap are: \n* Clean\, useable fabrics only \n* Be thoughtful about the items you take\, and what you will make. Take what inspires you but also leave some for others to be inspired:) \n* You are not obligated to take anything with you\, but please also be thoughtful about the amount you drop off to us. \n* No notions or tools ( we want to keep it simple for our first year to work out any bugs!) \n* No clothing \n* Bring a bag to tote home your finds \nThe tables will be out all day from 11am to 4 pm – come chat with fellow fabric enthusiasts! Take in and take home some fabric! We will donate whatever is still with us at the end of the day to local schools. \nAfter you’ve perused the swap\, come into the studio and say hi! We will be having a Studio Fabric Sale this same weekend! Looking forward to seeing you all!
URL:https://cspacemardaloop.com/event/riyoko-work-shop-fabric-swap/
LOCATION:cSPACE Marda Loop\, 1721 29 Avenue Southwest\, Calgary\, AB\, T2T 6T7\, Canada
CATEGORIES:Riyoko Suite #445
ATTACH;FMTTYPE=image/jpeg:https://cspacemardaloop.com/wp-content/uploads/2024/09/3.jpg
ORGANIZER;CN="Riyoko Work/Shop":MAILTO:info@riyoko.ca
END:VEVENT
END:VCALENDAR