BEGIN:VCALENDAR
VERSION:2.0
PRODID:-//cSPACE Marda Loop - ECPv6.15.20//NONSGML v1.0//EN
CALSCALE:GREGORIAN
METHOD:PUBLISH
X-ORIGINAL-URL:https://cspacemardaloop.com
X-WR-CALDESC:Events for cSPACE Marda Loop
REFRESH-INTERVAL;VALUE=DURATION:PT1H
X-Robots-Tag:noindex
X-PUBLISHED-TTL:PT1H
BEGIN:VTIMEZONE
TZID:UTC
BEGIN:STANDARD
TZOFFSETFROM:+0000
TZOFFSETTO:+0000
TZNAME:UTC
DTSTART:20230101T000000
END:STANDARD
END:VTIMEZONE
BEGIN:VEVENT
DTSTART;TZID=UTC:20240510T193000
DTEND;TZID=UTC:20240510T193000
DTSTAMP:20260425T102549
CREATED:20240506T222741Z
LAST-MODIFIED:20240506T222803Z
UID:10001674-1715369400-1715369400@cspacemardaloop.com
SUMMARY:It Doesn't Have To But It Might
DESCRIPTION:cSPACE Marda Loop\nStudio Theatre \nFeaturing the extraordinary musicians of the Darcy Stamp Quartet and selections from their latest album\, It Doesn’t Have To\, But It Might\, this concert will feature material inspired by the music of Dave Brubeck and jazz great Regina Carter. Join us for this informal and fantastic showcase of some of Calgary’s most innovative jazz musicians at our Friday night soiree!
URL:https://cspacemardaloop.com/event/it-doesnt-have-to-but-it-might/
LOCATION:cSPACE Marda Loop-  Studio Theatre\, 1721 29th Ave. SW\, Calgary\, AB\, T2T 6T7\, Canada
CATEGORIES:Studio Theatre
ATTACH;FMTTYPE=image/png:https://cspacemardaloop.com/wp-content/uploads/2024/05/instrumentalsocietymay10.png
END:VEVENT
END:VCALENDAR