BEGIN:VCALENDAR
VERSION:2.0
PRODID:-//cSPACE Marda Loop - ECPv6.15.20//NONSGML v1.0//EN
CALSCALE:GREGORIAN
METHOD:PUBLISH
X-ORIGINAL-URL:https://cspacemardaloop.com
X-WR-CALDESC:Events for cSPACE Marda Loop
REFRESH-INTERVAL;VALUE=DURATION:PT1H
X-Robots-Tag:noindex
X-PUBLISHED-TTL:PT1H
BEGIN:VTIMEZONE
TZID:UTC
BEGIN:STANDARD
TZOFFSETFROM:+0000
TZOFFSETTO:+0000
TZNAME:UTC
DTSTART:20230101T000000
END:STANDARD
END:VTIMEZONE
BEGIN:VEVENT
DTSTART;TZID=UTC:20241104T150000
DTEND;TZID=UTC:20241112T090000
DTSTAMP:20260421T185715
CREATED:20241003T164338Z
LAST-MODIFIED:20241003T164421Z
UID:10002933-1730732400-1731402000@cspacemardaloop.com
SUMMARY:Designs By Grace Art Display and Sale
DESCRIPTION:A walkthrough event that will showcase work done by me (Hanna\, or Grace (middle name)). I draw a variety of animals\, characters\, and scenes. My art can all be turned into prints and greeting cards I sell through my shop and I accept custom requests. This event will act be a simple display of what I do.
URL:https://cspacemardaloop.com/event/designs-by-grace-art-display-and-sale/
LOCATION:AB
CATEGORIES:Level 2 Cubby Gallery
ORGANIZER;CN="cSPACE Marda Loop":MAILTO:info@cspaceprojects.com
END:VEVENT
BEGIN:VEVENT
DTSTART;TZID=UTC:20241106T183000
DTEND;TZID=UTC:20241106T213000
DTSTAMP:20260421T185715
CREATED:20241023T165610Z
LAST-MODIFIED:20241023T213719Z
UID:10002947-1730917800-1730928600@cspacemardaloop.com
SUMMARY:Forever Is Now
DESCRIPTION:Grab your adventure buddies and join us at the cSPACE studio for a screening of Forever Is Now.\nTickets $20 in advance\, $25 day of show. \nThe name “Forever Is Now” comes from the writings of poet Lyman Hafen. If the history of the earth were to be written into a 1000-page book\, our time here would barely take up a single letter. And yet\, the significance of what we do now will be felt long into forever. \nThis film follows ten people who are Zion National Park’s keepers and caretakers. At a time of increasing tension between recreation and environmental impact\, the film follows a path to the future through character stories that are personal\, complex\, and compelling. Shot in all four seasons across fourteen successive months\, the film captures Zion like it’s never been seen before—instilling a sense of awe and ownership for public lands today\, tomorrow\, and forever.
URL:https://cspacemardaloop.com/event/forever-is-now/
LOCATION:cSPACE Marda Loop-  Studio Theatre\, 1721 29th Ave. SW\, Calgary\, AB\, T2T 6T7\, Canada
CATEGORIES:Studio Theatre
ATTACH;FMTTYPE=image/jpeg:https://cspacemardaloop.com/wp-content/uploads/2024/10/forever-is-now_tour-poster_main_border.jpg
END:VEVENT
BEGIN:VEVENT
DTSTART;TZID=UTC:20241123T190000
DTEND;TZID=UTC:20241123T230000
DTSTAMP:20260421T185715
CREATED:20241112T220945Z
LAST-MODIFIED:20241112T220945Z
UID:10002953-1732388400-1732402800@cspacemardaloop.com
SUMMARY:The Alberta Burlesque Rodeo
DESCRIPTION:The Cabaret Company is proud to announce the first Alberta Burlesque Rodeo!\nFeaturing an all star cast of Western Canada’s finest!\nIncluding the 2023 Imperial Burlesque Canada Monarch\, Violette Coquette\nand our headliners\, burlesque legend Lola Frost\, and Montreal icon Miami Minx \nBe part of the energy of this high altitude burlesque celebration highlighting the world class talent of Western Canada! \nNovember 23\nDoors at 7:00PM\nShow begins at 8:00PM\nIn the Studio Theatre at cSPACE Marda Loop*\n1721 29 Ave SW\, Calgary\, AB T2T 6T7\n18+ \nHosted by Best Host in Canada Karla Marx\nFeaturing performances by\nJezebel Sinclair\nAxis D’Evil\nCharlee Queen\nDusty Topps and Scarlet Disdain\nPrairi Cherri\nBea Lissima\nIvy la Fleur\nBtch Sassidy \nTickets available on Showpass\nwww.thecabaretcompany.com\nThank you to our sponsors\, Establishment Brewing and Molson Coors Beverage Company! \nGeneral Admission $30\nUnassigned\, raked theatre style seats \nVIP Cabaret Seating $200\nGround level\, table seating. Four people to each table. Sold by table. VIP tables include an ABR gift bag\, photo with the cast\, and bar service throughout the show. \nFront Row $40\nUnassigned\, ground level\, theatre style seating as close to the stage as you can get! \n*This venue is fully wheelchair accessible with automatic doors\, ramps on all sidewalks\, wheelchair accessible washrooms\, and single level entrance for the theatre. Some general admission seating will be held for wheelchairs and other mobility aids. All Cabaret Seating and Front Row seating is accessible.\nGender neutral washrooms are available. \nAn ASL interpreter will be present for the event\, sponsored by SHADES \nhttps://www.showpass.com/abr
URL:https://cspacemardaloop.com/event/the-alberta-burlesque-rodeo/
LOCATION:cSPACE Marda Loop-  Studio Theatre\, 1721 29th Ave. SW\, Calgary\, AB\, T2T 6T7\, Canada
CATEGORIES:Studio Theatre
ATTACH;FMTTYPE=image/jpeg:https://cspacemardaloop.com/wp-content/uploads/2024/10/cabco_2024_abr_2b_insta-scaled.jpg
ORGANIZER;CN="The Cabaret Company":MAILTO:thecabco.ent@gmail.com
END:VEVENT
END:VCALENDAR