BEGIN:VCALENDAR
VERSION:2.0
PRODID:-//cSPACE Marda Loop - ECPv6.15.20//NONSGML v1.0//EN
CALSCALE:GREGORIAN
METHOD:PUBLISH
X-WR-CALNAME:cSPACE Marda Loop
X-ORIGINAL-URL:https://cspacemardaloop.com
X-WR-CALDESC:Events for cSPACE Marda Loop
REFRESH-INTERVAL;VALUE=DURATION:PT1H
X-Robots-Tag:noindex
X-PUBLISHED-TTL:PT1H
BEGIN:VTIMEZONE
TZID:UTC
BEGIN:STANDARD
TZOFFSETFROM:+0000
TZOFFSETTO:+0000
TZNAME:UTC
DTSTART:20230101T000000
END:STANDARD
END:VTIMEZONE
BEGIN:VEVENT
DTSTART;TZID=UTC:20240926T100000
DTEND;TZID=UTC:20240926T120000
DTSTAMP:20260422T021713
CREATED:20240911T190648Z
LAST-MODIFIED:20251127T171928Z
UID:10002635-1727344800-1727352000@cspacemardaloop.com
SUMMARY:CALL Member Weekly Guitar Jam
DESCRIPTION:Invitation to Calgary Association of Lifelong Learners (CALL) members.\nBring your guitar and a favourite song and join other CALL members for Guitar Jam. Weekly events are held in the CALL room\, Suite #310\, at cSPACE Marda Loop. \nThursdays 10am-12pm. \nTo learn more please email: info@calgarylifelonglearners.ca \nNot yet a CALL member? Now is a great time to join and enjoy a full year of “making music” or joining other Interest Groups at cSPACE Marda Loop. Annual fee $50 — learn more: https://calgarylifelonglearners.ca/Membership
URL:https://cspacemardaloop.com/event/call-member-guitar-jam/2024-09-26/
LOCATION:cSPACE Marda Loop\, 1721 29 Avenue Southwest\, Calgary\, AB\, T2T 6T7\, Canada
CATEGORIES:Suite #310
ATTACH;FMTTYPE=image/jpeg:https://cspacemardaloop.com/wp-content/uploads/2024/09/guitar-jam.jpg
ORGANIZER;CN="Calgary Association of Lifelong Learners":MAILTO:communications@calgarylifelonglearners.ca
END:VEVENT
BEGIN:VEVENT
DTSTART;TZID=UTC:20240926T130000
DTEND;TZID=UTC:20240926T150000
DTSTAMP:20260422T021713
CREATED:20240906T161305Z
LAST-MODIFIED:20240906T161305Z
UID:10002628-1727355600-1727362800@cspacemardaloop.com
SUMMARY:cSPACE Wordfreaks
DESCRIPTION:CALL Members\, if you enjoy word games\, join us to battle wits over creating words with the letters we are dealt.\nNot easy to make a word if you have a fistful of vowels or indeed if you have no vowels! There are some rules to learn but you will have very willing helpers as guides. We have Lots of laughs and some serious debates about whether a word is legitimate. \nWe play every Thursday 1-3 pm in Room 310. If you are not sure\, join us on a Thursday and give it a try. \nRegister on the CALL website.
URL:https://cspacemardaloop.com/event/cspace-wordfreaks/2024-09-26/
LOCATION:cSPACE Marda Loop\, 1721 29 Avenue Southwest\, Calgary\, AB\, T2T 6T7\, Canada
ATTACH;FMTTYPE=image/jpeg:https://cspacemardaloop.com/wp-content/uploads/2024/09/wordfreaks.jpg
ORGANIZER;CN="Calgary Association of Lifelong Learners":MAILTO:communications@calgarylifelonglearners.ca
END:VEVENT
END:VCALENDAR