BEGIN:VCALENDAR
VERSION:2.0
PRODID:-//cSPACE Marda Loop - ECPv6.15.20//NONSGML v1.0//EN
CALSCALE:GREGORIAN
METHOD:PUBLISH
X-ORIGINAL-URL:https://cspacemardaloop.com
X-WR-CALDESC:Events for cSPACE Marda Loop
REFRESH-INTERVAL;VALUE=DURATION:PT1H
X-Robots-Tag:noindex
X-PUBLISHED-TTL:PT1H
BEGIN:VTIMEZONE
TZID:UTC
BEGIN:STANDARD
TZOFFSETFROM:+0000
TZOFFSETTO:+0000
TZNAME:UTC
DTSTART:20220101T000000
END:STANDARD
END:VTIMEZONE
BEGIN:VEVENT
DTSTART;TZID=UTC:20231108T093000
DTEND;TZID=UTC:20231108T123000
DTSTAMP:20260420T071512
CREATED:20231023T190143Z
LAST-MODIFIED:20231023T193956Z
UID:10000204-1699435800-1699446600@cspacemardaloop.com
SUMMARY:Watercolour Painting: 4x4 Cards
DESCRIPTION:For CALL members\nSuite #310\ncSPACE Marda Loop \nWhat to make some cards for Christmas or special occasions?\nCalgary Association of Lifelong Learners (CALL) members register now for this workshop with Helen Berscheid: Art & Fashion Teacher. \nMore information about supplies on the webpage.\nLimited number of participants.
URL:https://cspacemardaloop.com/event/watercolour-painting-4x4-cards/
LOCATION:cSPACE Marda Loop\, 1721 29 Avenue Southwest\, Calgary\, AB\, T2T 6T7\, Canada
ATTACH;FMTTYPE=image/jpeg:https://cspacemardaloop.com/wp-content/uploads/2023/10/watercolour-wallet.jpeg
ORGANIZER;CN="Calgary Association of Lifelong Learners":MAILTO:communications@calgarylifelonglearners.ca
END:VEVENT
END:VCALENDAR