BEGIN:VCALENDAR
VERSION:2.0
PRODID:-//cSPACE Marda Loop - ECPv6.15.20//NONSGML v1.0//EN
CALSCALE:GREGORIAN
METHOD:PUBLISH
X-ORIGINAL-URL:https://cspacemardaloop.com
X-WR-CALDESC:Events for cSPACE Marda Loop
REFRESH-INTERVAL;VALUE=DURATION:PT1H
X-Robots-Tag:noindex
X-PUBLISHED-TTL:PT1H
BEGIN:VTIMEZONE
TZID:UTC
BEGIN:STANDARD
TZOFFSETFROM:+0000
TZOFFSETTO:+0000
TZNAME:UTC
DTSTART:20230101T000000
END:STANDARD
END:VTIMEZONE
BEGIN:VEVENT
DTSTART;TZID=UTC:20240909T100000
DTEND;TZID=UTC:20240909T113000
DTSTAMP:20260421T015831
CREATED:20240906T160518Z
LAST-MODIFIED:20240906T160518Z
UID:10002630-1725876000-1725881400@cspacemardaloop.com
SUMMARY:Buddha\, Body and Brain
DESCRIPTION:The practice and health benefits of Mindfulness Meditation has gained much attention in the last decade in the western world. \nIn this course for CALL members we will experience the health benefits of the meditative practices of “paying attention on purpose\, in the moment\, without judgement”. \nStarting Monday\, September 9th cSPACE Marda Loop\, Room 310. \nLearn more and register on the CALL website.
URL:https://cspacemardaloop.com/event/buddha-body-and-brain-2/
LOCATION:cSPACE Marda Loop\, 1721 29 Avenue Southwest\, Calgary\, AB\, T2T 6T7\, Canada
CATEGORIES:Suite #310
ATTACH;FMTTYPE=image/jpeg:https://cspacemardaloop.com/wp-content/uploads/2024/09/buddha-body-brain.jpg
ORGANIZER;CN="Calgary Association of Lifelong Learners":MAILTO:communications@calgarylifelonglearners.ca
END:VEVENT
BEGIN:VEVENT
DTSTART;TZID=UTC:20240909T151500
DTEND;TZID=UTC:20240909T180000
DTSTAMP:20260421T015831
CREATED:20240906T161545Z
LAST-MODIFIED:20240906T161545Z
UID:10002570-1725894900-1725904800@cspacemardaloop.com
SUMMARY:Intermediate Bridge Club
DESCRIPTION:This friendly CALL bridge group has players at intermediate and advanced skill levels.\nSome meet in person at cSPACE Marda Loop\, while some prefer to meet online using BBO and Zoom.\nCALL Members please register on the website. \nNot a CALL Member? Now is a great time to join. Your annual fee provides access to many Interest Groups and monthly Speaker Events.
URL:https://cspacemardaloop.com/event/intermediate-bridge-club/2024-09-09/
LOCATION:cSPACE Marda Loop\, 1721 29 Avenue Southwest\, Calgary\, AB\, T2T 6T7\, Canada
CATEGORIES:Suite #310
ATTACH;FMTTYPE=image/jpeg:https://cspacemardaloop.com/wp-content/uploads/2024/09/bridge.jpg
ORGANIZER;CN="Calgary Association of Lifelong Learners":MAILTO:communications@calgarylifelonglearners.ca
END:VEVENT
BEGIN:VEVENT
DTSTART;TZID=UTC:20240912T100000
DTEND;TZID=UTC:20240912T120000
DTSTAMP:20260421T015831
CREATED:20240911T190648Z
LAST-MODIFIED:20251127T171928Z
UID:10002632-1726135200-1726142400@cspacemardaloop.com
SUMMARY:CALL Member Weekly Guitar Jam
DESCRIPTION:Invitation to Calgary Association of Lifelong Learners (CALL) members.\nBring your guitar and a favourite song and join other CALL members for Guitar Jam. Weekly events are held in the CALL room\, Suite #310\, at cSPACE Marda Loop. \nThursdays 10am-12pm. \nTo learn more please email: info@calgarylifelonglearners.ca \nNot yet a CALL member? Now is a great time to join and enjoy a full year of “making music” or joining other Interest Groups at cSPACE Marda Loop. Annual fee $50 — learn more: https://calgarylifelonglearners.ca/Membership
URL:https://cspacemardaloop.com/event/call-member-guitar-jam/2024-09-12/
LOCATION:cSPACE Marda Loop\, 1721 29 Avenue Southwest\, Calgary\, AB\, T2T 6T7\, Canada
CATEGORIES:Suite #310
ATTACH;FMTTYPE=image/jpeg:https://cspacemardaloop.com/wp-content/uploads/2024/09/guitar-jam.jpg
ORGANIZER;CN="Calgary Association of Lifelong Learners":MAILTO:communications@calgarylifelonglearners.ca
END:VEVENT
BEGIN:VEVENT
DTSTART;TZID=UTC:20240912T130000
DTEND;TZID=UTC:20240912T150000
DTSTAMP:20260421T015831
CREATED:20240906T161305Z
LAST-MODIFIED:20240906T161305Z
UID:10002626-1726146000-1726153200@cspacemardaloop.com
SUMMARY:cSPACE Wordfreaks
DESCRIPTION:CALL Members\, if you enjoy word games\, join us to battle wits over creating words with the letters we are dealt.\nNot easy to make a word if you have a fistful of vowels or indeed if you have no vowels! There are some rules to learn but you will have very willing helpers as guides. We have Lots of laughs and some serious debates about whether a word is legitimate. \nWe play every Thursday 1-3 pm in Room 310. If you are not sure\, join us on a Thursday and give it a try. \nRegister on the CALL website.
URL:https://cspacemardaloop.com/event/cspace-wordfreaks/2024-09-12/
LOCATION:cSPACE Marda Loop\, 1721 29 Avenue Southwest\, Calgary\, AB\, T2T 6T7\, Canada
ATTACH;FMTTYPE=image/jpeg:https://cspacemardaloop.com/wp-content/uploads/2024/09/wordfreaks.jpg
ORGANIZER;CN="Calgary Association of Lifelong Learners":MAILTO:communications@calgarylifelonglearners.ca
END:VEVENT
BEGIN:VEVENT
DTSTART;TZID=UTC:20240916T151500
DTEND;TZID=UTC:20240916T180000
DTSTAMP:20260421T015831
CREATED:20240906T161545Z
LAST-MODIFIED:20240906T161545Z
UID:10002571-1726499700-1726509600@cspacemardaloop.com
SUMMARY:Intermediate Bridge Club
DESCRIPTION:This friendly CALL bridge group has players at intermediate and advanced skill levels.\nSome meet in person at cSPACE Marda Loop\, while some prefer to meet online using BBO and Zoom.\nCALL Members please register on the website. \nNot a CALL Member? Now is a great time to join. Your annual fee provides access to many Interest Groups and monthly Speaker Events.
URL:https://cspacemardaloop.com/event/intermediate-bridge-club/2024-09-16/
LOCATION:cSPACE Marda Loop\, 1721 29 Avenue Southwest\, Calgary\, AB\, T2T 6T7\, Canada
CATEGORIES:Suite #310
ATTACH;FMTTYPE=image/jpeg:https://cspacemardaloop.com/wp-content/uploads/2024/09/bridge.jpg
ORGANIZER;CN="Calgary Association of Lifelong Learners":MAILTO:communications@calgarylifelonglearners.ca
END:VEVENT
BEGIN:VEVENT
DTSTART;TZID=UTC:20240919T100000
DTEND;TZID=UTC:20240919T120000
DTSTAMP:20260421T015831
CREATED:20240911T190648Z
LAST-MODIFIED:20251127T171928Z
UID:10002634-1726740000-1726747200@cspacemardaloop.com
SUMMARY:CALL Member Weekly Guitar Jam
DESCRIPTION:Invitation to Calgary Association of Lifelong Learners (CALL) members.\nBring your guitar and a favourite song and join other CALL members for Guitar Jam. Weekly events are held in the CALL room\, Suite #310\, at cSPACE Marda Loop. \nThursdays 10am-12pm. \nTo learn more please email: info@calgarylifelonglearners.ca \nNot yet a CALL member? Now is a great time to join and enjoy a full year of “making music” or joining other Interest Groups at cSPACE Marda Loop. Annual fee $50 — learn more: https://calgarylifelonglearners.ca/Membership
URL:https://cspacemardaloop.com/event/call-member-guitar-jam/2024-09-19/
LOCATION:cSPACE Marda Loop\, 1721 29 Avenue Southwest\, Calgary\, AB\, T2T 6T7\, Canada
CATEGORIES:Suite #310
ATTACH;FMTTYPE=image/jpeg:https://cspacemardaloop.com/wp-content/uploads/2024/09/guitar-jam.jpg
ORGANIZER;CN="Calgary Association of Lifelong Learners":MAILTO:communications@calgarylifelonglearners.ca
END:VEVENT
BEGIN:VEVENT
DTSTART;TZID=UTC:20240919T130000
DTEND;TZID=UTC:20240919T150000
DTSTAMP:20260421T015831
CREATED:20240906T161305Z
LAST-MODIFIED:20240906T161305Z
UID:10002627-1726750800-1726758000@cspacemardaloop.com
SUMMARY:cSPACE Wordfreaks
DESCRIPTION:CALL Members\, if you enjoy word games\, join us to battle wits over creating words with the letters we are dealt.\nNot easy to make a word if you have a fistful of vowels or indeed if you have no vowels! There are some rules to learn but you will have very willing helpers as guides. We have Lots of laughs and some serious debates about whether a word is legitimate. \nWe play every Thursday 1-3 pm in Room 310. If you are not sure\, join us on a Thursday and give it a try. \nRegister on the CALL website.
URL:https://cspacemardaloop.com/event/cspace-wordfreaks/2024-09-19/
LOCATION:cSPACE Marda Loop\, 1721 29 Avenue Southwest\, Calgary\, AB\, T2T 6T7\, Canada
ATTACH;FMTTYPE=image/jpeg:https://cspacemardaloop.com/wp-content/uploads/2024/09/wordfreaks.jpg
ORGANIZER;CN="Calgary Association of Lifelong Learners":MAILTO:communications@calgarylifelonglearners.ca
END:VEVENT
BEGIN:VEVENT
DTSTART;TZID=UTC:20240923T151500
DTEND;TZID=UTC:20240923T180000
DTSTAMP:20260421T015831
CREATED:20240906T161545Z
LAST-MODIFIED:20240906T161545Z
UID:10002572-1727104500-1727114400@cspacemardaloop.com
SUMMARY:Intermediate Bridge Club
DESCRIPTION:This friendly CALL bridge group has players at intermediate and advanced skill levels.\nSome meet in person at cSPACE Marda Loop\, while some prefer to meet online using BBO and Zoom.\nCALL Members please register on the website. \nNot a CALL Member? Now is a great time to join. Your annual fee provides access to many Interest Groups and monthly Speaker Events.
URL:https://cspacemardaloop.com/event/intermediate-bridge-club/2024-09-23/
LOCATION:cSPACE Marda Loop\, 1721 29 Avenue Southwest\, Calgary\, AB\, T2T 6T7\, Canada
CATEGORIES:Suite #310
ATTACH;FMTTYPE=image/jpeg:https://cspacemardaloop.com/wp-content/uploads/2024/09/bridge.jpg
ORGANIZER;CN="Calgary Association of Lifelong Learners":MAILTO:communications@calgarylifelonglearners.ca
END:VEVENT
BEGIN:VEVENT
DTSTART;TZID=UTC:20240924T130000
DTEND;TZID=UTC:20240924T150000
DTSTAMP:20260421T015831
CREATED:20240909T225615Z
LAST-MODIFIED:20240909T225626Z
UID:10002631-1727182800-1727190000@cspacemardaloop.com
SUMMARY:CALL: Variety Book Club
DESCRIPTION:As the name suggests\, this CALL Interest Group discusses books from all genres. Check out the reading list for the coming year. \nNot a CALL member? Great time to join for a full year of Interest Groups and monthly Speaker Series to enjoy in-person or online. \nAll CALL (The Calgary Association of Lifelong Learners) programs require a membership ($50/yr). Learn more about memberships here: https://calgarylifelonglearners.ca/Membership \n 
URL:https://cspacemardaloop.com/event/call-variety-book-club-2/
LOCATION:cSPACE Marda Loop\, 1721 29 Avenue Southwest\, Calgary\, AB\, T2T 6T7\, Canada
CATEGORIES:Suite #310
ATTACH;FMTTYPE=image/jpeg:https://cspacemardaloop.com/wp-content/uploads/2024/09/variety-book-club.jpg
ORGANIZER;CN="Calgary Association of Lifelong Learners":MAILTO:communications@calgarylifelonglearners.ca
END:VEVENT
BEGIN:VEVENT
DTSTART;TZID=UTC:20240926T100000
DTEND;TZID=UTC:20240926T120000
DTSTAMP:20260421T015831
CREATED:20240911T190648Z
LAST-MODIFIED:20251127T171928Z
UID:10002635-1727344800-1727352000@cspacemardaloop.com
SUMMARY:CALL Member Weekly Guitar Jam
DESCRIPTION:Invitation to Calgary Association of Lifelong Learners (CALL) members.\nBring your guitar and a favourite song and join other CALL members for Guitar Jam. Weekly events are held in the CALL room\, Suite #310\, at cSPACE Marda Loop. \nThursdays 10am-12pm. \nTo learn more please email: info@calgarylifelonglearners.ca \nNot yet a CALL member? Now is a great time to join and enjoy a full year of “making music” or joining other Interest Groups at cSPACE Marda Loop. Annual fee $50 — learn more: https://calgarylifelonglearners.ca/Membership
URL:https://cspacemardaloop.com/event/call-member-guitar-jam/2024-09-26/
LOCATION:cSPACE Marda Loop\, 1721 29 Avenue Southwest\, Calgary\, AB\, T2T 6T7\, Canada
CATEGORIES:Suite #310
ATTACH;FMTTYPE=image/jpeg:https://cspacemardaloop.com/wp-content/uploads/2024/09/guitar-jam.jpg
ORGANIZER;CN="Calgary Association of Lifelong Learners":MAILTO:communications@calgarylifelonglearners.ca
END:VEVENT
BEGIN:VEVENT
DTSTART;TZID=UTC:20240926T130000
DTEND;TZID=UTC:20240926T150000
DTSTAMP:20260421T015831
CREATED:20240906T161305Z
LAST-MODIFIED:20240906T161305Z
UID:10002628-1727355600-1727362800@cspacemardaloop.com
SUMMARY:cSPACE Wordfreaks
DESCRIPTION:CALL Members\, if you enjoy word games\, join us to battle wits over creating words with the letters we are dealt.\nNot easy to make a word if you have a fistful of vowels or indeed if you have no vowels! There are some rules to learn but you will have very willing helpers as guides. We have Lots of laughs and some serious debates about whether a word is legitimate. \nWe play every Thursday 1-3 pm in Room 310. If you are not sure\, join us on a Thursday and give it a try. \nRegister on the CALL website.
URL:https://cspacemardaloop.com/event/cspace-wordfreaks/2024-09-26/
LOCATION:cSPACE Marda Loop\, 1721 29 Avenue Southwest\, Calgary\, AB\, T2T 6T7\, Canada
ATTACH;FMTTYPE=image/jpeg:https://cspacemardaloop.com/wp-content/uploads/2024/09/wordfreaks.jpg
ORGANIZER;CN="Calgary Association of Lifelong Learners":MAILTO:communications@calgarylifelonglearners.ca
END:VEVENT
BEGIN:VEVENT
DTSTART;TZID=UTC:20240930T151500
DTEND;TZID=UTC:20240930T180000
DTSTAMP:20260421T015831
CREATED:20240906T161545Z
LAST-MODIFIED:20240906T161545Z
UID:10002573-1727709300-1727719200@cspacemardaloop.com
SUMMARY:Intermediate Bridge Club
DESCRIPTION:This friendly CALL bridge group has players at intermediate and advanced skill levels.\nSome meet in person at cSPACE Marda Loop\, while some prefer to meet online using BBO and Zoom.\nCALL Members please register on the website. \nNot a CALL Member? Now is a great time to join. Your annual fee provides access to many Interest Groups and monthly Speaker Events.
URL:https://cspacemardaloop.com/event/intermediate-bridge-club/2024-09-30/
LOCATION:cSPACE Marda Loop\, 1721 29 Avenue Southwest\, Calgary\, AB\, T2T 6T7\, Canada
CATEGORIES:Suite #310
ATTACH;FMTTYPE=image/jpeg:https://cspacemardaloop.com/wp-content/uploads/2024/09/bridge.jpg
ORGANIZER;CN="Calgary Association of Lifelong Learners":MAILTO:communications@calgarylifelonglearners.ca
END:VEVENT
END:VCALENDAR