BEGIN:VCALENDAR
VERSION:2.0
PRODID:-//cSPACE Marda Loop - ECPv6.15.20//NONSGML v1.0//EN
CALSCALE:GREGORIAN
METHOD:PUBLISH
X-WR-CALNAME:cSPACE Marda Loop
X-ORIGINAL-URL:https://cspacemardaloop.com
X-WR-CALDESC:Events for cSPACE Marda Loop
REFRESH-INTERVAL;VALUE=DURATION:PT1H
X-Robots-Tag:noindex
X-PUBLISHED-TTL:PT1H
BEGIN:VTIMEZONE
TZID:UTC
BEGIN:STANDARD
TZOFFSETFROM:+0000
TZOFFSETTO:+0000
TZNAME:UTC
DTSTART:20250101T000000
END:STANDARD
END:VTIMEZONE
BEGIN:VEVENT
DTSTART;TZID=UTC:20260509T140000
DTEND;TZID=UTC:20260509T160000
DTSTAMP:20260426T025234
CREATED:20260425T170719Z
LAST-MODIFIED:20260425T171335Z
UID:10007143-1778335200-1778342400@cspacemardaloop.com
SUMMARY:PERFORMANCE: Dragon: A Vertical City Performance
DESCRIPTION:PERFORMANCE: Dragon: A Vertical City Performance\ncSPACE Marda Loop\nStudio Theatre – Level 1\nMay 9th\, 2026\n2:00 PM \nDragon is an interdisciplinary meditation on the possibilities that lie beyond power. Bringing together three celebrated female artists from the fields of dance\, theatre\, and music\, Dragon explores the complexities of adaptation\, the beauty of maturity\, and the richness of experience when the desire for domination is replaced with the openness of embrace. Ultimately\, Dragon collapses 400 years of embodied discovery and surrender into an immersive hour\, in a sensorial and sensuous attempt to imagine beyond human awareness. \nDoors Open: 1:30 PM \nPerformance: 2:00 PM \nTickets: $20 | $30 | $45 \nLearn More + Buy Tickets: www.newworkscalgary.com/25-26/dragon-a-vertical-city-performance/ \n 
URL:https://cspacemardaloop.com/event/performance-dragon-a-vertical-city-performance/
LOCATION:cSPACE Marda Loop-  Studio Theatre\, 1721 29th Ave. SW\, Calgary\, AB\, T2T 6T7\, Canada
CATEGORIES:Studio Theatre
ATTACH;FMTTYPE=image/jpeg:https://cspacemardaloop.com/wp-content/uploads/2026/04/3.jpg
END:VEVENT
END:VCALENDAR