BEGIN:VCALENDAR
VERSION:2.0
PRODID:-//cSPACE Marda Loop - ECPv6.15.20//NONSGML v1.0//EN
CALSCALE:GREGORIAN
METHOD:PUBLISH
X-WR-CALNAME:cSPACE Marda Loop
X-ORIGINAL-URL:https://cspacemardaloop.com
X-WR-CALDESC:Events for cSPACE Marda Loop
REFRESH-INTERVAL;VALUE=DURATION:PT1H
X-Robots-Tag:noindex
X-PUBLISHED-TTL:PT1H
BEGIN:VTIMEZONE
TZID:UTC
BEGIN:STANDARD
TZOFFSETFROM:+0000
TZOFFSETTO:+0000
TZNAME:UTC
DTSTART:20240101T000000
END:STANDARD
END:VTIMEZONE
BEGIN:VEVENT
DTSTART;TZID=UTC:20250926T193000
DTEND;TZID=UTC:20250926T210000
DTSTAMP:20260419T220914
CREATED:20250904T225236Z
LAST-MODIFIED:20250904T225236Z
UID:10005010-1758915000-1758920400@cspacemardaloop.com
SUMMARY:The Art of Dad: big LITTLE moments
DESCRIPTION:The Art of Dad: big LITTLE moments\nPlease join Jason Thompson for The Art of Dad: big LITTLE moments\, a night of stories and artwork that celebrates the joys and pains of parenting\, while making detours into Godzilla’s eyesight\, the power of Nutella and the art of folding thong underwear. \nFriday\, September 26 \ncSPACE Marda Loop\, Studio Theatre \nDoors @7pm | Show at 7:30pm \nBUY TICKETS\nIt’s the hug you get making dinner when you least expect it. It’s setting your alarm clock at a ridiculous morning hour to sign-up for swim lessons. It’s the joy you feel from watching them learn to tie their shoes\, ride a bike\, and clean the dishes without you asking them to. \nArtist and storyteller Jason Thompson performs his one-man show\, The Art of Dad: big LITTLE moments that celebrates the joys and pains of parenting. Pairing his stories with sketches\, Thompson explores the art of raising a family while making detours into the challenges of folding thong underwear\, Godzilla’s eyesight and the power of Nutella.
URL:https://cspacemardaloop.com/event/the-art-of-dad/
LOCATION:cSPACE Marda Loop-  Studio Theatre\, 1721 29th Ave. SW\, Calgary\, AB\, T2T 6T7\, Canada
CATEGORIES:Studio Theatre
ATTACH;FMTTYPE=image/jpeg:https://cspacemardaloop.com/wp-content/uploads/2025/09/showpasssquare-calgary.jpg
END:VEVENT
END:VCALENDAR