BEGIN:VCALENDAR
VERSION:2.0
PRODID:-//cSPACE Marda Loop - ECPv6.15.20//NONSGML v1.0//EN
CALSCALE:GREGORIAN
METHOD:PUBLISH
X-WR-CALNAME:cSPACE Marda Loop
X-ORIGINAL-URL:https://cspacemardaloop.com
X-WR-CALDESC:Events for cSPACE Marda Loop
REFRESH-INTERVAL;VALUE=DURATION:PT1H
X-Robots-Tag:noindex
X-PUBLISHED-TTL:PT1H
BEGIN:VTIMEZONE
TZID:UTC
BEGIN:STANDARD
TZOFFSETFROM:+0000
TZOFFSETTO:+0000
TZNAME:UTC
DTSTART:20240101T000000
END:STANDARD
END:VTIMEZONE
BEGIN:VEVENT
DTSTART;TZID=UTC:20250806T193000
DTEND;TZID=UTC:20250806T210000
DTSTAMP:20260421T010628
CREATED:20250728T204400Z
LAST-MODIFIED:20250728T204633Z
UID:10004984-1754508600-1754514000@cspacemardaloop.com
SUMMARY:A Journey Through the 70's & 80's: Vocal Group Kiva
DESCRIPTION:A Journey Through the 70s & 80sWith Vocal Group Kiva \ncSPACE Marda LoopStudio TheatreAugust 6\, 2025 @7:30 PM \nJoin us for a musical time machine through the iconic sounds of the 70s and 80s! From flower power to synth pop\, Vocal Group Kiva will bring the decades to life with their favourite arrangements from this unforgettable era of music. \nWhether you’re feeling groovy or nostalgic\, you’ll be tapping your feet and singing along all night long. \nTickets: $25 General Admission \nPurchase tickets here: https://www.brownpapertickets.com/event/6667835
URL:https://cspacemardaloop.com/event/a-journey-through-the-70s-80s-vocal-group-kiva/
LOCATION:cSPACE Marda Loop\, 1721 29 Avenue Southwest\, Calgary\, AB\, T2T 6T7\, Canada
CATEGORIES:Studio Theatre
ATTACH;FMTTYPE=image/jpeg:https://cspacemardaloop.com/wp-content/uploads/2025/07/516889055_1032000712433626_7901323448097863592_n.jpg
END:VEVENT
END:VCALENDAR