BEGIN:VCALENDAR
VERSION:2.0
PRODID:-//cSPACE Marda Loop - ECPv6.15.20//NONSGML v1.0//EN
CALSCALE:GREGORIAN
METHOD:PUBLISH
X-ORIGINAL-URL:https://cspacemardaloop.com
X-WR-CALDESC:Events for cSPACE Marda Loop
REFRESH-INTERVAL;VALUE=DURATION:PT1H
X-Robots-Tag:noindex
X-PUBLISHED-TTL:PT1H
BEGIN:VTIMEZONE
TZID:UTC
BEGIN:STANDARD
TZOFFSETFROM:+0000
TZOFFSETTO:+0000
TZNAME:UTC
DTSTART:20230101T000000
END:STANDARD
END:VTIMEZONE
BEGIN:VEVENT
DTSTART;TZID=UTC:20240609T150000
DTEND;TZID=UTC:20240609T170000
DTSTAMP:20260420T003906
CREATED:20240524T181545Z
LAST-MODIFIED:20240524T181559Z
UID:10001684-1717945200-1717952400@cspacemardaloop.com
SUMMARY:Storyland with the Instrumental Society of Calgary
DESCRIPTION:cSPACE Marda Loop\nStudio Theatre\nSunday\, June 10th\n3:00 pm \nStoryland will take you on a musical journey\, narrated throughout with works written for flute\, viola and piano. Each piece is programmatic in nature\, containing some extramusical meaning\, story\, legend or scenic description\, bringing to life a whole range of feelings and emotions\, from despair to ecstasy. Join us as we bring life to the stories of local living composers\, Jessica MacMann and Arthur Bachmann alongside exquisite works of Grieg\, Schumann\, Debussy and more! \nhttps://www.instrumentalsociety.ca/storyland
URL:https://cspacemardaloop.com/event/storyland-with-the-instrumental-society-of-calgary/
LOCATION:cSPACE Marda Loop-  Studio Theatre\, 1721 29th Ave. SW\, Calgary\, AB\, T2T 6T7\, Canada
CATEGORIES:Studio Theatre
ATTACH;FMTTYPE=image/png:https://cspacemardaloop.com/wp-content/uploads/2024/05/storyland.png
END:VEVENT
END:VCALENDAR