BEGIN:VCALENDAR
VERSION:2.0
PRODID:-//cSPACE Marda Loop - ECPv6.15.20//NONSGML v1.0//EN
CALSCALE:GREGORIAN
METHOD:PUBLISH
X-WR-CALNAME:cSPACE Marda Loop
X-ORIGINAL-URL:https://cspacemardaloop.com
X-WR-CALDESC:Events for cSPACE Marda Loop
REFRESH-INTERVAL;VALUE=DURATION:PT1H
X-Robots-Tag:noindex
X-PUBLISHED-TTL:PT1H
BEGIN:VTIMEZONE
TZID:UTC
BEGIN:STANDARD
TZOFFSETFROM:+0000
TZOFFSETTO:+0000
TZNAME:UTC
DTSTART:20230101T000000
END:STANDARD
END:VTIMEZONE
BEGIN:VEVENT
DTSTART;TZID=UTC:20240315T193000
DTEND;TZID=UTC:20240315T193000
DTSTAMP:20260423T135626
CREATED:20240205T175518Z
LAST-MODIFIED:20240205T175559Z
UID:10000341-1710531000-1710531000@cspacemardaloop.com
SUMMARY:Instrumental Society of Calgary presents: Influences and Improvisations
DESCRIPTION:Our second Friday Night Soiree features the extraordinarily versatile musicians of the Augustine Yates trio! This concert will feature classical compositions by familiar composers such as Poulenc and Chopin\, followed by original jazz pieces and improvisations inspired by each\, demonstrating the malleable nature of musical motifs and how a small inspiration can create an entirely new piece of music. Magic! The program also features original compositions by Augustine Yates. Join us for a night of discovery! \nTICKETS AND MORE INFO HERE. 
URL:https://cspacemardaloop.com/event/influences-and-improvisations/
LOCATION:cSPACE Marda Loop-  Studio Theatre\, 1721 29th Ave. SW\, Calgary\, AB\, T2T 6T7\, Canada
CATEGORIES:Studio Theatre
ATTACH;FMTTYPE=image/png:https://cspacemardaloop.com/wp-content/uploads/2024/02/influences-and-improvisations.png
END:VEVENT
END:VCALENDAR