BEGIN:VCALENDAR
VERSION:2.0
PRODID:-//cSPACE Marda Loop - ECPv6.15.20//NONSGML v1.0//EN
CALSCALE:GREGORIAN
METHOD:PUBLISH
X-ORIGINAL-URL:https://cspacemardaloop.com
X-WR-CALDESC:Events for cSPACE Marda Loop
REFRESH-INTERVAL;VALUE=DURATION:PT1H
X-Robots-Tag:noindex
X-PUBLISHED-TTL:PT1H
BEGIN:VTIMEZONE
TZID:UTC
BEGIN:STANDARD
TZOFFSETFROM:+0000
TZOFFSETTO:+0000
TZNAME:UTC
DTSTART:20220101T000000
END:STANDARD
END:VTIMEZONE
BEGIN:VEVENT
DTSTART;TZID=UTC:20230910T193000
DTEND;TZID=UTC:20230910T210000
DTSTAMP:20260419T234322
CREATED:20230830T160114Z
LAST-MODIFIED:20230830T160114Z
UID:10000151-1694374200-1694379600@cspacemardaloop.com
SUMMARY:The Button of Love - A Cantonese Musical
DESCRIPTION:
URL:https://cspacemardaloop.com/event/the-button-of-love-a-cantonese-musical/2023-09-10/
LOCATION:AB
CATEGORIES:Studio Theatre
ATTACH;FMTTYPE=image/jpeg:https://cspacemardaloop.com/wp-content/uploads/2023/08/button-poster_calgary-printing_r110.jpg
END:VEVENT
END:VCALENDAR