BEGIN:VCALENDAR
VERSION:2.0
PRODID:-//cSPACE Marda Loop - ECPv6.15.20//NONSGML v1.0//EN
CALSCALE:GREGORIAN
METHOD:PUBLISH
X-WR-CALNAME:cSPACE Marda Loop
X-ORIGINAL-URL:https://cspacemardaloop.com
X-WR-CALDESC:Events for cSPACE Marda Loop
REFRESH-INTERVAL;VALUE=DURATION:PT1H
X-Robots-Tag:noindex
X-PUBLISHED-TTL:PT1H
BEGIN:VTIMEZONE
TZID:UTC
BEGIN:STANDARD
TZOFFSETFROM:+0000
TZOFFSETTO:+0000
TZNAME:UTC
DTSTART:20220101T000000
END:STANDARD
END:VTIMEZONE
BEGIN:VEVENT
DTSTART;TZID=UTC:20230627T190000
DTEND;TZID=UTC:20230627T210000
DTSTAMP:20260419T145950
CREATED:20230529T165338Z
LAST-MODIFIED:20230619T222156Z
UID:10000029-1687892400-1687899600@cspacemardaloop.com
SUMMARY:You're Invited to cSPACE's Report to Community!
DESCRIPTION:You’re invited to our highly anticipated Report to Community event hosted by cSPACE Projects! \nJoin us as we celebrate the incredible achievements and impact of our creative initiatives. Be the first to hear about our latest projects\, collaborations\, and the remarkable stories of artists\, innovators\, and community builders who have thrived within our spaces. Engage in dynamic discussions\, connect with like-minded individuals\, and witness the transformative power of art and culture. Together\, let’s reflect on our collective journey and envision an even brighter future.  \nMark your calendars for an evening of inspiration\, connections\, and shared successes at the cSPACE Projects Report to Community. \nFeaturing artist speakers\, panel discussion\, live performances and more! \nGuests artists: \n\nWakefield Brewster\, Poet Laureate\nPriscilla Cherry\, The Oratory\nBethel Afework\, Alcove Arts  Centre\nDwight Farahat\, Tribe Artist Society\nMemphis and the Grand\nChubby Cree\n\nAdmittance is free! Reserve your seat at the link below.
URL:https://cspacemardaloop.com/event/youre-invited-to-our-report-to-community/
LOCATION:cSPACE Marda Loop-  Studio Theatre\, 1721 29th Ave. SW\, Calgary\, AB\, T2T 6T7\, Canada
CATEGORIES:Studio Theatre
ATTACH;FMTTYPE=image/jpeg:https://cspacemardaloop.com/wp-content/uploads/2023/05/cspace-creatives.jpg
END:VEVENT
END:VCALENDAR