BEGIN:VCALENDAR
VERSION:2.0
PRODID:-//cSPACE Marda Loop - ECPv6.15.20//NONSGML v1.0//EN
CALSCALE:GREGORIAN
METHOD:PUBLISH
X-ORIGINAL-URL:https://cspacemardaloop.com
X-WR-CALDESC:Events for cSPACE Marda Loop
REFRESH-INTERVAL;VALUE=DURATION:PT1H
X-Robots-Tag:noindex
X-PUBLISHED-TTL:PT1H
BEGIN:VTIMEZONE
TZID:America/Edmonton
BEGIN:DAYLIGHT
TZOFFSETFROM:-0700
TZOFFSETTO:-0600
TZNAME:MDT
DTSTART:20220313T090000
END:DAYLIGHT
BEGIN:STANDARD
TZOFFSETFROM:-0600
TZOFFSETTO:-0700
TZNAME:MST
DTSTART:20221106T080000
END:STANDARD
BEGIN:DAYLIGHT
TZOFFSETFROM:-0700
TZOFFSETTO:-0600
TZNAME:MDT
DTSTART:20230312T090000
END:DAYLIGHT
BEGIN:STANDARD
TZOFFSETFROM:-0600
TZOFFSETTO:-0700
TZNAME:MST
DTSTART:20231105T080000
END:STANDARD
BEGIN:DAYLIGHT
TZOFFSETFROM:-0700
TZOFFSETTO:-0600
TZNAME:MDT
DTSTART:20240310T090000
END:DAYLIGHT
BEGIN:STANDARD
TZOFFSETFROM:-0600
TZOFFSETTO:-0700
TZNAME:MST
DTSTART:20241103T080000
END:STANDARD
END:VTIMEZONE
BEGIN:VEVENT
DTSTART;TZID=America/Edmonton:20231105T123000
DTEND;TZID=America/Edmonton:20231105T153000
DTSTAMP:20260421T231446
CREATED:20231030T152930Z
LAST-MODIFIED:20231030T153259Z
UID:10000210-1699187400-1699198200@cspacemardaloop.com
SUMMARY:In River Cardinal - Book Launch
DESCRIPTION:Join us for the exciting book launch of “In River Cardinal\,” where you can dive into a captivating world of mystery and adventure.\n\n\nCome get a signed copy of Tony Del Degan’s new horror novella In River Cardinal. Expect food and drink\, an author Q&A\, and more. \nWhat’s this book? Check here: bit.ly/cardinalmedicine \nIn River Cardinal is a psychological thriller/horror novel inspired by the brutal and imaginative worlds of Silent Hill\, Twin Peaks\, Jacob’s Ladder\, and Stephen King. \nSynopsis: \nR-Aspecticyn an experimental drug unlocks a dormant part of the human brain suppressed by evolution. It allows one to see what the world actually looks like. Cardinal Medicine started pumping it into their special Operators to send them on exploratory missions in the fourth dimensional Red Runnel. One of these Operators wouldn’t report back. Now Cardinal wants him dead and there’s one man perfect for the job–whether he knows it or not… \n— \nOne lucky attendee will win a gift bag including a signed copy of the book custom bookmarks and stickers themed treats and more. Enter the in-person draw for a chance to win.
URL:https://cspacemardaloop.com/event/in-river-cardinal-book-launch/
CATEGORIES:RGO Treehouse South
ATTACH;FMTTYPE=image/jpeg:https://cspacemardaloop.com/wp-content/uploads/2023/10/5b0eb527f893e7aebd2e54b0516c2945-1.jpg
END:VEVENT
BEGIN:VEVENT
DTSTART;TZID=America/Edmonton:20231126T013000
DTEND;TZID=America/Edmonton:20231126T030000
DTSTAMP:20260421T231446
CREATED:20231124T223130Z
LAST-MODIFIED:20231124T230559Z
UID:10000294-1700962200-1700967600@cspacemardaloop.com
SUMMARY:Calligratherapy: Yoga for the brain
DESCRIPTION:In the RGO Treehouse South\ncSPACE Marda Loop\nGet ready to unwind and unleash your creativity at Calligratherapy: Yoga for the brain. No experience necessary\, all materials provided. \nCalligratherapy: Yoga for the brain \nJoin us for an immersive and rejuvenating experience in cSPACE Marda Loop in Calgary. Calligratherapy combines the art of calligraphy with the therapeutic benefits of yoga for your brain. Discover the meditative power of strokes and curves as you create beautiful letterforms. This in-person event is perfect for both beginners and experienced calligraphy enthusiasts. Unleash your creativity\, relax your mind\, and find inner peace through the harmony of ink and paper. Don’t miss this unique opportunity to leave with your own art. Great experience for couples\, friends and families. Reserve your spot now!
URL:https://cspacemardaloop.com/event/calligratherapy-yoga-for-the-brain/
LOCATION:cSPACE Marda Loop\, 1721 29 Avenue Southwest\, Calgary\, AB\, T2T 6T7\, Canada
CATEGORIES:RGO Treehouse South
ATTACH;FMTTYPE=image/jpeg:https://cspacemardaloop.com/wp-content/uploads/2023/11/f6c81da9e8446c13dbe187895cbcc77d-1.jpg
END:VEVENT
END:VCALENDAR