BEGIN:VCALENDAR
VERSION:2.0
PRODID:-//cSPACE Marda Loop - ECPv6.15.20//NONSGML v1.0//EN
CALSCALE:GREGORIAN
METHOD:PUBLISH
X-ORIGINAL-URL:https://cspacemardaloop.com
X-WR-CALDESC:Events for cSPACE Marda Loop
REFRESH-INTERVAL;VALUE=DURATION:PT1H
X-Robots-Tag:noindex
X-PUBLISHED-TTL:PT1H
BEGIN:VTIMEZONE
TZID:UTC
BEGIN:STANDARD
TZOFFSETFROM:+0000
TZOFFSETTO:+0000
TZNAME:UTC
DTSTART:20250101T000000
END:STANDARD
END:VTIMEZONE
BEGIN:VEVENT
DTSTART;TZID=UTC:20260606T100000
DTEND;TZID=UTC:20260606T150000
DTSTAMP:20260421T014553
CREATED:20260420T162851Z
LAST-MODIFIED:20260420T162851Z
UID:10007066-1780740000-1780758000@cspacemardaloop.com
SUMMARY:Event: Treasure or Trinkets - A Jewellery Identification Event by Alberta Craft Council
DESCRIPTION:Treasure or Trinkets – A Jewellery Identification Event by Alberta Craft Council\ncSPACE MardaLoop\nRGO Treehouse – Level 4\nJune 6\, 2026\n10:00 AM – 3:00 PM | Multiple time slots \nBook your time slots here \n\nThis popular jewelry identification returns at Alberta Craft Council! \n\n\nBring your jewellery to be cleaned and assessed by a panel of expert jewellers \n\n\n\nHave you ever found yourself curious about a piece of jewellery you’ve inherited? Wondering if it’s genuine silver or gold? Is that gleaming gem a real stone or just cut glass? Do you think your vintage treasure might hold some monetary value? And what stories could it tell from the time it was made? \nJoin us for an exciting event where you can bring your cherished jewellery pieces for a thorough cleaning and assessment by a talented panel of expert jewellers! This is your chance to share the fascinating history behind your items and hopefully learn about the materials and techniques that were used to create them. \nIn a lively “Antiques Road Show” style atmosphere\, you’ll witness experts discussing and evaluating your treasures while you sit back and soak in the knowledge. Hear about the hidden gems tucked away in the jewelry boxes of Calgary – it’s bound to spark your curiosity! \nYou can bring your pieces for identification\, with a small donation of $10 for each item. Remember\, this is all in good fun! While no official appraisals will be provided\, we will guide you on how to obtain those services and connect you with jewellers who specialize in redesigning vintage pieces. \nGet ready to meet our wonderful lineup of participating jewellers: Nanz Allund\, Charles Lewton-Brain\, Linda Chow\, Sarabeth Carnat\, Milt Fischbein\, Luke Wieser\, Barb Temple\, John Smith Jones\, Breanne Avendar\, and Jennea Frischke and others. \nCome and discover the hidden treasures waiting for you! \nThis event is sponsored by: \n\nAlberta University of the Arts\nKen’s Gems\ncSPACE Projects\n\n\n\n\n\n \n\n\n\n\n 
URL:https://cspacemardaloop.com/event/event-treasure-or-trinkets-a-jewellery-identification-event-by-alberta-craft-council/
LOCATION:cSPACE Marda Loop – RGO Treehouse\, Suite #475
CATEGORIES:RGO Treehouse Full
ATTACH;FMTTYPE=image/png:https://cspacemardaloop.com/wp-content/uploads/2026/04/copy-of-events-calendar-featured-image_template-6.png
END:VEVENT
END:VCALENDAR