BEGIN:VCALENDAR
VERSION:2.0
PRODID:-//cSPACE Marda Loop - ECPv6.15.20//NONSGML v1.0//EN
CALSCALE:GREGORIAN
METHOD:PUBLISH
X-ORIGINAL-URL:https://cspacemardaloop.com
X-WR-CALDESC:Events for cSPACE Marda Loop
REFRESH-INTERVAL;VALUE=DURATION:PT1H
X-Robots-Tag:noindex
X-PUBLISHED-TTL:PT1H
BEGIN:VTIMEZONE
TZID:UTC
BEGIN:STANDARD
TZOFFSETFROM:+0000
TZOFFSETTO:+0000
TZNAME:UTC
DTSTART:20250101T000000
END:STANDARD
END:VTIMEZONE
BEGIN:VEVENT
DTSTART;TZID=UTC:20260306T190000
DTEND;TZID=UTC:20260306T200000
DTSTAMP:20260420T000316
CREATED:20260226T190343Z
LAST-MODIFIED:20260226T190343Z
UID:10007037-1772823600-1772827200@cspacemardaloop.com
SUMMARY:EVENT: An Evening of Hope - Stories from Korah\, Ethiopia
DESCRIPTION:Event: An Evening of Hope – Stories from Korah\, Ethiopia\ncSPACE Marda Loop\nLevel 4 – RGO Treehouse\nMarch 6\, 2026\n7:00 PM \nFREE RSVP \n  \nA casual evening of inspiring stories from the work of Hope for Korah\, bringing hope and a brighter future to vulnerable children and families in Korah\, an urban slum near the city garbage dump in Addis Ababa\, Ethiopia. \nCome meet the resilient children and families living there\, hear how lives are being transformed\, and discover how you can be part of bringing lasting hope and change. \n  \n 
URL:https://cspacemardaloop.com/event/event-an-evening-of-hope-stories-from-korah-ethiopia/
LOCATION:cSPACE Marda Loop\, RGO Treehouse\, 1721 29 Avenue Southwest\, Suite 475\, Calgary\, AB\, T2T 6T7\, Canada
CATEGORIES:RGO Treehouse Full
ATTACH;FMTTYPE=image/png:https://cspacemardaloop.com/wp-content/uploads/2026/02/copy-of-astalris-quartet-march-events-calendar-featured-image-1.png
END:VEVENT
END:VCALENDAR