BEGIN:VCALENDAR
VERSION:2.0
PRODID:-//cSPACE Marda Loop - ECPv6.15.20//NONSGML v1.0//EN
CALSCALE:GREGORIAN
METHOD:PUBLISH
X-ORIGINAL-URL:https://cspacemardaloop.com
X-WR-CALDESC:Events for cSPACE Marda Loop
REFRESH-INTERVAL;VALUE=DURATION:PT1H
X-Robots-Tag:noindex
X-PUBLISHED-TTL:PT1H
BEGIN:VTIMEZONE
TZID:America/Edmonton
BEGIN:DAYLIGHT
TZOFFSETFROM:-0700
TZOFFSETTO:-0600
TZNAME:MDT
DTSTART:20230312T090000
END:DAYLIGHT
BEGIN:STANDARD
TZOFFSETFROM:-0600
TZOFFSETTO:-0700
TZNAME:MST
DTSTART:20231105T080000
END:STANDARD
BEGIN:DAYLIGHT
TZOFFSETFROM:-0700
TZOFFSETTO:-0600
TZNAME:MDT
DTSTART:20240310T090000
END:DAYLIGHT
BEGIN:STANDARD
TZOFFSETFROM:-0600
TZOFFSETTO:-0700
TZNAME:MST
DTSTART:20241103T080000
END:STANDARD
BEGIN:DAYLIGHT
TZOFFSETFROM:-0700
TZOFFSETTO:-0600
TZNAME:MDT
DTSTART:20250309T090000
END:DAYLIGHT
BEGIN:STANDARD
TZOFFSETFROM:-0600
TZOFFSETTO:-0700
TZNAME:MST
DTSTART:20251102T080000
END:STANDARD
END:VTIMEZONE
BEGIN:VEVENT
DTSTART;TZID=America/Edmonton:20241124T090000
DTEND;TZID=America/Edmonton:20241124T180000
DTSTAMP:20260419T155241
CREATED:20241112T183357Z
LAST-MODIFIED:20241113T195046Z
UID:10002961-1732438800-1732471200@cspacemardaloop.com
SUMMARY:Finding your way with AI: Calgary
DESCRIPTION:cSPACE Marda Loop\nRGO Treehouse (4th Floor) \nA 1-day crash course for artists and creators worried about being left behind (Calgary\, AB)\n“Finding Your Way with AI” is a 1-day workshop being delivered across Canada. It is designed to support creators and arts administrators who feel anxious about the rapid integration of AI into artistic practices. “Finding Your Way with AI” aims to demystify AI and help participants discover how they can harness and respond to this technology to enhance their operational\, communication\, and creative processes. \nThe full-day workshop is structured to encourage a deep and thoughtful exploration of AI’s role in artistic practice\, emphasizing practical\, real-world applications. \nAt UKAI Projects\, our broader mission is to question dominant narratives and explore alternative ways of understanding and interacting with the world. By offering this series of workshops\, we aim to equip artists with the tools to navigate the evolving landscape of AI in a way that aligns with their idiosyncratic practices and resists the homogenizing tendencies of centralized technological control . \nCalgary Workshop Series Schedule \nFinding your Way with AI: November 24\, 2024\nAI Art Intensive: November 25\, 2024 \nParticipation Fee: \n$35 for one day \nAcknowledgement: UKAI Project’s nation-wide AI programming is made possible through the support of the Canada Council for the Arts. \nLearning Outcomes:\nDevelop AI Literacy: \n\nParticipants will gain a foundational understanding of AI\, including its basic functions\, types\, and applications in creative fields.\n\nExplore AI Applications in the Arts: \n\nRecognize real-world uses of AI in creative processes\, such as storytelling\, visual generation\, and audience engagement\, and learn how to incorporate these into their practices.\n\nAssess the Cultural Impact of AI: \n\nAnalyze how AI influences culture and artistic expression\, including challenges like homogenization\, algorithmic bias\, and ethical concerns.\n\nIdentify AI Tools for Operational Efficiency: \n\nLearn to use specific AI tools and platforms for operational\, communication\, and creative processes that suit their unique practices.\n\nCultivate Critical Awareness: \n\nReflect on the values driving technological development\, and consider alternative\, human-centered approaches to AI integration.\n\nPromote Sustainable and Inclusive AI Practices: \n\nUnderstand environmental and ethical implications of AI and discuss sustainable\, inclusive adoption strategies for the arts sector.
URL:https://cspacemardaloop.com/event/finding-your-way-with-ai-calgary/
LOCATION:cSPACE Marda Loop\, 1721 29 Avenue Southwest\, Calgary\, AB\, T2T 6T7\, Canada
CATEGORIES:RGO Treehouse Full
ATTACH;FMTTYPE=image/jpeg:https://cspacemardaloop.com/wp-content/uploads/2024/11/16ee110a42f19052c581598d32bf7f27.jpg
END:VEVENT
END:VCALENDAR