BEGIN:VCALENDAR
VERSION:2.0
PRODID:-//cSPACE Marda Loop - ECPv6.15.20//NONSGML v1.0//EN
CALSCALE:GREGORIAN
METHOD:PUBLISH
X-ORIGINAL-URL:https://cspacemardaloop.com
X-WR-CALDESC:Events for cSPACE Marda Loop
REFRESH-INTERVAL;VALUE=DURATION:PT1H
X-Robots-Tag:noindex
X-PUBLISHED-TTL:PT1H
BEGIN:VTIMEZONE
TZID:UTC
BEGIN:STANDARD
TZOFFSETFROM:+0000
TZOFFSETTO:+0000
TZNAME:UTC
DTSTART:20220101T000000
END:STANDARD
END:VTIMEZONE
BEGIN:VTIMEZONE
TZID:America/Edmonton
BEGIN:DAYLIGHT
TZOFFSETFROM:-0700
TZOFFSETTO:-0600
TZNAME:MDT
DTSTART:20220313T090000
END:DAYLIGHT
BEGIN:STANDARD
TZOFFSETFROM:-0600
TZOFFSETTO:-0700
TZNAME:MST
DTSTART:20221106T080000
END:STANDARD
BEGIN:DAYLIGHT
TZOFFSETFROM:-0700
TZOFFSETTO:-0600
TZNAME:MDT
DTSTART:20230312T090000
END:DAYLIGHT
BEGIN:STANDARD
TZOFFSETFROM:-0600
TZOFFSETTO:-0700
TZNAME:MST
DTSTART:20231105T080000
END:STANDARD
BEGIN:DAYLIGHT
TZOFFSETFROM:-0700
TZOFFSETTO:-0600
TZNAME:MDT
DTSTART:20240310T090000
END:DAYLIGHT
BEGIN:STANDARD
TZOFFSETFROM:-0600
TZOFFSETTO:-0700
TZNAME:MST
DTSTART:20241103T080000
END:STANDARD
BEGIN:DAYLIGHT
TZOFFSETFROM:-0700
TZOFFSETTO:-0600
TZNAME:MDT
DTSTART:20250309T090000
END:DAYLIGHT
BEGIN:STANDARD
TZOFFSETFROM:-0600
TZOFFSETTO:-0700
TZNAME:MST
DTSTART:20251102T080000
END:STANDARD
END:VTIMEZONE
BEGIN:VEVENT
DTSTART;VALUE=DATE:20250104
DTEND;VALUE=DATE:20250202
DTSTAMP:20260425T130755
CREATED:20241224T180136Z
LAST-MODIFIED:20241224T204319Z
UID:10002984-1735948800-1738454399@cspacemardaloop.com
SUMMARY:Exhibition: Yenny Foulston's The Sixteen
DESCRIPTION:cSPACE Marda Loop\nGallery Level 4\nJanuary 4-Feb 1 \nArtist Statement: Yenny Foulston\n“My name Yenny Foulston (pronounced Jenny)\, I am the founder and the photographer of Valeca Studios. My photography concentrates on natural landscapes and human architecture. I have a  landscape photography series called “The Sixteen\,” where I feature different landmarks of Alberta and different cities around the world. \nAs a photographer I am drawn to the beauty of simple images\, and I am always inspired by beautiful light. Photograph gives me the option to document what I see and what I feel. This is how I personally tell stories\, preserve memories\, and capture a moment. \nAdditionally\, I do portrait photography\, where I mainly focus on headshots\, couples and people who want to bring their personal brands to a different level.”
URL:https://cspacemardaloop.com/event/exhibition-yenny-foulstons-the-sixteen/
LOCATION:cSPACE Marda Loop\, 1721 29 Avenue Southwest\, Calgary\, AB\, T2T 6T7\, Canada
CATEGORIES:Gallery Level 4
ATTACH;FMTTYPE=image/jpeg:https://cspacemardaloop.com/wp-content/uploads/2024/12/yennyfoulston-e1735063287945.jpeg
END:VEVENT
BEGIN:VEVENT
DTSTART;VALUE=DATE:20241202
DTEND;VALUE=DATE:20241228
DTSTAMP:20260425T130755
CREATED:20241112T180450Z
LAST-MODIFIED:20241202T200004Z
UID:10002960-1733097600-1735343999@cspacemardaloop.com
SUMMARY:The Learn Photography Canada Photographic Art Exhibition & Sale
DESCRIPTION:cSPACE Marda Loop\nLevel 3 Gallery\nReception Dec 2 from 5pm-8pm\nExhibition runs until Jan 4\, 2025 \nCome see some awesome photographic art at the Learn Photography Canada Photographic Art Exhibition & Sale! Find the perfect canvas for you!\n\n\nThis exhibition highlights the talents of Learn Photography Canada students across a vast array of genres from incredible Landscapes\, intriguing Street Photography shots\, very artistic Intentional Camera Movement images and awe striking Wildlife photography presented on an array of mediums from metal to canvas. Visit the fourth floor of CSPACE Marda Loop and give yourself some time to enjoy the art you’ll see! We are so pleased to showcase the work of our students. Admisson is free. If you see a piece you love\, you can purchase it and take it home!
URL:https://cspacemardaloop.com/event/the-learn-photography-canada-photographic-art-exhibition-sale/
LOCATION:cSPACE Marda Loop\, 1721 29 Avenue Southwest\, Calgary\, AB\, T2T 6T7\, Canada
CATEGORIES:Gallery Level 4
ATTACH;FMTTYPE=image/jpeg:https://cspacemardaloop.com/wp-content/uploads/2024/11/1178c94de490314a6b338a06f6fe0673.jpg
END:VEVENT
BEGIN:VEVENT
DTSTART;TZID=UTC:20241109T100000
DTEND;TZID=UTC:20241109T160000
DTSTAMP:20260425T130755
CREATED:20241029T183956Z
LAST-MODIFIED:20241029T184037Z
UID:10002952-1731146400-1731168000@cspacemardaloop.com
SUMMARY:The Holiday Market and Snow White
DESCRIPTION:🎄 Join Us for an Indoor Holiday Arts & Crafts Market! 🎄\nPlus start a new family tradition with Quest Theatre’s family fun show\, Snow White!\nGet into the holiday spirit at cSPACE Marda Loop on November 9th\nMarket Hours: 10am to 4pm\nQuest Theatre presents Snow White @ 10am and 1pm \nDiscover a festive scene filled with unique\, handmade creations from talented local artists and makers. From stunning paintings and delightful jewelry to cozy holiday décor\, there’s something for everyone on your gift list! Bring your family and friends to celebrate the season in a vibrant\, community-centered atmosphere. Don’t miss out on this opportunity to find one-of-a-kind treasures and support local artisans! \nAdding to the festive spirit\, Quest Theatre will present two performances of their currently touring family show\, Snow White\, at 10am and 1pm. Tickets for this delightful Theatre for Young Audiences production are available by advance booking. \nBook tickets/more info here: https://www.questtheatre.org/snow-white#public
URL:https://cspacemardaloop.com/event/the-holiday-market-and-snow-white/
LOCATION:cSPACE Marda Loop\, 1721 29 Avenue Southwest\, Calgary\, AB\, T2T 6T7\, Canada
CATEGORIES:Gallery Level 2,Gallery Level 3,Gallery Level 4,Hallway Galleries,Studio Theatre
ATTACH;FMTTYPE=image/jpeg:https://cspacemardaloop.com/wp-content/uploads/2024/10/snow-white-market.jpg
ORGANIZER;CN="cSPACE Marda Loop":MAILTO:info@cspaceprojects.com
END:VEVENT
BEGIN:VEVENT
DTSTART;TZID=UTC:20241107T160000
DTEND;TZID=UTC:20241107T200000
DTSTAMP:20260425T130755
CREATED:20241010T195707Z
LAST-MODIFIED:20241010T200343Z
UID:10002946-1730995200-1731009600@cspacemardaloop.com
SUMMARY:Archive of Colours Artist Reception
DESCRIPTION:cSPACE Marda Loop\nGallery Level 4 \nArtist Reception\nNovember 7th\n4pm-8pm \nJoin us for a vibrant journey through art at the “Archive of Colours” exhibition\, showcasing the stunning works of artist Daniel Culcea.\nDon’t miss the chance to meet Daniel Culcea in person during our Meet the Artist Evening on November 7th\, 2024\, from 4:00 PM to 8:00 PM. Engage with the artist\, learn about his creative process\, and experience the vivid stories behind each piece. \nStep into a world of colour and inspiration—mark your calendars for this unique celebration of art! We look forward to seeing you there!
URL:https://cspacemardaloop.com/event/archive-of-colours-artist-reception/
LOCATION:cSPACE Marda Loop\, 1721 29 Avenue Southwest\, Calgary\, AB\, T2T 6T7\, Canada
CATEGORIES:Gallery Level 4
ATTACH;FMTTYPE=image/jpeg:https://cspacemardaloop.com/wp-content/uploads/2024/10/danielart-copy.jpeg
END:VEVENT
BEGIN:VEVENT
DTSTART;VALUE=DATE:20241104
DTEND;VALUE=DATE:20241201
DTSTAMP:20260425T130755
CREATED:20241010T195457Z
LAST-MODIFIED:20241028T222533Z
UID:10002945-1730678400-1733011199@cspacemardaloop.com
SUMMARY:Archive of Colours Exhibition
DESCRIPTION:cSPACE Marda Loop\nGallery Level 4\n1721 29 Ave. SW\, Calgary\nNovember 4-30\, 2024 \nJoin us for a vibrant journey through art at the “Archive of Colours” exhibition\, showcasing the stunning works of artist Daniel Culcea.\nDon’t miss the chance to meet Daniel Culcea in person during our Meet the Artist Evening on November 7th\, 2024\, from 4:00 PM to 8:00 PM. Engage with the artist\, learn about his creative process\, and experience the vivid stories behind each piece. \nStep into a world of colour and inspiration—mark your calendars for this unique celebration of art! We look forward to seeing you there!
URL:https://cspacemardaloop.com/event/archive-of-colours/
LOCATION:cSPACE Marda Loop\, 1721 29 Avenue Southwest\, Calgary\, AB\, T2T 6T7\, Canada
CATEGORIES:Gallery Level 4
ATTACH;FMTTYPE=image/jpeg:https://cspacemardaloop.com/wp-content/uploads/2024/10/danielart-copy.jpeg
END:VEVENT
BEGIN:VEVENT
DTSTART;TZID=UTC:20241019T160000
DTEND;TZID=UTC:20241019T193000
DTSTAMP:20260425T130755
CREATED:20240918T165614Z
LAST-MODIFIED:20240918T170239Z
UID:10002922-1729353600-1729366200@cspacemardaloop.com
SUMMARY:Chrysalis 14th Annual Art Reception
DESCRIPTION:cSPACE Marda Loop\nLevel 4 Hallway Gallery (1721 29 Avenue SW\, Calgary) \nChrysalis 14th Annual Art Exhibition: Group Show\nExhibition Dates: October 1- October 31\, 2023 \nReception Date: October 19\, 2023\nReception Time: 4 p.m. to 7:30 p.m.\nReception Location: Level 4 RGO Treehouse \nNo registration required; open door; FREE! \nAbout Chrysalis \nChrysalis provides personalized services to assist individuals with disabilities achieve their employment\, volunteer and recreation goals.
URL:https://cspacemardaloop.com/event/chrysalis-14th-annual-art-reception/
LOCATION:cSPACE Marda Loop\, 1721 29 Avenue Southwest\, Calgary\, AB\, T2T 6T7\, Canada
CATEGORIES:Gallery Level 4
ATTACH;FMTTYPE=image/jpeg:https://cspacemardaloop.com/wp-content/uploads/2024/09/chrysalis-14th-annual-art-show-invite.jpg
END:VEVENT
BEGIN:VEVENT
DTSTART;VALUE=DATE:20241001
DTEND;VALUE=DATE:20241101
DTSTAMP:20260425T130755
CREATED:20240918T165658Z
LAST-MODIFIED:20240918T165658Z
UID:10002924-1727740800-1730419199@cspacemardaloop.com
SUMMARY:Chrysalis 14th Annual Art Exhibition
DESCRIPTION:cSPACE Marda Loop\nLevel 4 Hallway Gallery (1721 29 Avenue SW\, Calgary) \nChrysalis 14th Annual Art Exhibition: Group Show\nExhibition Dates: October 1- October 31\, 2023 \nReception Date: October 19\, 2023\nReception Time: 4 p.m. to 7:30 p.m.\nReception Location: Level 4 RGO Treehouse \nNo registration required; open door; FREE! \nAbout Chrysalis \nChrysalis provides personalized services to assist individuals with disabilities achieve their employment\, volunteer and recreation goals.
URL:https://cspacemardaloop.com/event/chrysalis-14th-annual-art-exhibition/
LOCATION:cSPACE Marda Loop\, 1721 29 Avenue Southwest\, Calgary\, AB\, T2T 6T7\, Canada
CATEGORIES:Gallery Level 4
ATTACH;FMTTYPE=image/jpeg:https://cspacemardaloop.com/wp-content/uploads/2024/09/chrysalis-14th-annual-art-show-invite.jpg
END:VEVENT
BEGIN:VEVENT
DTSTART;VALUE=DATE:20240715
DTEND;VALUE=DATE:20240728
DTSTAMP:20260425T130755
CREATED:20240607T165744Z
LAST-MODIFIED:20240607T165744Z
UID:10002430-1721001600-1722124799@cspacemardaloop.com
SUMMARY:Sonoma Art Studio Exhibition
DESCRIPTION:cSPACE Marda Loop\nLevel 4 Gallery + Cupola\nJuly 15-27\nOpens Monday July 15th at 5pm\nRunning daily 8am-8pm (except Sundays) until Saturday July 27th at 7pm \nMon Atelier:\nKorean young artists living in Calgary are coming together for an exhibition. As a professional Korean artist active in both Canada and Korea\, I have had the pleasure of time many aspiring artists here in Calgary. Through painting and working with them\, we have accumulated a collection of excellent works. We are now hosting an exhibition at cSPACE to showcase these pieces. I hope to introduce their passionate world of art to many people and inspire and motivate these young artists by sharing and appreciating their work.
URL:https://cspacemardaloop.com/event/sonoma-art-studio-exhibition/
CATEGORIES:Gallery Level 4,Level 4 Cupola Gallery
ATTACH;FMTTYPE=image/jpeg:https://cspacemardaloop.com/wp-content/uploads/2024/06/2024.07.15-07.29-sonoma-poster-websize.jpg
END:VEVENT
BEGIN:VEVENT
DTSTART;VALUE=DATE:20240618
DTEND;VALUE=DATE:20240630
DTSTAMP:20260425T130755
CREATED:20240524T183343Z
LAST-MODIFIED:20240524T183357Z
UID:10001685-1718668800-1719705599@cspacemardaloop.com
SUMMARY:PUSH 2024: Emerging Artists Exhibition
DESCRIPTION:cSPACE Marda Loop\nLevel 4 and Cupola Galleries\nJune 18-29th \nArtist Reception June 20th\, 5-8pm \nExplore the vibrant artworks from the University of Calgary at the PUSH 2024: Emerging Artists’ Exhibition! Join us for our opening reception on June 20th from 5:00 to 8:00 PM\, where you’ll be treated to an evening of creativity\, community\, and connection. The reception will take place on the 4th level of cSPACE Marda Loop. \nDon’t miss your chance to indulge in delicious food and drinks and win exciting raffle prizes throughout the evening! Your $3 entrance fee directly supports our collective and our mission of supporting emerging artists at the University of Calgary. \nCan’t make it to the opening reception? No worries! The exhibition runs from June 18th to July 1st\, giving you plenty of opportunities to experience the cutting-edge artistry on display. \nMark your calendar and join us for an unforgettable celebration of creativity and innovation!
URL:https://cspacemardaloop.com/event/push-2024-emerging-artists-exhibition/
LOCATION:cSPACE Marda Loop\, 1721 29 Avenue Southwest\, Calgary\, AB\, T2T 6T7\, Canada
CATEGORIES:Gallery Level 4,Level 4 Cupola Gallery
ATTACH;FMTTYPE=image/jpeg:https://cspacemardaloop.com/wp-content/uploads/2024/05/push2024.jpg
END:VEVENT
BEGIN:VEVENT
DTSTART;VALUE=DATE:20240527
DTEND;VALUE=DATE:20240602
DTSTAMP:20260425T130755
CREATED:20240509T153756Z
LAST-MODIFIED:20240509T153809Z
UID:10001676-1716768000-1717286399@cspacemardaloop.com
SUMMARY:Yenny Foulston Exhibition
DESCRIPTION:cSPACE Marda Loop\nLevel 4 Gallery\nMay 27-June 1 \nYenny (pronounced Jenny) is the founder and lead photographer for Veleca Studios. Yenny is known for her Black & White landscape photography series\, “The Sixteen\,” where she features different cities around the world. \nOpening Exhibition & Artist Talk \nFriday May 31st\n6:30pm-8:30pm \nDrinks and light appetizers served.
URL:https://cspacemardaloop.com/event/yenny-foulston-exhibition/
CATEGORIES:Gallery Level 4
ATTACH;FMTTYPE=image/jpeg:https://cspacemardaloop.com/wp-content/uploads/2024/05/meet-the-artist.jpg
END:VEVENT
BEGIN:VEVENT
DTSTART;VALUE=DATE:20240506
DTEND;VALUE=DATE:20240521
DTSTAMP:20260425T130755
CREATED:20240430T152531Z
LAST-MODIFIED:20240430T152647Z
UID:10001669-1714953600-1716249599@cspacemardaloop.com
SUMMARY:Central Memorial x cSPACE Art Exhibition
DESCRIPTION:Discover the dynamic creativity of Central Memorial High School’s Art 20 & 30 students at the cSPACE Hallway Gallery Level Four from May 6th to May 20th. Featuring a diverse array of drawings\, paintings\, and prints\, this exhibition showcases the creative talents and unique perspectives of these emerging artists. Join us in celebrating their work and exploring the vibrant world of young contemporary artistry!
URL:https://cspacemardaloop.com/event/central-memorial-x-cspace-art-exhibition/
LOCATION:cSPACE Marda Loop\, 1721 29 Avenue Southwest\, Calgary\, AB\, T2T 6T7\, Canada
CATEGORIES:Gallery Level 4
ATTACH;FMTTYPE=image/jpeg:https://cspacemardaloop.com/wp-content/uploads/2024/04/cspace-art-poster-5.jpg
END:VEVENT
BEGIN:VEVENT
DTSTART;VALUE=DATE:20240506
DTEND;VALUE=DATE:20240518
DTSTAMP:20260425T130755
CREATED:20240507T162959Z
LAST-MODIFIED:20240507T162959Z
UID:10001675-1714953600-1715990399@cspacemardaloop.com
SUMMARY:William Aberhart HS Art Show
DESCRIPTION:cSPACE Marda Loop\nLevel 4 Gallery\nMay 6-18\nMonday-Saturday 8am-8pm  \nOpening Reception May 9th\n6-8pm on Level 4 of cSPACE Marda Loop \nEnjoy captivating artwork by talented student artists from William Aberhart High School\, showcased on Level 4 of cSPACE Marda Loop.
URL:https://cspacemardaloop.com/event/william-aberhart-hs-art-show/
CATEGORIES:Gallery Level 4
ATTACH;FMTTYPE=image/jpeg:https://cspacemardaloop.com/wp-content/uploads/2024/05/aberhart-24-art-show-poster.jpg
END:VEVENT
BEGIN:VEVENT
DTSTART;TZID=UTC:20240411T183000
DTEND;TZID=UTC:20240411T203000
DTSTAMP:20260425T130755
CREATED:20240404T231802Z
LAST-MODIFIED:20240404T231802Z
UID:10001643-1712860200-1712867400@cspacemardaloop.com
SUMMARY:Children's Art Show Reception
DESCRIPTION:Reception April 11\n6:30pm-8:30pm\ncSPACE Marda Loop Level 4 Gallery \nThe Children’s Art show is a great opportunity for children of age 6 years old and up to show their creativity and talent in public and to be able to sell\ntheir artwork on a very competitive prices to interested buyers. Most of the children’s artwork represents nature\, cartoon characters\, abstract\, digital art and more.\nThe reception opening of the Art Show is welcoming everyone who loves children’s art and appreciate children’s creativity. \nPlease RSVP by April 9\, 2024 to:\nvania.h.atanasova@gmail.com
URL:https://cspacemardaloop.com/event/childrens-art-show-reception/
LOCATION:cSPACE Marda Loop\, 1721 29 Avenue Southwest\, Calgary\, AB\, T2T 6T7\, Canada
CATEGORIES:Gallery Level 4
ATTACH;FMTTYPE=image/jpeg:https://cspacemardaloop.com/wp-content/uploads/2024/04/poster-childrens-art-show-cspace-april-9-may-4-2024-.jpg
END:VEVENT
BEGIN:VEVENT
DTSTART;TZID=UTC:20240409T080000
DTEND;TZID=UTC:20240504T200000
DTSTAMP:20260425T130755
CREATED:20240320T193818Z
LAST-MODIFIED:20240321T230539Z
UID:10001337-1712649600-1714852800@cspacemardaloop.com
SUMMARY:Children's Art Show and Sale
DESCRIPTION:The Children’s Art Show and Sale\nApril 9 – May 4\, 2024\ncSPACE Marda Loop\nLevel 4 \nThis is a great opportunity for children aged 6 and up to display their art work in public! Kids have the opportunity to sell their artwork\, keeping 100% of the profits. \nOpening Reception: \nThursday April 11\, 6:30 pm – 8:30 pm \nOrganizer Info \nWith more than 15 years experience organizing children’s art programs\, summer art camps and public art (including children’s art)\, Vania Dimitrova is an ambassador of children’s talents and creativity. She strives to promote the value of children’s art through organizing art events in Scarboro\, Mount Royal\, Marda Loop and Bankview communities. Her goals are to keep children motivated and focused\, and to encourage them to pursue their artistic talents. \nVania Dimitrova is a visual artist\, illustrator and graphic designer with a Master’s Degree in Visual Arts and Illustration\, and a Diploma of Graphic Design from VCAD. Vania is additionally certified in Arts Administration and Arts Management through the Rozsa Foundation and the Haskayne School of Business. \nhttps://www.vaniaartdesign.com/gallery
URL:https://cspacemardaloop.com/event/childrens-art-show-and-sale/
LOCATION:cSPACE Marda Loop\, 1721 29 Avenue Southwest\, Calgary\, AB\, T2T 6T7\, Canada
CATEGORIES:Gallery Level 4
ATTACH;FMTTYPE=image/jpeg:https://cspacemardaloop.com/wp-content/uploads/2024/03/poster-childrens-art-show-cspace-april-9-may-6-2024-.jpg
END:VEVENT
BEGIN:VEVENT
DTSTART;TZID=UTC:20240215T180000
DTEND;TZID=UTC:20240215T183000
DTSTAMP:20260425T130755
CREATED:20240130T002919Z
LAST-MODIFIED:20240201T172624Z
UID:10000337-1708020000-1708021800@cspacemardaloop.com
SUMMARY:Dipankar Mukherjee Reception featuring Tinica Commodore
DESCRIPTION:Dipankar Mukherjee – Artist Reception\nLevel 4\ncSPACE Marda Loop\nThis Exposure exhibiting artist will be holding a reception\, featuring a live music set from Tinica Commodore. \n\n\n\nHi I’m Tinica Commodore\, a 28-year-old singer/songwriter originally from London UK. Music has always been a huge part of my life. Growing up\, music was always playing in my household and I was exposed to different types of music\, as well as cultures. Along with music came my love for singing and writing. I love to tell stories and express difficult emotions through songs. I’m deeply inspired by history\, especially\, the 1940s\, 50s and 60s\, I believe it was a beautiful a well as magical time for music. I enjoy the whimsical nostalgic comfort you get from listening to an old-time Jazz record. My musical influences also include artists such as Hiatus Kaiyote\, Billie Eilish\, The Weeknd\, and Lana Del Rey. – Tinica Commodore
URL:https://cspacemardaloop.com/event/dipankar-mukharjee-reception-featuring-tinica-commodore/
LOCATION:cSPACE Marda Loop\, 1721 29 Avenue Southwest\, Calgary\, AB\, T2T 6T7\, Canada
CATEGORIES:Gallery Level 4
ATTACH;FMTTYPE=image/jpeg:https://cspacemardaloop.com/wp-content/uploads/2024/01/tinica-commodore.jpg
END:VEVENT
BEGIN:VEVENT
DTSTART;TZID=UTC:20240129T080000
DTEND;TZID=UTC:20240229T200000
DTSTAMP:20260425T130755
CREATED:20240129T224658Z
LAST-MODIFIED:20240201T221808Z
UID:10000336-1706515200-1709236800@cspacemardaloop.com
SUMMARY:Exposure Photo Fest: CROSSING BOUNDARIES\, Dipankar Mukherjee
DESCRIPTION:The Exposure Photo Fest runs for the month of February in galleries and non-traditional art spaces across Calgary. cSPACE is proud to participate with galleries on all four levels of cSPACE Marda Loop.  \nCROSSING BOUNDARIES – CAPTURING THE HUMAN CONDITION \nPhotographer: Dipankar Mukherjee\nHallway Gallery Level 4\ncSPACE Marda Loop\nFor the month of February \nThis exhibition shares documentary photographs of humans taken in different settings to give us a further understanding of our race. What we do with this realization is another matter. What boundaries do we cross? What boundaries do we attempt to cross? Why do we even bother? Does this cause any action for change? These are the questions the photographer will want the viewers to get involved with. \nThe photographs are not meant to be “art.” The human condition is reflected as it is. I strongly believe that the places where the photographs were taken have relevance to the context. Necessity of Hope at the foothills of Mt. Kilimanjaro\, a Cuban face\, a sculpture of a woman in chains in Zanzibar\, Keepers of the Gorillas in Rwanda\, and others are very relevant to their locations. They reflect the uniqueness of the human condition as the location dictates\, but what is expressed in the faces is universal.
URL:https://cspacemardaloop.com/event/exposure-photo-fest-crossing-boundaries-dipankar-mukherjee/
LOCATION:cSPACE Marda Loop\, 1721 29 Avenue Southwest\, Calgary\, AB\, T2T 6T7\, Canada
CATEGORIES:Gallery Level 4
ATTACH;FMTTYPE=image/jpeg:https://cspacemardaloop.com/wp-content/uploads/2024/01/necessityofhope-foothillsofmt.kilimanjarotanzania.jpeg
END:VEVENT
BEGIN:VEVENT
DTSTART;VALUE=DATE:20240116
DTEND;VALUE=DATE:20240126
DTSTAMP:20260425T130755
CREATED:20240116T223024Z
LAST-MODIFIED:20240116T223238Z
UID:10000330-1705363200-1706227199@cspacemardaloop.com
SUMMARY:Calgary Board of Education CTF Gallery Exhibition
DESCRIPTION:
URL:https://cspacemardaloop.com/event/20504/
LOCATION:cSPACE Marda Loop\, 1721 29 Avenue Southwest\, Calgary\, AB\, T2T 6T7\, Canada
CATEGORIES:Gallery Level 4
ATTACH;FMTTYPE=image/jpeg:https://cspacemardaloop.com/wp-content/uploads/2024/01/ctf-gallery-poster-1.jpg
END:VEVENT
BEGIN:VEVENT
DTSTART;TZID=UTC:20230824T180000
DTEND;TZID=UTC:20230824T200000
DTSTAMP:20260425T130755
CREATED:20230804T232413Z
LAST-MODIFIED:20230809T153526Z
UID:10000130-1692900000-1692907200@cspacemardaloop.com
SUMMARY:Meet the Artist: Robert Greenwood
DESCRIPTION:Level 4 Hallway Gallery\n6pm-8pm \nJoin us for a captivating Meet the Artist event featuring Robert Greenwood’s latest exhibition of vibrant paintings\, celebrating his unique artistic vision. Unmissable!
URL:https://cspacemardaloop.com/event/meet-the-artist-robert-greenwood/
LOCATION:cSPACE Marda Loop\, 1721 29 Avenue Southwest\, Calgary\, AB\, T2T 6T7\, Canada
CATEGORIES:Gallery Level 4
ATTACH;FMTTYPE=image/jpeg:https://cspacemardaloop.com/wp-content/uploads/2023/08/2022-08-29-forest-darker-3002022-09-04-12.42.29.jpg
END:VEVENT
BEGIN:VEVENT
DTSTART;TZID=America/Edmonton:20230801T000000
DTEND;TZID=America/Edmonton:20230828T235959
DTSTAMP:20260425T130755
CREATED:20230802T162614Z
LAST-MODIFIED:20230802T162614Z
UID:10000129-1690848000-1693267199@cspacemardaloop.com
SUMMARY:Robert Greenwood Exhibition of Paintings: New Work
DESCRIPTION:80 vibrant\, colourful paintings invite the viewer to explore their own connections to shapes\, colours and ideas. The artwork is available for purchase.
URL:https://cspacemardaloop.com/event/robert-greenwood-exhibition-of-paintings-new-work-2/
LOCATION:cSPACE Marda Loop\, 1721 29 Avenue Southwest\, Calgary\, AB\, T2T 6T7\, Canada
CATEGORIES:Gallery Level 4
ATTACH;FMTTYPE=image/jpeg:https://cspacemardaloop.com/wp-content/uploads/2023/08/2022-08-29-forest-darker-3002022-09-04-12.42.29.jpg
ORGANIZER;CN="Robert Greenwood":MAILTO:bob.greenwood@sunergos.com
END:VEVENT
BEGIN:VEVENT
DTSTART;VALUE=DATE:20230626
DTEND;VALUE=DATE:20230723
DTSTAMP:20260425T130755
CREATED:20230707T202923Z
LAST-MODIFIED:20230707T204719Z
UID:10000097-1687737600-1690070399@cspacemardaloop.com
SUMMARY:Art - an Exhibition by Suzanne Farman
DESCRIPTION:Level 4 Gallery\nJune 26 – July 22 \nReception July 22nd \n5pm-8pm \nArtist Statement\nNew Beginnings\, an exhibition of original abstract paintings by Calgary based artist Suzanne Farman in her cSPACE debut. For this series\, Farman was particularly influenced by bringing different views of visual objects or figures together resulting in a painting that appeared abstracted on the canvas surface.Themes of new beginnings are inspired by emotional experience. Images of distorted reality are used to make them expressive of Farman’s inner feelings and ideas. Farman uses intense colours along with highly textured\, generous paint application. Farman hopes to evoke powerful emotions by creating harmony where colour has a life of its own: not everyone reacts the same way to the same colour.
URL:https://cspacemardaloop.com/event/art-an-exhibition-by-suzanne-farman/
LOCATION:cSPACE Marda Loop\, 1721 29 Avenue Southwest\, Calgary\, AB\, T2T 6T7\, Canada
CATEGORIES:Gallery Level 4
ATTACH;FMTTYPE=image/jpeg:https://cspacemardaloop.com/wp-content/uploads/2023/07/brown-and-yellow-colorful-art-exhibition-flyer-portrait.jpg
END:VEVENT
BEGIN:VEVENT
DTSTART;TZID=UTC:20230606T120000
DTEND;TZID=UTC:20230704T120000
DTSTAMP:20260425T130755
CREATED:20230606T171534Z
LAST-MODIFIED:20230606T171534Z
UID:10000037-1686052800-1688472000@cspacemardaloop.com
SUMMARY:Alberta University of the Arts : Grad Showcase & Sale
DESCRIPTION:Congratulations to the @albertauarts graduating class of 2023!\nTo celebrate\, we are showcasing work by 5 of our graduating artists at our second annual Grad Showcase\, June 6th – July 4th at SPACE creative hub in Marda Loop. \nCheck out the artwork in-person on the 4th floor of the SPACE creative hub in Marda Loop and online at www.showandsale.ca .
URL:https://cspacemardaloop.com/event/alberta-university-of-the-arts-grad-showcase-sale/
LOCATION:cSPACE Marda Loop\, 1721 29 Avenue Southwest\, Calgary\, AB\, T2T 6T7\, Canada
CATEGORIES:Gallery Level 4,Level 4 Cupola Gallery
ATTACH;FMTTYPE=image/jpeg:https://cspacemardaloop.com/wp-content/uploads/2023/06/img_08281.jpg
END:VEVENT
BEGIN:VEVENT
DTSTART;VALUE=DATE:20230515
DTEND;VALUE=DATE:20230604
DTSTAMP:20260425T130755
CREATED:20230524T210503Z
LAST-MODIFIED:20230524T210523Z
UID:10000024-1684108800-1685836799@cspacemardaloop.com
SUMMARY:Inter(connected)
DESCRIPTION:Level 4 Gallery \nInter(connected) is an exhibition of work by the 2022-2023 hear/d residency artist cohort: Ella Crompton\, Brendan Djentle Hamilton\, Liz Kim\, AJ Kluck\, Sydney Paquette\, Sid Serafin\, Jiaqi Shi\, Juli Song\, Sasha Terway and Christina Yao. \nEach of these artists were prompted to explore themes of mental health and resiliency in ways that resonated with them. Artists met weekly\, throughout the school year\, in meetings facilitated by peer-mentors Elise Lavallee Findlay and Levin Ifko. Through discussions\, as well as their own musings and experiences\, they created Inter(connected)\, an exhibition that explores each artists’ relationships to vulnerability\, growth\, tension and in-betweenness\, in ways that are so much more than linear. \nThe Hear/d Residency is a program where residents collaborate on the research\, development\, creation and curation of an exhibition that explores the theme of mental health.
URL:https://cspacemardaloop.com/event/interconnected/
LOCATION:cSPACE Marda Loop\, 1721 29 Avenue Southwest\, Calgary\, AB\, T2T 6T7\, Canada
CATEGORIES:Gallery Level 4
ATTACH;FMTTYPE=image/jpeg:https://cspacemardaloop.com/wp-content/uploads/2023/05/interconnected.jpg
END:VEVENT
END:VCALENDAR