BEGIN:VCALENDAR
VERSION:2.0
PRODID:-//cSPACE Marda Loop - ECPv6.15.20//NONSGML v1.0//EN
CALSCALE:GREGORIAN
METHOD:PUBLISH
X-WR-CALNAME:cSPACE Marda Loop
X-ORIGINAL-URL:https://cspacemardaloop.com
X-WR-CALDESC:Events for cSPACE Marda Loop
REFRESH-INTERVAL;VALUE=DURATION:PT1H
X-Robots-Tag:noindex
X-PUBLISHED-TTL:PT1H
BEGIN:VTIMEZONE
TZID:UTC
BEGIN:STANDARD
TZOFFSETFROM:+0000
TZOFFSETTO:+0000
TZNAME:UTC
DTSTART:20220101T000000
END:STANDARD
END:VTIMEZONE
BEGIN:VEVENT
DTSTART;VALUE=DATE:20230626
DTEND;VALUE=DATE:20230723
DTSTAMP:20260420T070814
CREATED:20230707T202923Z
LAST-MODIFIED:20230707T204719Z
UID:10000097-1687737600-1690070399@cspacemardaloop.com
SUMMARY:Art - an Exhibition by Suzanne Farman
DESCRIPTION:Level 4 Gallery\nJune 26 – July 22 \nReception July 22nd \n5pm-8pm \nArtist Statement\nNew Beginnings\, an exhibition of original abstract paintings by Calgary based artist Suzanne Farman in her cSPACE debut. For this series\, Farman was particularly influenced by bringing different views of visual objects or figures together resulting in a painting that appeared abstracted on the canvas surface.Themes of new beginnings are inspired by emotional experience. Images of distorted reality are used to make them expressive of Farman’s inner feelings and ideas. Farman uses intense colours along with highly textured\, generous paint application. Farman hopes to evoke powerful emotions by creating harmony where colour has a life of its own: not everyone reacts the same way to the same colour.
URL:https://cspacemardaloop.com/event/art-an-exhibition-by-suzanne-farman/
LOCATION:cSPACE Marda Loop\, 1721 29 Avenue Southwest\, Calgary\, AB\, T2T 6T7\, Canada
CATEGORIES:Gallery Level 4
ATTACH;FMTTYPE=image/jpeg:https://cspacemardaloop.com/wp-content/uploads/2023/07/brown-and-yellow-colorful-art-exhibition-flyer-portrait.jpg
END:VEVENT
END:VCALENDAR