BEGIN:VCALENDAR
VERSION:2.0
PRODID:-//cSPACE Marda Loop - ECPv6.15.20//NONSGML v1.0//EN
CALSCALE:GREGORIAN
METHOD:PUBLISH
X-ORIGINAL-URL:https://cspacemardaloop.com
X-WR-CALDESC:Events for cSPACE Marda Loop
REFRESH-INTERVAL;VALUE=DURATION:PT1H
X-Robots-Tag:noindex
X-PUBLISHED-TTL:PT1H
BEGIN:VTIMEZONE
TZID:UTC
BEGIN:STANDARD
TZOFFSETFROM:+0000
TZOFFSETTO:+0000
TZNAME:UTC
DTSTART:20220101T000000
END:STANDARD
END:VTIMEZONE
BEGIN:VEVENT
DTSTART;TZID=UTC:20241109T100000
DTEND;TZID=UTC:20241109T160000
DTSTAMP:20260423T201230
CREATED:20241029T183956Z
LAST-MODIFIED:20241029T184037Z
UID:10002952-1731146400-1731168000@cspacemardaloop.com
SUMMARY:The Holiday Market and Snow White
DESCRIPTION:🎄 Join Us for an Indoor Holiday Arts & Crafts Market! 🎄\nPlus start a new family tradition with Quest Theatre’s family fun show\, Snow White!\nGet into the holiday spirit at cSPACE Marda Loop on November 9th\nMarket Hours: 10am to 4pm\nQuest Theatre presents Snow White @ 10am and 1pm \nDiscover a festive scene filled with unique\, handmade creations from talented local artists and makers. From stunning paintings and delightful jewelry to cozy holiday décor\, there’s something for everyone on your gift list! Bring your family and friends to celebrate the season in a vibrant\, community-centered atmosphere. Don’t miss out on this opportunity to find one-of-a-kind treasures and support local artisans! \nAdding to the festive spirit\, Quest Theatre will present two performances of their currently touring family show\, Snow White\, at 10am and 1pm. Tickets for this delightful Theatre for Young Audiences production are available by advance booking. \nBook tickets/more info here: https://www.questtheatre.org/snow-white#public
URL:https://cspacemardaloop.com/event/the-holiday-market-and-snow-white/
LOCATION:cSPACE Marda Loop\, 1721 29 Avenue Southwest\, Calgary\, AB\, T2T 6T7\, Canada
CATEGORIES:Gallery Level 2,Gallery Level 3,Gallery Level 4,Hallway Galleries,Studio Theatre
ATTACH;FMTTYPE=image/jpeg:https://cspacemardaloop.com/wp-content/uploads/2024/10/snow-white-market.jpg
ORGANIZER;CN="cSPACE Marda Loop":MAILTO:info@cspaceprojects.com
END:VEVENT
BEGIN:VEVENT
DTSTART;TZID=UTC:20241025T180000
DTEND;TZID=UTC:20241025T210000
DTSTAMP:20260423T201230
CREATED:20240918T170931Z
LAST-MODIFIED:20240918T170931Z
UID:10002921-1729879200-1729890000@cspacemardaloop.com
SUMMARY:Limitless: The Disabled World
DESCRIPTION:cSPACE Marda Loop\nLevel 3 Gallery\nPublic hours: Mon-Saturday 8am-8pm\nClosed Sundays \nLimitless is Lionel Migrino’s first solo show.\nThe exhibit depicts people with disability and their stories. \nArtist Reception \nOctober 25th\n6pm-9pm \nExhibition runs October 25-November 18
URL:https://cspacemardaloop.com/event/limitless-the-disabled-world-2/
LOCATION:cSPACE Marda Loop\, 1721 29 Avenue Southwest\, Calgary\, AB\, T2T 6T7\, Canada
CATEGORIES:Gallery Level 3
ATTACH;FMTTYPE=image/jpeg:https://cspacemardaloop.com/wp-content/uploads/2024/09/messenger_creation_67bdbced-8f55-465f-b5df-c534f00f3bf1.jpeg
END:VEVENT
BEGIN:VEVENT
DTSTART;VALUE=DATE:20241025
DTEND;VALUE=DATE:20241117
DTSTAMP:20260423T201230
CREATED:20240918T171114Z
LAST-MODIFIED:20240918T171115Z
UID:10002925-1729814400-1731801599@cspacemardaloop.com
SUMMARY:Limitless: The Disabled World Exhibition
DESCRIPTION:cSPACE Marda Loop\nLevel 3 Gallery\nExhibition runs October 25-November 18 \nPublic hours: Mon-Saturday 8am-8pm\nClosed Sundays \nLimitless is Lionel Migrino’s first solo show.\nThe exhibit depicts people with disability and their stories. \nArtist Reception \nOctober 25th\n6pm-9pm
URL:https://cspacemardaloop.com/event/limitless-the-disabled-world-exhibition-2/
LOCATION:cSPACE Marda Loop\, 1721 29 Avenue Southwest\, Calgary\, AB\, T2T 6T7\, Canada
CATEGORIES:Gallery Level 3
ATTACH;FMTTYPE=image/jpeg:https://cspacemardaloop.com/wp-content/uploads/2024/09/messenger_creation_67bdbced-8f55-465f-b5df-c534f00f3bf1.jpeg
END:VEVENT
BEGIN:VEVENT
DTSTART;VALUE=DATE:20240916
DTEND;VALUE=DATE:20241014
DTSTAMP:20260423T201230
CREATED:20240823T223100Z
LAST-MODIFIED:20240917T203616Z
UID:10002567-1726444800-1728863999@cspacemardaloop.com
SUMMARY:Alliançe Française presents: Soledad
DESCRIPTION:cSPACE Marda Loop\nLevel 3 Gallery \nFrom September 16th to October 13th at cSPACE Marda Loop\, explore the evocative world of Sébastien Roignant\, a Breton photographer now based in Lyon. In his exhibition\, Soledad\, Roignant invites you to reconnect with the untamed beauty of nature\, reflecting on the delicate balance between serenity and danger.
URL:https://cspacemardaloop.com/event/alliance-francaise-presents-soledad/
LOCATION:cSPACE Marda Loop\, 1721 29 Avenue Southwest\, Calgary\, AB\, T2T 6T7\, Canada
CATEGORIES:Gallery Level 3
ATTACH;FMTTYPE=image/jpeg:https://cspacemardaloop.com/wp-content/uploads/2024/08/affiche-soedad.jpg
END:VEVENT
BEGIN:VEVENT
DTSTART;VALUE=DATE:20240909
DTEND;VALUE=DATE:20240915
DTSTAMP:20260423T201230
CREATED:20240823T222318Z
LAST-MODIFIED:20240823T222318Z
UID:10002566-1725840000-1726358399@cspacemardaloop.com
SUMMARY:ArtPoint presents: Regenerate 2.0
DESCRIPTION:cSPACE Marda Loop\n3rd Floor Gallery \nJoin us for Regenerate 2.0\, a dynamic group art exhibition from Artpoint. This  show explores themes of renewal and transformation through a diverse array of artistic expressions. \nThe opening reception will be held on September 12th from 5:00 PM to 8:00 PM. Come meet the artists\, experience their work\, and be part of this vibrant community celebration. \nhttps://www.artpoint.ca/event-details-registration/regenerate-2-0
URL:https://cspacemardaloop.com/event/artpoint-presents-regenerate-2-0/
LOCATION:cSPACE Marda Loop\, 1721 29 Avenue Southwest\, Calgary\, AB\, T2T 6T7\, Canada
CATEGORIES:Gallery Level 3
ATTACH;FMTTYPE=image/jpeg:https://cspacemardaloop.com/wp-content/uploads/2024/08/art-point.jpg
END:VEVENT
BEGIN:VEVENT
DTSTART;VALUE=DATE:20240730
DTEND;VALUE=DATE:20240908
DTSTAMP:20260423T201230
CREATED:20240724T230527Z
LAST-MODIFIED:20240812T203238Z
UID:10002548-1722297600-1725753599@cspacemardaloop.com
SUMMARY:Yann Kayamaré: Guyane mo bel peyi
DESCRIPTION:Level 3 Hallway Gallery\nJuly 30-September 7 \nOpening Reception:\nWednesday\, August 7th\n6:00 pm \nYann Kayamaré\, a young photographer from Kourou in French Guiana\, is passionate about his homeland and has one desire: to share it with you. \nMore info here: https://www.afcalgary.ca/culture-and-events/activities-in-french/2024-08-exposition-guyane/
URL:https://cspacemardaloop.com/event/yann-kayamare-guyane-mo-bel-peyi/
LOCATION:cSPACE Marda Loop\, 1721 29 Avenue Southwest\, Calgary\, AB\, T2T 6T7\, Canada
CATEGORIES:Gallery Level 3
ATTACH;FMTTYPE=image/jpeg:https://cspacemardaloop.com/wp-content/uploads/2024/07/20231115_182203_x807a-e1723494740172.jpg
END:VEVENT
BEGIN:VEVENT
DTSTART;TZID=UTC:20240704T080000
DTEND;TZID=UTC:20240803T170000
DTSTAMP:20260423T201230
CREATED:20240704T191720Z
LAST-MODIFIED:20240704T195701Z
UID:10002501-1720080000-1722704400@cspacemardaloop.com
SUMMARY:The Levitation Project by Mathieu Forget
DESCRIPTION:cSPACE Marda Loop\nLevel 3 Gallery\nJuly 2 – August 3 \nThe Levitation Project by Mathieu Forget\, presented by Alliance Française\nExperience Forget’s mesmerizing photographic exhibition\, The Levitation Project\, at the third floor of cSPACE until August 3rd. Presented by Alliance Française Calgary and the French Consulate in honour of the Olympics 2024\, the exhibition features an immersive component with an application that goes beyond the pictures. This beautiful exhibit has captivated audiences around the world\, and this is its first stop in Canada. Don’t miss this extraordinary blend of sports\, art\, and culture that defies gravity!
URL:https://cspacemardaloop.com/event/the-levitation-project-by-mathieu-forget/
LOCATION:AB
CATEGORIES:Gallery Level 3
ATTACH;FMTTYPE=image/jpeg:https://cspacemardaloop.com/wp-content/uploads/2024/07/basecamp-newsletter.jpg
END:VEVENT
BEGIN:VEVENT
DTSTART;VALUE=DATE:20240606
DTEND;VALUE=DATE:20240630
DTSTAMP:20260423T201230
CREATED:20240530T220519Z
LAST-MODIFIED:20240530T220519Z
UID:10002056-1717632000-1719705599@cspacemardaloop.com
SUMMARY:CAAF Alumni Art Exhibition
DESCRIPTION:cSPACE Marda Loop | Hallway Gallery Level 3\nOpening Reception: Thursday\, June 6 from 6:30 to 8:30pm\nAGM: 6:30pm \nThe first CAAF Studio Residency took place in 2007. Since then CAAF has provided 134 paid studio residencies to emerging artists. In this exhibition\, we are pleased to showcase artwork by a selection of previous studio residents. \nExhibiting artists are:\nCaitlin Thompson\, Chris Savage\, Adrianne Williams\, Colleen Rauscher\, Eveline Kolijn\, Samantha Charette\, Helen Young\, Josh Brien\, Dana Buzzee\, Mabel Tan\, Sarah van Sloten\, Naomi B Cook\, Elise Lavallee Findlay\, Laura Admussen\, Daniel Audet\, Wei Li\, Kate Ritchie\, and Cassie Suche.
URL:https://cspacemardaloop.com/event/caaf-alumni-art-exhibition/
LOCATION:cSPACE Marda Loop\, 1721 29 Avenue Southwest\, Calgary\, AB\, T2T 6T7\, Canada
CATEGORIES:Gallery Level 3
ATTACH;FMTTYPE=image/jpeg:https://cspacemardaloop.com/wp-content/uploads/2024/05/blue-art-event-exhibition-instagram-post.jpg
ORGANIZER;CN="Calgary Allied Arts Foundation":MAILTO:caafresidency@gmail.com
END:VEVENT
BEGIN:VEVENT
DTSTART;TZID=UTC:20240129T080000
DTEND;TZID=UTC:20240229T200000
DTSTAMP:20260423T201230
CREATED:20240129T224329Z
LAST-MODIFIED:20240205T192104Z
UID:10000335-1706515200-1709236800@cspacemardaloop.com
SUMMARY:Exposure Photo Fest: SHADOWS PASSING\, Sean Drysdale
DESCRIPTION:The Exposure Photo Fest runs for the month of February in galleries and non-traditional art spaces across Calgary. cSPACE is proud to participate with galleries on all four levels of cSPACE Marda Loop.  \nSHADOWS PASSING \nPhotographers: Sean Drysdale\nHallway Gallery Level 3\ncSPACE Marda Loop\nFor the month of February \nDrysdale returns to cSPACE in 2024 with a new installation\, in which he explores our apparent desire to be both connected to others and apart from them.  As in previous bodies of work\, the images are readily accessible\, and potentially stimulate the viewer to pursue multiple avenues of thought.
URL:https://cspacemardaloop.com/event/exposure-photo-fest-shadows-passing-sean-drysdale/
LOCATION:cSPACE Marda Loop\, 1721 29 Avenue Southwest\, Calgary\, AB\, T2T 6T7\, Canada
CATEGORIES:Gallery Level 3
ATTACH;FMTTYPE=image/jpeg:https://cspacemardaloop.com/wp-content/uploads/2024/01/seanpdrysdaleexposurefestivalwebpageimage-e1707160851581.jpeg
END:VEVENT
BEGIN:VEVENT
DTSTART;VALUE=DATE:20231205
DTEND;VALUE=DATE:20231209
DTSTAMP:20260423T201230
CREATED:20231114T174116Z
LAST-MODIFIED:20231114T174116Z
UID:10000225-1701734400-1702079999@cspacemardaloop.com
SUMMARY:L'Arche Calgary Art Show & Sale 
DESCRIPTION:cSPACE Marda Loop\nGallery Level 3\nExhibition Viewing: Dec 5-7\nShow and Sale: December 8\, 10am-8pm\n\nOn Friday December 8th the Tamarack Day Program will be at cSPACE\, selling their art for one day only! Each unique painting is made by the Tamarack Day Program Core Members (people with disabilities). Please bring your family and friend’s to buy some beautiful\, one of a kind artwork!
URL:https://cspacemardaloop.com/event/larche-calgary-art-show-sale/
LOCATION:cSPACE Marda Loop\, 1721 29 Avenue Southwest\, Calgary\, AB\, T2T 6T7\, Canada
CATEGORIES:Gallery Level 3
ATTACH;FMTTYPE=image/jpeg:https://cspacemardaloop.com/wp-content/uploads/2023/11/1-3.jpg
END:VEVENT
BEGIN:VEVENT
DTSTART;VALUE=DATE:20231031
DTEND;VALUE=DATE:20231203
DTSTAMP:20260423T201230
CREATED:20231005T194543Z
LAST-MODIFIED:20231117T185117Z
UID:10000194-1698710400-1701561599@cspacemardaloop.com
SUMMARY:METAL Firecrackers and the Electric BLING/ CORONORAMA
DESCRIPTION:New and existing art works by Dana Schindelka and Danielle Bartlette \nFloors 2 and 3 cSPACE Marda Loop\nOctober 31st – November 26th\nOpening for Invited Guests Only: Thursday\, November 5pm-8pm\nLive music- Gil Tougas 5:30-7:30pm \nUPDATE: Danielle Bartlette’s CORONORAMA solo exhibition is extended until December 2th on Level 3.  \nDana Schindelka is a Calgary based visual artist who uses mixed media to examine the relationship between recollection\, reality\, and imagination. Dana uses acrylic paint and other materials\, such as metal substrates\, collage\, metallic leafing and inks to create his art and his works have been the subject of gallery representation\, private\, and business collections. \nDanielle Bartlette was born and raised in Winnipeg\, where she attended the School of Art (Fine Arts Honours Program at the University of Manitoba). In 2000\, she moved to Calgary to further her experience as an artist and currently exhibits artwork for sale through local galleries. Her paintings are scattered in homes\, private & corporate collections around Canada\, USA\, and Europe. Danielle started her own business\, Neon Milkshake Art Studio\, in 2016 and has been facilitating art classes since 2007. \nDanielle says\, “METAL Firecrackers and the Electric Bling is a selection of works created by two artists who have creative similarities and respect for one another’s practice. We are each exhibiting new and existing works. My work will exhibit selections from past series\, as well as a number of works in a new series titled CORONARAMA (created 2020-2023) which reflects the mood\, describes events and is an emotional response to the pandemic\, at different times throughout the event. Dollar Store materials\, thrift store finds juxtaposed with top quality artist materials and 24k gold on canvas/ wooden substrates are often found in the mix.”\n \n\nTogether\, these two artists are showcasing works that will catch your eye with noisy prints and/or loud colours. Lean in close to see all the textures and detail.
URL:https://cspacemardaloop.com/event/metal-firecrackers-and-the-electric-bling/
LOCATION:cSPACE Marda Loop\, 1721 29 Avenue Southwest\, Calgary\, AB\, T2T 6T7\, Canada
CATEGORIES:Gallery Level 2,Gallery Level 3
ATTACH;FMTTYPE=image/jpeg:https://cspacemardaloop.com/wp-content/uploads/2023/10/1677649622047438921-e1698442299713.jpg
END:VEVENT
BEGIN:VEVENT
DTSTART;TZID=UTC:20230903T083000
DTEND;TZID=UTC:20230903T223000
DTSTAMP:20260423T201230
CREATED:20230824T163532Z
LAST-MODIFIED:20230824T165857Z
UID:10000138-1693729800-1693780200@cspacemardaloop.com
SUMMARY:Hong Kong Culture Day Market
DESCRIPTION:The Calgary Hong Kong Cultural Day promotes cultural diversity and inclusion\, and celebrates the culture of Hong Kong. It also creates a platform for local Hong Kongers to showcase their talents. Through various cultural activities and performances\, Calgarians can immerse in a unique cultural exchange experience. \nMarket\, workshops and performances throughout the building. There are more than 30 booths for Hong Kong people\, where a group of outstanding owners will bring you homemade handicrafts or a variety of Hong Kong specialty products. \nFree to attend! \nPart of Alberta Culture Days.
URL:https://cspacemardaloop.com/event/hong-kong-culture-day/
LOCATION:cSPACE Marda Loop\, 1721 29 Avenue Southwest\, Calgary\, AB\, T2T 6T7\, Canada
CATEGORIES:Gallery Level 1,Gallery Level 2,Gallery Level 3,RGO Treehouse Full,Studio Theatre
ATTACH;FMTTYPE=image/jpeg:https://cspacemardaloop.com/wp-content/uploads/2023/08/screen-shot-2023-08-24-at-10.34.32-am.jpg
END:VEVENT
BEGIN:VEVENT
DTSTART;TZID=UTC:20230707T170000
DTEND;TZID=UTC:20230707T200000
DTSTAMP:20260423T201230
CREATED:20230704T204258Z
LAST-MODIFIED:20230704T204259Z
UID:10000070-1688749200-1688760000@cspacemardaloop.com
SUMMARY:Soul/Ful - A Collaborative Art Exhibition
DESCRIPTION:Join us for the reception of Soul/Ful\, a collaborative art exhibition between two cSPACE Events staffers – Kate Ware and Darren Flach. \nOur forms of creativity could not be more different\, yet both come from a soulful place. \nWine\, cheese and other refreshments will be available. Both artists will speak about their work. We look forward to seeing you there!
URL:https://cspacemardaloop.com/event/soul-ful-a-collaborative-art-exhibition/
LOCATION:cSPACE Marda Loop\, 1721 29 Avenue Southwest\, Calgary\, AB\, T2T 6T7\, Canada
CATEGORIES:Gallery Level 3
ATTACH;FMTTYPE=image/jpeg:https://cspacemardaloop.com/wp-content/uploads/2023/07/358121661_630245042370464_1282153574978224119_n.jpg
ORGANIZER;CN="Kate Ware":MAILTO:kate@katewares.com
END:VEVENT
BEGIN:VEVENT
DTSTART;VALUE=DATE:20230627
DTEND;VALUE=DATE:20230830
DTSTAMP:20260423T201230
CREATED:20230630T212759Z
LAST-MODIFIED:20230811T235112Z
UID:10000065-1687824000-1693353599@cspacemardaloop.com
SUMMARY:Soul/Ful Exhibition
DESCRIPTION:Level 3 Gallery\ncSPACE Marda Loop\nFor the months of July and August \nReception Friday July 7th\, 5pm-8pm \nKate Ware and Darren Flash team up for this Soul/Ful celebration. Kate’s work combines portrait photography and analog projections to eerie effect. Darren shares the maps and routes he followed as a world traveller on a pedal bike\, and the art and writings it inspired.
URL:https://cspacemardaloop.com/event/soul-ful-exhibition/
LOCATION:cSPACE Marda Loop\, 1721 29 Avenue Southwest\, Calgary\, AB\, T2T 6T7\, Canada
CATEGORIES:Gallery Level 3
ATTACH;FMTTYPE=image/jpeg:https://cspacemardaloop.com/wp-content/uploads/2023/06/soul-ful-1.jpg
END:VEVENT
END:VCALENDAR