BEGIN:VCALENDAR
VERSION:2.0
PRODID:-//cSPACE Marda Loop - ECPv6.15.20//NONSGML v1.0//EN
CALSCALE:GREGORIAN
METHOD:PUBLISH
X-ORIGINAL-URL:https://cspacemardaloop.com
X-WR-CALDESC:Events for cSPACE Marda Loop
REFRESH-INTERVAL;VALUE=DURATION:PT1H
X-Robots-Tag:noindex
X-PUBLISHED-TTL:PT1H
BEGIN:VTIMEZONE
TZID:UTC
BEGIN:STANDARD
TZOFFSETFROM:+0000
TZOFFSETTO:+0000
TZNAME:UTC
DTSTART:20240101T000000
END:STANDARD
END:VTIMEZONE
BEGIN:VEVENT
DTSTART;VALUE=DATE:20250527
DTEND;VALUE=DATE:20250608
DTSTAMP:20260420T211651
CREATED:20250508T173019Z
LAST-MODIFIED:20250608T011105Z
UID:10004531-1748304000-1749340799@cspacemardaloop.com
SUMMARY:Exhibition: PUSH 2025 for Emerging Artists
DESCRIPTION:Exhibition: PUSH 2025 for Emerging Artists\ncSPACE Marda Loop\nGallery Level 3\nMay 27 – June 7\, 2025 \n\n\nJoin us for an exhibition from the Pentimento Collective\, a  student-run organization from the Department of Art and Art Histories at the University of Calgary dedicated to promoting and sharing visual artworks of undergraduate students. \nABOUT THE PENTIMENTO COLLECTIVE \n\n\n“brinGING artworks by emerging artists in thE public sphere”\nThe Pentimento Collective is a student-run organization from the Department of Art and Art Histories at the University of Calgary. It is dedicated to promoting and sharing visual artworks of undergraduate students. The Pentimento Collective’s aims are to create an artistic community that will enable artists to engage and connect with other artists and the public\, while building their relevant experiences. \n\nFor tickets to opening night gala on May 27th visit:\nhttps://www.zeffy.com/en-CA/ticketing/opening-reception-for-push-2025-emerging-artists-exhibition
URL:https://cspacemardaloop.com/event/exhibition-push-2025/
LOCATION:cSPACE Marda Loop\, 1721 29 Avenue Southwest\, Calgary\, AB\, T2T 6T7\, Canada
CATEGORIES:Gallery Level 3
ATTACH;FMTTYPE=image/jpeg:https://cspacemardaloop.com/wp-content/uploads/2025/05/push-2025.jpg
END:VEVENT
BEGIN:VEVENT
DTSTART;TZID=UTC:20250630T080000
DTEND;TZID=UTC:20250811T170000
DTSTAMP:20260420T211651
CREATED:20250617T192616Z
LAST-MODIFIED:20250714T231957Z
UID:10004551-1751270400-1754931600@cspacemardaloop.com
SUMMARY:Exhibition: Midsummer Escapade
DESCRIPTION:Exhibition: Midsummer Escapade\nA group exhibition presented by Artpoint Gallery and Studios Society \ncSPACE Marda Loop\nGallery Level 3\nJune 30 – Aug 11\, 2025\n8:00 AM – 5:00 PM (Closed Sundays) \n\nWarm days and a journey of art! \nLearn more at: www.artpoint.ca \nOpening reception:\n* July 3 from 5-8pm \nArtists in the exhibition:\n@simonaitchison\nJanis burns\n@kcopithorne_illustration\n@ravenbluecreative\n@foxbrenda33\n@freed.erin\n@night.sun.saturn\n@raha.jazayeri.art\n@natashafayejensen\nCharlene Kroeger\n@dianne_j_leong_art\nTerra McDonald\n@lilmolstad\n@nacim.rt\n@bjsosaart\n@sharonthompson.ca\n@dreamsplats
URL:https://cspacemardaloop.com/event/midsummer-escapade/
LOCATION:cSPACE Marda Loop\, 1721 29 Avenue Southwest\, Calgary\, AB\, T2T 6T7\, Canada
CATEGORIES:Gallery Level 3
ATTACH;FMTTYPE=image/jpeg:https://cspacemardaloop.com/wp-content/uploads/2025/06/9d575b6a-d54b-4f11-a277-f68948ce973e.jpeg
END:VEVENT
END:VCALENDAR