BEGIN:VCALENDAR
VERSION:2.0
PRODID:-//cSPACE Marda Loop - ECPv6.15.20//NONSGML v1.0//EN
CALSCALE:GREGORIAN
METHOD:PUBLISH
X-ORIGINAL-URL:https://cspacemardaloop.com
X-WR-CALDESC:Events for cSPACE Marda Loop
REFRESH-INTERVAL;VALUE=DURATION:PT1H
X-Robots-Tag:noindex
X-PUBLISHED-TTL:PT1H
BEGIN:VTIMEZONE
TZID:UTC
BEGIN:STANDARD
TZOFFSETFROM:+0000
TZOFFSETTO:+0000
TZNAME:UTC
DTSTART:20220101T000000
END:STANDARD
END:VTIMEZONE
BEGIN:VTIMEZONE
TZID:America/Edmonton
BEGIN:DAYLIGHT
TZOFFSETFROM:-0700
TZOFFSETTO:-0600
TZNAME:MDT
DTSTART:20230312T090000
END:DAYLIGHT
BEGIN:STANDARD
TZOFFSETFROM:-0600
TZOFFSETTO:-0700
TZNAME:MST
DTSTART:20231105T080000
END:STANDARD
BEGIN:DAYLIGHT
TZOFFSETFROM:-0700
TZOFFSETTO:-0600
TZNAME:MDT
DTSTART:20240310T090000
END:DAYLIGHT
BEGIN:STANDARD
TZOFFSETFROM:-0600
TZOFFSETTO:-0700
TZNAME:MST
DTSTART:20241103T080000
END:STANDARD
BEGIN:DAYLIGHT
TZOFFSETFROM:-0700
TZOFFSETTO:-0600
TZNAME:MDT
DTSTART:20250309T090000
END:DAYLIGHT
BEGIN:STANDARD
TZOFFSETFROM:-0600
TZOFFSETTO:-0700
TZNAME:MST
DTSTART:20251102T080000
END:STANDARD
END:VTIMEZONE
BEGIN:VEVENT
DTSTART;VALUE=DATE:20241201
DTEND;VALUE=DATE:20241202
DTSTAMP:20260425T122134
CREATED:20241125T182906Z
LAST-MODIFIED:20241127T184359Z
UID:10002971-1733040000-1733072400@cspacemardaloop.com
SUMMARY:Exhibition: Carry Me Home
DESCRIPTION:Artist Patricia Coulter will be featuring a collection of paintings on the “Carry Me Home” theme. Please join me in Gallery 2.
URL:https://cspacemardaloop.com/event/exhibition-carry-me-home/2024-12-01/2/
LOCATION:cSPACE Marda Loop\, 1721 29 Avenue Southwest\, Calgary\, AB\, T2T 6T7\, Canada
CATEGORIES:Gallery Level 2
ATTACH;FMTTYPE=image/jpeg:https://cspacemardaloop.com/wp-content/uploads/2024/11/dsc_0889-scaled.jpeg
END:VEVENT
BEGIN:VEVENT
DTSTART;VALUE=DATE:20241201
DTEND;VALUE=DATE:20241222
DTSTAMP:20260425T122134
CREATED:20241125T182906Z
LAST-MODIFIED:20241127T184359Z
UID:10002970-1733011200-1734825599@cspacemardaloop.com
SUMMARY:Exhibition: Carry Me Home
DESCRIPTION:Artist Patricia Coulter will be featuring a collection of paintings on the “Carry Me Home” theme. Please join me in Gallery 2.
URL:https://cspacemardaloop.com/event/exhibition-carry-me-home/2024-12-01/1/
LOCATION:cSPACE Marda Loop\, 1721 29 Avenue Southwest\, Calgary\, AB\, T2T 6T7\, Canada
CATEGORIES:Gallery Level 2
ATTACH;FMTTYPE=image/jpeg:https://cspacemardaloop.com/wp-content/uploads/2024/11/dsc_0889-scaled.jpeg
END:VEVENT
BEGIN:VEVENT
DTSTART;TZID=UTC:20241109T100000
DTEND;TZID=UTC:20241109T160000
DTSTAMP:20260425T122134
CREATED:20241029T183956Z
LAST-MODIFIED:20241029T184037Z
UID:10002952-1731146400-1731168000@cspacemardaloop.com
SUMMARY:The Holiday Market and Snow White
DESCRIPTION:🎄 Join Us for an Indoor Holiday Arts & Crafts Market! 🎄\nPlus start a new family tradition with Quest Theatre’s family fun show\, Snow White!\nGet into the holiday spirit at cSPACE Marda Loop on November 9th\nMarket Hours: 10am to 4pm\nQuest Theatre presents Snow White @ 10am and 1pm \nDiscover a festive scene filled with unique\, handmade creations from talented local artists and makers. From stunning paintings and delightful jewelry to cozy holiday décor\, there’s something for everyone on your gift list! Bring your family and friends to celebrate the season in a vibrant\, community-centered atmosphere. Don’t miss out on this opportunity to find one-of-a-kind treasures and support local artisans! \nAdding to the festive spirit\, Quest Theatre will present two performances of their currently touring family show\, Snow White\, at 10am and 1pm. Tickets for this delightful Theatre for Young Audiences production are available by advance booking. \nBook tickets/more info here: https://www.questtheatre.org/snow-white#public
URL:https://cspacemardaloop.com/event/the-holiday-market-and-snow-white/
LOCATION:cSPACE Marda Loop\, 1721 29 Avenue Southwest\, Calgary\, AB\, T2T 6T7\, Canada
CATEGORIES:Gallery Level 2,Gallery Level 3,Gallery Level 4,Hallway Galleries,Studio Theatre
ATTACH;FMTTYPE=image/jpeg:https://cspacemardaloop.com/wp-content/uploads/2024/10/snow-white-market.jpg
ORGANIZER;CN="cSPACE Marda Loop":MAILTO:info@cspaceprojects.com
END:VEVENT
BEGIN:VEVENT
DTSTART;VALUE=DATE:20240703
DTEND;VALUE=DATE:20240728
DTSTAMP:20260425T122134
CREATED:20240603T172759Z
LAST-MODIFIED:20240604T203146Z
UID:10002060-1719964800-1722124799@cspacemardaloop.com
SUMMARY:Riverview Artists Showcase: Flow
DESCRIPTION:cSPACE Marda Loop\nLevel 2 Gallery\nJuly 3-27\nOpen Daily 8am-8 pm \nClosed Sundays\nWheelchair Accessible at the north Glass doors-Elevator \nRiverview Artists Showcase\n\n\n| FLOW \n\n\n\nPresented by Riverview Artists\, promises a visual feast that transcends boundaries\, inviting viewers to immerse themselves in a world where creativity knows no limits. \nSHOW OPENING · July\, 11th 4:30pm-7:30pm \nPLAN YOUR VISIT: \ncSPACE Creative Hub in Marda Loop has a ton to offer over and above the fantastic curated show “FLOW”. \nAlso visit the outdoor Market for a vibrant fusion of art\, culture\, and foodie goodies- Saturday July 13th & 27th. Make sure you check out the staircase (N.E) corner… (Imaginarium by Katie Green and Daniel J Kirk) and the Alberta Craft Council is also located on the 2nd floor. Don’t forget to stop by and get your coffee from Aroma Cafe Bar to sip while you stroll… \nARTWORK INQUIRIES: \nCan be directed to Riverview Artists (Website) or following the QR codes on location. \nhttps://www.riverview-artists.com/events \nOur collective believes in the power of art to evoke emotions\, spark conversations\, and unite individuals through a shared appreciation for the boundless possibilities of human imagination. \n  \nShowing Artists \nCindy Bouwers \nDavid Cadman \nBrandie Cormier \nDon Elliott \nTammy Fischer \nLinnea Martina Hannigan \nConny Jager \nMaureen Jarosh \nRachelle Kearl \nStacey Walyuchow
URL:https://cspacemardaloop.com/event/riverview-artists-showcase-flow/
LOCATION:cSPACE Marda Loop\, 1721 29 Avenue Southwest\, Calgary\, AB\, T2T 6T7\, Canada
CATEGORIES:Gallery Level 2
ATTACH;FMTTYPE=image/jpeg:https://cspacemardaloop.com/wp-content/uploads/2024/06/cspace_flow_rva-artists_-instagram-post-1.jpg
END:VEVENT
BEGIN:VEVENT
DTSTART;TZID=America/Edmonton:20240617T130000
DTEND;TZID=America/Edmonton:20240702T170000
DTSTAMP:20260425T122134
CREATED:20240627T224927Z
LAST-MODIFIED:20240627T225451Z
UID:10002498-1718629200-1719939600@cspacemardaloop.com
SUMMARY:2024 KOREAN ART EXHIBITION
DESCRIPTION:cSPACE Marda Loop\nGallery Level 1\nUntil June 29th\n\nCalgary Korean Women’s Association presents a giant group show packed with talent!
URL:https://cspacemardaloop.com/event/2024-korean-art-exhibition/
LOCATION:cSPACE Marda Loop\, 1721 29 Avenue Southwest\, Calgary\, AB\, T2T 6T7\, Canada
CATEGORIES:Gallery Level 2
ATTACH;FMTTYPE=image/jpeg:https://cspacemardaloop.com/wp-content/uploads/2024/06/dc5c09a93786523080f44ab3deddedb7.jpg
END:VEVENT
BEGIN:VEVENT
DTSTART;VALUE=DATE:20240527
DTEND;VALUE=DATE:20240609
DTSTAMP:20260425T122134
CREATED:20240415T160851Z
LAST-MODIFIED:20240603T231741Z
UID:10001653-1716768000-1717891199@cspacemardaloop.com
SUMMARY:Celebrating the Artistry of Bob Greenwood
DESCRIPTION:cSPACE Marda Loop\nLevel 2 Gallery \nEXTENDED! \nCelebrate the paintings\, art\, sculpture\, and creative spirit of Bob Greenwood; an artist who made his impact felt around the globe. \n 
URL:https://cspacemardaloop.com/event/celebrating-the-artistry-of-bob-greenwood/
LOCATION:cSPACE Marda Loop\, 1721 29 Avenue Southwest\, Calgary\, AB\, T2T 6T7\, Canada
CATEGORIES:Gallery Level 2
ATTACH;FMTTYPE=image/jpeg:https://cspacemardaloop.com/wp-content/uploads/2024/04/bob-art-exhibitionc.jpeg
END:VEVENT
BEGIN:VEVENT
DTSTART;VALUE=DATE:20240515
DTEND;VALUE=DATE:20240526
DTSTAMP:20260425T122134
CREATED:20240429T214411Z
LAST-MODIFIED:20240519T204326Z
UID:10001667-1715731200-1716681599@cspacemardaloop.com
SUMMARY:Gerry Mulhall Exhibition
DESCRIPTION:Up Your Alley\ncSPACE Marda Loop\nGallery Level 2\nMay 15-25th \nArtist Reception: Saturday May 18th\, 2-5pm
URL:https://cspacemardaloop.com/event/gerry-mulhall-exhibition/
LOCATION:cSPACE Marda Loop\, 1721 29 Avenue Southwest\, Calgary\, AB\, T2T 6T7\, Canada
CATEGORIES:Gallery Level 2
ATTACH;FMTTYPE=image/jpeg:https://cspacemardaloop.com/wp-content/uploads/2024/04/up-your-alley-oil-painting-exhibition-by-gerard-mulhall_20240425_185828_0000.jpg
END:VEVENT
BEGIN:VEVENT
DTSTART;TZID=UTC:20240430T080000
DTEND;TZID=UTC:20240511T200000
DTSTAMP:20260425T122134
CREATED:20240330T024123Z
LAST-MODIFIED:20240502T191632Z
UID:10001631-1714464000-1715457600@cspacemardaloop.com
SUMMARY:Alison Frank's Love Aquatic
DESCRIPTION:cSPACE Marda Loop\nLevel 2 Gallery\nApril 29-May 11\, 2024 \nLove Aquatic is an art exhibition featuring the painting\, drawing and photography by Alison Frank. It is the merger of her work as a visual artist and as a professional mermaid. Her paintings in this collection are inspired by the beauty experienced and captured through her freediving as a mermaid. The underwater world is a tranquil escape where time and daily pressures seem to dissolve. Water and the gravity free environment have many therapeutic healing benefits from fitness to pain relief. This solstice has been one component\, for her\, in managing a diagnosis with Multiple Sclerosis in a holistic approach. To this underwater world\, she adds her surreal and playful mix of characters. Children gravitate to water and the joy of swimming. As adults\, we often lose our affinity for this magical place. She visually shares the ephemeral beauty of the way water reflects light in a way we can never experience above the surface. Through this exhibition\, she hopes to connect to viewers in a way that might inspire them to revisit the water and experience it’s many benefits. \nInstagram: @snowbunnymermaid
URL:https://cspacemardaloop.com/event/alison-franks-love-aquatic/
LOCATION:AB
CATEGORIES:Gallery Level 2
ATTACH;FMTTYPE=image/jpeg:https://cspacemardaloop.com/wp-content/uploads/2024/03/alison-frank-love-aquatic-artist-exhibition.jpg
END:VEVENT
BEGIN:VEVENT
DTSTART;TZID=UTC:20240318T080000
DTEND;TZID=UTC:20240427T200000
DTSTAMP:20260425T122134
CREATED:20240319T162014Z
LAST-MODIFIED:20240319T162526Z
UID:10001331-1710748800-1714248000@cspacemardaloop.com
SUMMARY:Camino\, an Exhibition from Greg Doherty
DESCRIPTION:Camino\, Greg Doherty\nLevel 2 cSPACE Marda Loop\nMarch 18-April 29 \nGreg draws his inspirations from art history\, nature\, light\, colours and shadows\, as shown in this exhibition. He collects the beauty of landscapes and will occasionally translate his feelings into an abstraction. \nArtist Statement \nMy original camino walk was from Saint Jean Pieds-de-Port in France to Santiago\, Spain for a total distance of 820 km. More recently\, my wife\, Lory and I\, have walked a couple more Caminos of Santiago. Our starting points have been Porto\, Portugal and Ferrol\, Spain. This latest walk included a trip to the “end of the world\,” Finisterre. \nAll along the different routes there is so much beauty. I have felt the need to respond to these beautiful scenes with some paintings. This show contains some of these efforts as well as a few other pieces that were inspired by our surroundings in Alberta. \nMy expressions move between representations and abstractions . The Camino of life moves me along a variety of roads and it is my goal to continue on this artistic path.
URL:https://cspacemardaloop.com/event/camino-an-exhibition-from-greg-doherty/
LOCATION:cSPACE Marda Loop\, 1721 29 Avenue Southwest\, Calgary\, AB\, T2T 6T7\, Canada
CATEGORIES:Gallery Level 2
ATTACH;FMTTYPE=image/jpeg:https://cspacemardaloop.com/wp-content/uploads/2024/03/greg-doherty.jpg
END:VEVENT
BEGIN:VEVENT
DTSTART;TZID=UTC:20240129T080000
DTEND;TZID=UTC:20240229T200000
DTSTAMP:20260425T122134
CREATED:20240129T223237Z
LAST-MODIFIED:20240205T191948Z
UID:10000333-1706515200-1709236800@cspacemardaloop.com
SUMMARY:Exposure Photo Fest: FOOD FOUND FORGOTTEN\, Shallon Cunningham
DESCRIPTION:The Exposure Photo Fest runs for the month of February in galleries and non-traditional art spaces across Calgary. cSPACE is proud to participate with galleries on all four levels of cSPACE Marda Loop.  \nFOOD FOUND FORGOTTEN \nPhotographer: Shallon Cunningham\nHallway Gallery Level 2\ncSPACE Marda Loop\nFor the month of February \nA photography exhibit by Food Found Forgotten\, featuring mothers and grandmothers celebrating family heritage and recipes. \n\n“The power these women have had on our lives is undeniable. None of us would be where we are without them. Their strength\, their determination\, their love and support\, have made us who we are today…” – Shallon Cunningham\, Photographer and Founder\, Food Found Forgotten. \n\nFood Found Forgotten’s purpose is to capture these moments and stories\, before they are forgotten.
URL:https://cspacemardaloop.com/event/exposure-photo-fest-food-found-forgotten-shallon-cunningham/
LOCATION:cSPACE Marda Loop\, 1721 29 Avenue Southwest\, Calgary\, AB\, T2T 6T7\, Canada
CATEGORIES:Gallery Level 2
ATTACH;FMTTYPE=image/jpeg:https://cspacemardaloop.com/wp-content/uploads/2024/01/found-food-e1707160701864.jpg
END:VEVENT
BEGIN:VEVENT
DTSTART;VALUE=DATE:20231204
DTEND;VALUE=DATE:20240128
DTSTAMP:20260425T122134
CREATED:20231117T164437Z
LAST-MODIFIED:20231120T172522Z
UID:10000246-1701648000-1706399999@cspacemardaloop.com
SUMMARY:I See You
DESCRIPTION:cSPACE Marda Loop\nLevel 2 Gallery \nSolo show of portraits by Lenore Gish. \nARTIST STATEMENT \nI SEE YOU is a tribute to the women in my life.. This collection of work delves into the complex\, diverse and intriguing community of women who have become part of my world. These ladies are a cumulation of family\, friends\, and strangers who have wandered through my studio. \nA number of my works in I SEE YOU are watercolour on paper. I’ve surrounded them with multiple layers of acrylic paint\, paper\, fabric\, inks\, pencil and sewing machine stitches. Using mixed media enabled me to create visual interest and tension on the surface\, emphasizing the beauty and wisdom of my subject. The layering process represents my long history with quilt making\, especially my delight at creating details that can only be appreciated close up. Lastly the stitching is an integral part of my work. Not only is the stitching a part of my history\, it is the common thread between us all. \nIt is my hope that viewers will connect with the narratives woven within each piece. From strength to vulnerability\, resilience to introspection\, “I SEE YOU” is especially sensitive to how woman have struggled to feel ”seen” in history. It is an exploration of identity\, empowerment\, and the universal threads that bind us all. Step into my world where through the language of art\, the female narrative takes center stage.
URL:https://cspacemardaloop.com/event/i-see-you/
LOCATION:cSPACE Marda Loop\, 1721 29 Avenue Southwest\, Calgary\, AB\, T2T 6T7\, Canada
CATEGORIES:Gallery Level 2
ATTACH;FMTTYPE=image/jpeg:https://cspacemardaloop.com/wp-content/uploads/2023/11/1d8c609c-e3f0-4c6c-be1c-5ca0dce4c5c4.jpg
END:VEVENT
BEGIN:VEVENT
DTSTART;VALUE=DATE:20231127
DTEND;VALUE=DATE:20231203
DTSTAMP:20260425T122134
CREATED:20231106T173438Z
LAST-MODIFIED:20231117T163053Z
UID:10000222-1701043200-1701561599@cspacemardaloop.com
SUMMARY:FCA Juried Winter Exhibition and Sale: Small Works
DESCRIPTION:The Federation of Canadian Artists Calgary Chapter is inviting art lovers to their small works exhibition.  \nWe are delighted to introduce a new FCA juried exhibition at cSPACE\, featuring a specially curated collection of artworks measuring 16×16 inches and smaller – perfect for thoughtful gifts. \nOur talented artists have submitted their finest small paintings for evaluation by a panel of three distinguished Signature Status Artists chosen by the Federation of Canadian Artists\, who have expertly curated this exceptional show for your enjoyment. \nThe exhibition will be accessible for both online viewing and in-person visits at cSPACE Marda Loop from November 27th to December 2nd. You can make online purchases of the available artworks during this period\, or opt for an in-person visit on December 2nd from 2 to 6pm to make your selection.
URL:https://cspacemardaloop.com/event/fca-juried-winter-exhibition-and-sale-small-works/
LOCATION:cSPACE Marda Loop\, 1721 29 Avenue Southwest\, Calgary\, AB\, T2T 6T7\, Canada
CATEGORIES:Gallery Level 1,Gallery Level 2
ATTACH;FMTTYPE=image/jpeg:https://cspacemardaloop.com/wp-content/uploads/2023/11/unnamed-2.jpg
END:VEVENT
BEGIN:VEVENT
DTSTART;VALUE=DATE:20231031
DTEND;VALUE=DATE:20231203
DTSTAMP:20260425T122134
CREATED:20231005T194543Z
LAST-MODIFIED:20231117T185117Z
UID:10000194-1698710400-1701561599@cspacemardaloop.com
SUMMARY:METAL Firecrackers and the Electric BLING/ CORONORAMA
DESCRIPTION:New and existing art works by Dana Schindelka and Danielle Bartlette \nFloors 2 and 3 cSPACE Marda Loop\nOctober 31st – November 26th\nOpening for Invited Guests Only: Thursday\, November 5pm-8pm\nLive music- Gil Tougas 5:30-7:30pm \nUPDATE: Danielle Bartlette’s CORONORAMA solo exhibition is extended until December 2th on Level 3.  \nDana Schindelka is a Calgary based visual artist who uses mixed media to examine the relationship between recollection\, reality\, and imagination. Dana uses acrylic paint and other materials\, such as metal substrates\, collage\, metallic leafing and inks to create his art and his works have been the subject of gallery representation\, private\, and business collections. \nDanielle Bartlette was born and raised in Winnipeg\, where she attended the School of Art (Fine Arts Honours Program at the University of Manitoba). In 2000\, she moved to Calgary to further her experience as an artist and currently exhibits artwork for sale through local galleries. Her paintings are scattered in homes\, private & corporate collections around Canada\, USA\, and Europe. Danielle started her own business\, Neon Milkshake Art Studio\, in 2016 and has been facilitating art classes since 2007. \nDanielle says\, “METAL Firecrackers and the Electric Bling is a selection of works created by two artists who have creative similarities and respect for one another’s practice. We are each exhibiting new and existing works. My work will exhibit selections from past series\, as well as a number of works in a new series titled CORONARAMA (created 2020-2023) which reflects the mood\, describes events and is an emotional response to the pandemic\, at different times throughout the event. Dollar Store materials\, thrift store finds juxtaposed with top quality artist materials and 24k gold on canvas/ wooden substrates are often found in the mix.”\n \n\nTogether\, these two artists are showcasing works that will catch your eye with noisy prints and/or loud colours. Lean in close to see all the textures and detail.
URL:https://cspacemardaloop.com/event/metal-firecrackers-and-the-electric-bling/
LOCATION:cSPACE Marda Loop\, 1721 29 Avenue Southwest\, Calgary\, AB\, T2T 6T7\, Canada
CATEGORIES:Gallery Level 2,Gallery Level 3
ATTACH;FMTTYPE=image/jpeg:https://cspacemardaloop.com/wp-content/uploads/2023/10/1677649622047438921-e1698442299713.jpg
END:VEVENT
BEGIN:VEVENT
DTSTART;TZID=UTC:20230915T170000
DTEND;TZID=UTC:20230915T200000
DTSTAMP:20260425T122135
CREATED:20230908T202057Z
LAST-MODIFIED:20230908T202058Z
UID:10000180-1694797200-1694808000@cspacemardaloop.com
SUMMARY:Meet the Artist:Tory Manywounds and Rooted
DESCRIPTION:cSPACE Marda Loop\nGallery Level 2 \nMeet the Artist Reception\nFriday September 15\, 5pm-8pm \nArt works by Tory Manywounds depicting biracial life and more through his lens. A series of various mediums showcase the feelings of being in between two cultures and more. \nHear more about Tory and Rooted in this interview from Tory’s Artist-in-Residency at cSPACE Eau Claire.
URL:https://cspacemardaloop.com/event/rootedencore-art-by-tory-manywounds-2/
LOCATION:cSPACE Marda Loop\, 1721 29 Avenue Southwest\, Calgary\, AB\, T2T 6T7\, Canada
CATEGORIES:Gallery Level 2
ATTACH;FMTTYPE=image/jpeg:https://cspacemardaloop.com/wp-content/uploads/2023/09/rooted.jpeg
END:VEVENT
BEGIN:VEVENT
DTSTART;TZID=UTC:20230907T080000
DTEND;TZID=UTC:20231002T200000
DTSTAMP:20260425T122135
CREATED:20230907T230830Z
LAST-MODIFIED:20230908T202408Z
UID:10000179-1694073600-1696276800@cspacemardaloop.com
SUMMARY:ROOTED…Encore Art by Tory Manywounds
DESCRIPTION:cSPACE Marda Loop\nGallery Level 2 \nMeet the Artist Reception\nFriday September 15\, 5pm-8pm \nArt works by Tory Manywounds depicting biracial life and more through his lens. A series of various mediums showcase the feelings of being in between two cultures and more. \nHear more about Tory and Rooted in this interview from Tory’s Artist-in-Residency at cSPACE Eau Claire.
URL:https://cspacemardaloop.com/event/rootedencore-art-by-tory-manywounds/
LOCATION:cSPACE Marda Loop\, 1721 29 Avenue Southwest\, Calgary\, AB\, T2T 6T7\, Canada
CATEGORIES:Gallery Level 2
ATTACH;FMTTYPE=image/jpeg:https://cspacemardaloop.com/wp-content/uploads/2023/09/rooted.jpeg
END:VEVENT
BEGIN:VEVENT
DTSTART;TZID=UTC:20230903T083000
DTEND;TZID=UTC:20230903T223000
DTSTAMP:20260425T122135
CREATED:20230824T163532Z
LAST-MODIFIED:20230824T165857Z
UID:10000138-1693729800-1693780200@cspacemardaloop.com
SUMMARY:Hong Kong Culture Day Market
DESCRIPTION:The Calgary Hong Kong Cultural Day promotes cultural diversity and inclusion\, and celebrates the culture of Hong Kong. It also creates a platform for local Hong Kongers to showcase their talents. Through various cultural activities and performances\, Calgarians can immerse in a unique cultural exchange experience. \nMarket\, workshops and performances throughout the building. There are more than 30 booths for Hong Kong people\, where a group of outstanding owners will bring you homemade handicrafts or a variety of Hong Kong specialty products. \nFree to attend! \nPart of Alberta Culture Days.
URL:https://cspacemardaloop.com/event/hong-kong-culture-day/
LOCATION:cSPACE Marda Loop\, 1721 29 Avenue Southwest\, Calgary\, AB\, T2T 6T7\, Canada
CATEGORIES:Gallery Level 1,Gallery Level 2,Gallery Level 3,RGO Treehouse Full,Studio Theatre
ATTACH;FMTTYPE=image/jpeg:https://cspacemardaloop.com/wp-content/uploads/2023/08/screen-shot-2023-08-24-at-10.34.32-am.jpg
END:VEVENT
BEGIN:VEVENT
DTSTART;VALUE=DATE:20230527
DTEND;VALUE=DATE:20230801
DTSTAMP:20260425T122135
CREATED:20230607T180455Z
LAST-MODIFIED:20230607T180455Z
UID:10000043-1685145600-1690847999@cspacemardaloop.com
SUMMARY:Photographic Exhibition by Manuel Secher
DESCRIPTION:SPACE MARDA LOOP\nLevel 2 Gallery\nMay 27 – July 31\, 2023 \nFROM THE ARTIST\nDuring my travels\, I discovered a fascination for landscape and cityscape photography. The beauty of the Rockies and my thirst for adventure fulfilled my passion so I stayed here. I often combine a wilderness excursion with my landscape photography\, reaching remote locations of spectacular beauty. \nThrough my photography\, I take great pleasure in sharing the magnificence and beauty of all the places I have visited\, with my friends and family … and you!
URL:https://cspacemardaloop.com/event/photographic-exhibition-by-manuel-secher/
LOCATION:cSPACE Marda Loop\, 1721 29 Avenue Southwest\, Calgary\, AB\, T2T 6T7\, Canada
CATEGORIES:Gallery Level 2
ATTACH;FMTTYPE=image/jpeg:https://cspacemardaloop.com/wp-content/uploads/2023/06/img_01791.jpg
END:VEVENT
END:VCALENDAR