BEGIN:VCALENDAR
VERSION:2.0
PRODID:-//cSPACE Marda Loop - ECPv6.15.20//NONSGML v1.0//EN
CALSCALE:GREGORIAN
METHOD:PUBLISH
X-ORIGINAL-URL:https://cspacemardaloop.com
X-WR-CALDESC:Events for cSPACE Marda Loop
REFRESH-INTERVAL;VALUE=DURATION:PT1H
X-Robots-Tag:noindex
X-PUBLISHED-TTL:PT1H
BEGIN:VTIMEZONE
TZID:UTC
BEGIN:STANDARD
TZOFFSETFROM:+0000
TZOFFSETTO:+0000
TZNAME:UTC
DTSTART:20240101T000000
END:STANDARD
END:VTIMEZONE
BEGIN:VEVENT
DTSTART;VALUE=DATE:20250922
DTEND;VALUE=DATE:20251104
DTSTAMP:20260421T070814
CREATED:20251002T172219Z
LAST-MODIFIED:20251016T165538Z
UID:10005023-1758499200-1762214399@cspacemardaloop.com
SUMMARY:EXHIBITION: Gilded Memory\, Clouded Truth by Michelle Atkinson and Danielle Bartlette
DESCRIPTION:Gilded Memory\, Clouded Truth by Michelle Atkinson and Danielle Bartlette \ncSPACE Marda Loop\nLevel 1 \nSeptember 22 – November 3\, 2025\n8:00 AM – 8:00 PM (Closed Sundays) \nGildedMemory\, Clouded Truth presents the work of Michelle Atkinson and Danielle Bartlette\, two artists whose practices approach truth through layers of beauty\, memory\, and allure. \nAtkinson transforms raw climate data into silkscreened forms that recall clouds\, candy\, and dreamscapes. These luminous surfaces veil the wildfires and environmental upheaval beneath\, asking viewers to look closer at the stories we sugarcoat. \nBartlette’s mixed-media paintings reassemble memory through texture\, collage\, and embellishment. Her work navigates romance\, urban landscapes\, and personal history\, turning fragments of lived experience into lush abstractions. Placed side by side\, the works spark dialogue about what is hidden and what is revealed. Whether through the shimmer of glitter or the glint of gold leaf\, both artists remind us that surfaces hold weight — and beauty often conceals a more complicated truth. \nMore from the Artists: \nMichelle Atkinson – michelle-atkinson.ca \nDanielle Bartlette – neonmilkshake.com
URL:https://cspacemardaloop.com/event/gilded-memory-clouded-truth/
LOCATION:cSPACE Marda Loop\, 1721 29 Avenue Southwest\, Calgary\, AB\, T2T 6T7\, Canada
CATEGORIES:Gallery Level 1
ATTACH;FMTTYPE=image/jpeg:https://cspacemardaloop.com/wp-content/uploads/2025/10/gilded-memory-clouded-truth.jpg
END:VEVENT
BEGIN:VEVENT
DTSTART;VALUE=DATE:20251103
DTEND;VALUE=DATE:20251130
DTSTAMP:20260421T070814
CREATED:20251017T172025Z
LAST-MODIFIED:20251017T181343Z
UID:10005784-1762128000-1764460799@cspacemardaloop.com
SUMMARY:EXHIBITION: New Work\, Old Work\, Work by Rita Sirignano and Peter Moller
DESCRIPTION:New Work\, Old Work\, Work by Rita Sirignano and Peter Moller \ncSPACE Marda Loop\nLevel 1 \nNovember 3 – November 29\, 2025\n8:00 AM – 8:00 PM (Closed Sundays) \nOpening Reception: November 5 \nNew Work\, Old Work\, Work presents the work of Rita Sirignano and Peter Moller. \nRita Sirignano and Peter Moller are friends and colleagues. \nOne particular day\, Peter told Rita he was inspired to try some abstract colour painting after having seen some of her works. \nAfter Rita saw his experiments\, they decided that it would be fun to have a co-exhibition presenting recent works\, older pieces\, collaborations and site specific creations at cSpace’s Level 1 Hallway Gallery. An exhibition was born. \nMore from the Artists: \nPeter Moller – www.eggpress.ca \nRita Sirignano – @ritavsirignano
URL:https://cspacemardaloop.com/event/new-work-old-work-work/
LOCATION:cSPACE Marda Loop\, 1721 29 Avenue Southwest\, Calgary\, AB\, T2T 6T7\, Canada
CATEGORIES:Gallery Level 1
ATTACH;FMTTYPE=image/jpeg:https://cspacemardaloop.com/wp-content/uploads/2025/10/rp_800x600.jpg
END:VEVENT
END:VCALENDAR