BEGIN:VCALENDAR
VERSION:2.0
PRODID:-//cSPACE Marda Loop - ECPv6.15.20//NONSGML v1.0//EN
CALSCALE:GREGORIAN
METHOD:PUBLISH
X-WR-CALNAME:cSPACE Marda Loop
X-ORIGINAL-URL:https://cspacemardaloop.com
X-WR-CALDESC:Events for cSPACE Marda Loop
REFRESH-INTERVAL;VALUE=DURATION:PT1H
X-Robots-Tag:noindex
X-PUBLISHED-TTL:PT1H
BEGIN:VTIMEZONE
TZID:UTC
BEGIN:STANDARD
TZOFFSETFROM:+0000
TZOFFSETTO:+0000
TZNAME:UTC
DTSTART:20240101T000000
END:STANDARD
END:VTIMEZONE
BEGIN:VEVENT
DTSTART;VALUE=DATE:20250908
DTEND;VALUE=DATE:20250921
DTSTAMP:20260421T124619
CREATED:20250904T233325Z
LAST-MODIFIED:20250904T233633Z
UID:10005011-1757289600-1758412799@cspacemardaloop.com
SUMMARY:Exhibition: Fabulous Over 40 by Laurie MacBrown Photography
DESCRIPTION:Fabulous Over 40 by Laurie MacBrown Photography\ncSPACE Marda Loop\nGallery Level 1\nSeptember 8 – 20\, 2025\n8:00 AM – 8:00 PM (Closed Sundays) \n\n\n\nThis isn’t just pretty pictures. It’s a celebration of women who are part of a growing movement to challenge the false narrative that beauty fades with age. \nThe Fabulous Over 40 Art Exhibit shines a spotlight on the portraits and stories of women aged 40 and up. \nInstead of being shamed into the shadows\, each of these women chose to step into the light. \nThey said yes to a transformative boudoir portrait experience. They said yes to being seen. Boldly\, vulnerably\, and without apology. \nThe goal? To rewrite the story: Women over 40 are beautiful. The ticking clock is a myth. And the years ahead are something to look forward to. \nAs an artist and photographer\, my mission is to challenge outdated beauty standards and offer a new perspective. One that I see for myself every day as a boudoir photographer for women over 40. We’ve been sold a lie. There is no expiration date on beauty. Let me prove it to you! \nThis exhibit is proof that beauty exists in every chapter of life\, and that it’s never too late to feel truly seen. \nAbout the Artist \nWebsite: www.lauriemacbrownphotography.com \nYou may know me as your photographer\, but what you might not know is why I do this. \nI started photographing women to figure out the secret to looking good in photos\, because I never liked photos of myself\, and I thought there was something wrong with me. What I’ve learned is this: being photogenic is not about how you look on the outside. It’s about feeling beautiful and having someone capture that so you can see it too. \nToday\, I’m an accredited\, multi award-winning portrait photographer\, and my mission is to show women\, especially those over 40\, that every body is beautiful and worthy of being photographed\, even without clothes on. \nI invite you to see yourself\, and women like you\, in a whole new light.
URL:https://cspacemardaloop.com/event/exhibition-fabulous-over-40-by-laurie-macbrown-photography/
LOCATION:cSPACE Marda Loop\, 1721 29 Avenue Southwest\, Calgary\, AB\, T2T 6T7\, Canada
CATEGORIES:Gallery Level 1
ATTACH;FMTTYPE=image/jpeg:https://cspacemardaloop.com/wp-content/uploads/2025/09/fabulous-over-40-for-cspace-website.jpg
END:VEVENT
BEGIN:VEVENT
DTSTART;TZID=UTC:20250912T080000
DTEND;TZID=UTC:20250912T160000
DTSTAMP:20260421T124619
CREATED:20250811T200623Z
LAST-MODIFIED:20250811T200623Z
UID:10004993-1757664000-1757692800@cspacemardaloop.com
SUMMARY:2025 ACGC Annual Conference: The Future We Want
DESCRIPTION:As the international cooperation sector faces new challenges everyday\, our values are put at risk. How do we ensure that we are able to continue our peace-building and sustainable development work with integrity? Where do decolonization\, feminism\, and equity stand? What are our priorities moving forward? ACGC invites you to explore these questions at the 2025 Annual Conference\, titled: The Future We Want: Alberta’s Role in International Cooperation in a Rapidly Changing World. This is a space for Alberta’s international cooperation sector to gather together\, engage in meaningful dialogue regarding Alberta’s future\, and hear from experts in the field. \nThis is a hybrid conference taking place in Calgary\, Alberta on September 12th\, 2025. Attendees will be able to join virtually on Zoom or in person. Attendance is free\, and in-person attendees can enjoy breakfast and lunch at the venue. \nACGC’s 2025 Annual General Meeting will be held at lunch time during the Conference\, and we encourage all members to attend and anyone new or interested to come learn about ACGC!
URL:https://cspacemardaloop.com/event/2025-acgc-annual-conference-the-future-we-want/
LOCATION:cSPACE Marda Loop-  Studio Theatre\, 1721 29th Ave. SW\, Calgary\, AB\, T2T 6T7\, Canada
CATEGORIES:Gallery Level 1,Studio Theatre
ATTACH;FMTTYPE=image/jpeg:https://cspacemardaloop.com/wp-content/uploads/2025/08/https___cdn.evbuc_.com_images_1090918513_4073979620_1_original.jpeg
ORGANIZER;CN="Alberta Council for Global Cooperation":MAILTO:hope.salim@acgc.ca
END:VEVENT
END:VCALENDAR