BEGIN:VCALENDAR
VERSION:2.0
PRODID:-//cSPACE Marda Loop - ECPv6.15.20//NONSGML v1.0//EN
CALSCALE:GREGORIAN
METHOD:PUBLISH
X-WR-CALNAME:cSPACE Marda Loop
X-ORIGINAL-URL:https://cspacemardaloop.com
X-WR-CALDESC:Events for cSPACE Marda Loop
REFRESH-INTERVAL;VALUE=DURATION:PT1H
X-Robots-Tag:noindex
X-PUBLISHED-TTL:PT1H
BEGIN:VTIMEZONE
TZID:UTC
BEGIN:STANDARD
TZOFFSETFROM:+0000
TZOFFSETTO:+0000
TZNAME:UTC
DTSTART:20230101T000000
END:STANDARD
END:VTIMEZONE
BEGIN:VEVENT
DTSTART;TZID=UTC:20240818T130000
DTEND;TZID=UTC:20240818T150000
DTSTAMP:20260421T113730
CREATED:20240723T222918Z
LAST-MODIFIED:20240724T165101Z
UID:10002545-1723986000-1723993200@cspacemardaloop.com
SUMMARY:Classic Car Show
DESCRIPTION:If you have a classic car\, come down and show it off (no registration required). If you’re a fan\, then check out the history\, art and design on display in automotive form. Enjoy a performance by The JT Band and free lunch for all car owners. Donations for the Food Bank are welcome. \nHosted by The Edward and cSPACE Marda Loop on August 18 from 1-3 pm.
URL:https://cspacemardaloop.com/event/classic-car-show/
LOCATION:cSPACE Marda Loop – Art Park
CATEGORIES:Art Park
ATTACH;FMTTYPE=image/jpeg:https://cspacemardaloop.com/wp-content/uploads/2024/07/car-show.jpg
ORGANIZER;CN="The Edward":MAILTO:deanna.bensler@optimaliving.ca
END:VEVENT
END:VCALENDAR