BEGIN:VCALENDAR
VERSION:2.0
PRODID:-//cSPACE Marda Loop - ECPv6.15.20//NONSGML v1.0//EN
CALSCALE:GREGORIAN
METHOD:PUBLISH
X-WR-CALNAME:cSPACE Marda Loop
X-ORIGINAL-URL:https://cspacemardaloop.com
X-WR-CALDESC:Events for cSPACE Marda Loop
REFRESH-INTERVAL;VALUE=DURATION:PT1H
X-Robots-Tag:noindex
X-PUBLISHED-TTL:PT1H
BEGIN:VTIMEZONE
TZID:UTC
BEGIN:STANDARD
TZOFFSETFROM:+0000
TZOFFSETTO:+0000
TZNAME:UTC
DTSTART:20230101T000000
END:STANDARD
END:VTIMEZONE
BEGIN:VEVENT
DTSTART;TZID=UTC:20240711T090000
DTEND;TZID=UTC:20240711T110000
DTSTAMP:20260421T143340
CREATED:20240607T231827Z
LAST-MODIFIED:20240607T231827Z
UID:10002432-1720688400-1720695600@cspacemardaloop.com
SUMMARY:Pancake Breakfast for Artists & Friends
DESCRIPTION:cSPACE Marda Loop\nArt Park\nJuly 11th\n9am-11am \nJoin us for an arts-friendly pancake breakfast during this year’s Stampede. Enjoy delicious pancakes\, live music\, connect with artists\, and celebrate the vibrant community in the heart of Marda Loop. Fun\, food\, and creativity await!
URL:https://cspacemardaloop.com/event/pancake-breakfast-for-artists-friends/
LOCATION:cSPACE Marda Loop – Art Park
CATEGORIES:Art Park
ATTACH;FMTTYPE=image/jpeg:https://cspacemardaloop.com/wp-content/uploads/2024/06/pancake-breakfast.jpg
ORGANIZER;CN="cSPACE Marda Loop":MAILTO:info@cspaceprojects.com
END:VEVENT
END:VCALENDAR