BEGIN:VCALENDAR
VERSION:2.0
PRODID:-//cSPACE Marda Loop - ECPv6.15.20//NONSGML v1.0//EN
CALSCALE:GREGORIAN
METHOD:PUBLISH
X-ORIGINAL-URL:https://cspacemardaloop.com
X-WR-CALDESC:Events for cSPACE Marda Loop
REFRESH-INTERVAL;VALUE=DURATION:PT1H
X-Robots-Tag:noindex
X-PUBLISHED-TTL:PT1H
BEGIN:VTIMEZONE
TZID:UTC
BEGIN:STANDARD
TZOFFSETFROM:+0000
TZOFFSETTO:+0000
TZNAME:UTC
DTSTART:20230101T000000
END:STANDARD
END:VTIMEZONE
BEGIN:VEVENT
DTSTART;TZID=UTC:20240711T090000
DTEND;TZID=UTC:20240711T110000
DTSTAMP:20260421T010940
CREATED:20240607T231827Z
LAST-MODIFIED:20240607T231827Z
UID:10002432-1720688400-1720695600@cspacemardaloop.com
SUMMARY:Pancake Breakfast for Artists & Friends
DESCRIPTION:cSPACE Marda Loop\nArt Park\nJuly 11th\n9am-11am \nJoin us for an arts-friendly pancake breakfast during this year’s Stampede. Enjoy delicious pancakes\, live music\, connect with artists\, and celebrate the vibrant community in the heart of Marda Loop. Fun\, food\, and creativity await!
URL:https://cspacemardaloop.com/event/pancake-breakfast-for-artists-friends/
LOCATION:cSPACE Marda Loop – Art Park
CATEGORIES:Art Park
ATTACH;FMTTYPE=image/jpeg:https://cspacemardaloop.com/wp-content/uploads/2024/06/pancake-breakfast.jpg
ORGANIZER;CN="cSPACE Marda Loop":MAILTO:info@cspaceprojects.com
END:VEVENT
BEGIN:VEVENT
DTSTART;TZID=UTC:20240713T100000
DTEND;TZID=UTC:20240713T140000
DTSTAMP:20260421T010940
CREATED:20240519T203120Z
LAST-MODIFIED:20240519T203120Z
UID:10001649-1720864800-1720879200@cspacemardaloop.com
SUMMARY:The Market at cSPACE Marda Loop
DESCRIPTION:Join us for a brand new outdoor inner-city market on Art Park at cSPACE Marda Loop!\nJoin us at The Market at cSPACE Marda Loop for a vibrant fusion of art\, culture\, and foodie goodies! Enjoy a lively atmosphere celebrating local talents and flavours. \n🌟 Highlights:\n– Discover unique arts and crafts from talented vendors 🎨✂️\n– Enjoy engaging free programming for kids from the amazing artists at Jube School 🧒🎨\n– Explore a variety of fresh local produce and culinary delights from food vendors 🥦🍅\n– Delight in live performances by both established and emerging artists 🎶🎤 \nWhether you’re in search of farm-fresh produce\, one-of-a-kind handmade treasures\, family-friendly activities\, or simply want to groove to some tunes\, The Market at cSPACE Marda Loop offers something special for everyone.
URL:https://cspacemardaloop.com/event/the-market-at-cspace-marda-loop-5/
LOCATION:cSPACE Marda Loop – Art Park
CATEGORIES:Art Park
ATTACH;FMTTYPE=image/jpeg:https://cspacemardaloop.com/wp-content/uploads/2024/04/market-tents.jpg
ORGANIZER;CN="cSPACE Marda Loop":MAILTO:info@cspaceprojects.com
END:VEVENT
BEGIN:VEVENT
DTSTART;TZID=UTC:20240713T130000
DTEND;TZID=UTC:20240713T180000
DTSTAMP:20260421T010940
CREATED:20240607T232440Z
LAST-MODIFIED:20240704T200220Z
UID:10002433-1720875600-1720893600@cspacemardaloop.com
SUMMARY:Beer Garden 2024
DESCRIPTION:Art Yard at cSPACE Marda Loop\nSaturday\, July 13\n1pm-6pm \nCelebrate Summer with cSPACE’s July Beer Garden!\nOur annual Beer Garden features Alberta Craft Gallery selling one of a kind handmade beer steins. Each stein purchase comes with a free fill of your favourite Blindman Brew. \nOn the Beer Garden Stage\n2pm – Geoff Mackenzie\n4pm – Ben Tizzard and Linden Conroy \nExplore inside cSPACE Marda Loop and discover Alexandra Writers’ Centre Society’s annual book sale\, as well as showcase items from more of our arts and culture community. \nEnjoy a vibrant community atmosphere where fun\, music\, and great finds await!
URL:https://cspacemardaloop.com/event/beer-garden-and-showcase/
LOCATION:cSPACE Marda Loop\, 1721 29 Avenue Southwest\, Calgary\, AB\, T2T 6T7\, Canada
CATEGORIES:Art Park
ATTACH;FMTTYPE=image/jpeg:https://cspacemardaloop.com/wp-content/uploads/2024/06/beer-garden-photo-v3.jpg
END:VEVENT
BEGIN:VEVENT
DTSTART;TZID=UTC:20240716T193000
DTEND;TZID=UTC:20240716T210000
DTSTAMP:20260421T010940
CREATED:20240522T162140Z
LAST-MODIFIED:20240522T164802Z
UID:10001681-1721158200-1721163600@cspacemardaloop.com
SUMMARY:Garden of Eden Community Concert
DESCRIPTION:All welcome – come enjoy our outdoor community concert!\nChamber Fest West kicks into high gear with a nod to Calgary’s popular Folk Music Festival. Genre-bending classical-folk crossover musicians and Juno award winners The Fretless perform with singer/songwriter Madeleine Roger;  followed by a unique pairing of cello and piano with old friends\, Nicholas Canellakis and Roman Rabinovich. The “brilliant and fearless” Macedonian clarinetist Ismail Lumanovski then joins Roman and Chris Sies to create a magical blend. We’ll have you dancing barefoot in the grass. \nThe Fretless with Madeleine Roger\n \nNicholas Canellakis and Roman Rabinovich \nFestival Musicians (various solos) \nIsmail Lumanovski\, Roman Rabinovich and Chris Sies
URL:https://cspacemardaloop.com/event/garden-of-eden-community-concert/
LOCATION:cSPACE Marda Loop – Art Park
CATEGORIES:Art Park
ATTACH;FMTTYPE=image/jpeg:https://cspacemardaloop.com/wp-content/uploads/2024/05/chamberfest-west.jpg
END:VEVENT
BEGIN:VEVENT
DTSTART;TZID=UTC:20240727T100000
DTEND;TZID=UTC:20240727T140000
DTSTAMP:20260421T010940
CREATED:20240519T203134Z
LAST-MODIFIED:20240519T203134Z
UID:10001656-1722074400-1722088800@cspacemardaloop.com
SUMMARY:The Market at cSPACE Marda Loop
DESCRIPTION:Join us for a brand new outdoor inner-city market on Art Park at cSPACE Marda Loop!\nJoin us at The Market at cSPACE Marda Loop for a vibrant fusion of art\, culture\, and foodie goodies! Enjoy a lively atmosphere celebrating local talents and flavours. \n🌟 Highlights:\n– Discover unique arts and crafts from talented vendors 🎨✂️\n– Enjoy engaging free programming for kids from the amazing artists at Jube School 🧒🎨\n– Explore a variety of fresh local produce and culinary delights from food vendors 🥦🍅\n– Delight in live performances by both established and emerging artists 🎶🎤 \nWhether you’re in search of farm-fresh produce\, one-of-a-kind handmade treasures\, family-friendly activities\, or simply want to groove to some tunes\, The Market at cSPACE Marda Loop offers something special for everyone.
URL:https://cspacemardaloop.com/event/the-market-at-cspace-marda-loop-6/
LOCATION:cSPACE Marda Loop – Art Park
CATEGORIES:Art Park
ATTACH;FMTTYPE=image/jpeg:https://cspacemardaloop.com/wp-content/uploads/2024/04/market-tents.jpg
ORGANIZER;CN="cSPACE Marda Loop":MAILTO:info@cspaceprojects.com
END:VEVENT
BEGIN:VEVENT
DTSTART;TZID=UTC:20240727T100000
DTEND;TZID=UTC:20240727T140000
DTSTAMP:20260421T010941
CREATED:20240725T191923Z
LAST-MODIFIED:20240725T191923Z
UID:10002550-1722074400-1722088800@cspacemardaloop.com
SUMMARY:Jube School: Rozzie Lee\, Chalk Artist
DESCRIPTION:Art Park at cSPACE Marda Loop\n10am-2pm  \nBring the kids to The Market this Saturday and enjoy free activities with Jube School Chalk Artist Rozzie Lee. \nAbout Rozzie Lee \nAlso known as Calgary Chalk Artist on Instagram… Rozzie (Raw-zee) is a Canadian artist specializing in custom artwork for retail/ business spaces\, the home and other applications. Walls\, signage\, and sidewalks are all fair game! \nGet Social:\nwww.calgarychalkartist.com\nwww.instagram.com/calgarychalkartist\nwww.facebook.com/calgarychalkartist
URL:https://cspacemardaloop.com/event/jube-school-rozzie-lee-chalk-artist/
LOCATION:cSPACE Marda Loop – Art Park
CATEGORIES:Art Park
ATTACH;FMTTYPE=image/jpeg:https://cspacemardaloop.com/wp-content/uploads/2024/07/cspace-rozzie-lee-2-1.jpg
END:VEVENT
END:VCALENDAR