BEGIN:VCALENDAR
VERSION:2.0
PRODID:-//cSPACE Marda Loop - ECPv6.15.20//NONSGML v1.0//EN
CALSCALE:GREGORIAN
METHOD:PUBLISH
X-ORIGINAL-URL:https://cspacemardaloop.com
X-WR-CALDESC:Events for cSPACE Marda Loop
REFRESH-INTERVAL;VALUE=DURATION:PT1H
X-Robots-Tag:noindex
X-PUBLISHED-TTL:PT1H
BEGIN:VTIMEZONE
TZID:America/Edmonton
BEGIN:DAYLIGHT
TZOFFSETFROM:-0700
TZOFFSETTO:-0600
TZNAME:MDT
DTSTART:20240310T090000
END:DAYLIGHT
BEGIN:STANDARD
TZOFFSETFROM:-0600
TZOFFSETTO:-0700
TZNAME:MST
DTSTART:20241103T080000
END:STANDARD
BEGIN:DAYLIGHT
TZOFFSETFROM:-0700
TZOFFSETTO:-0600
TZNAME:MDT
DTSTART:20250309T090000
END:DAYLIGHT
BEGIN:STANDARD
TZOFFSETFROM:-0600
TZOFFSETTO:-0700
TZNAME:MST
DTSTART:20251102T080000
END:STANDARD
BEGIN:DAYLIGHT
TZOFFSETFROM:-0700
TZOFFSETTO:-0600
TZNAME:MDT
DTSTART:20260308T090000
END:DAYLIGHT
BEGIN:STANDARD
TZOFFSETFROM:-0600
TZOFFSETTO:-0700
TZNAME:MST
DTSTART:20261101T080000
END:STANDARD
END:VTIMEZONE
BEGIN:VTIMEZONE
TZID:UTC
BEGIN:STANDARD
TZOFFSETFROM:+0000
TZOFFSETTO:+0000
TZNAME:UTC
DTSTART:20250101T000000
END:STANDARD
END:VTIMEZONE
BEGIN:VEVENT
DTSTART;TZID=America/Edmonton:20250927T140000
DTEND;TZID=America/Edmonton:20250927T153000
DTSTAMP:20260420T071248
CREATED:20250902T202946Z
LAST-MODIFIED:20250902T203559Z
UID:10005006-1758981600-1758987000@cspacemardaloop.com
SUMMARY:Artist Talk with Mackenzie Kelly-Frère
DESCRIPTION:Please join Alberta Craft Gallery for an afternoon Artist Talk with Mackenzie Kelly- Frère\n\n\nGet ready for an unforgettable afternoon! Join us at the Alberta Craft Gallery for an inspiring Artist Talk featuring the incredible Mackenzie Kelly-Frère! Discover the creative journey and artistic insights of this talented artist as he shares his passion and process. Don’t miss this chance to engage with the fibre pieces\, ask questions\, and soak in the vibrant atmosphere. Mark your calendars and bring your friends for a delightful experience that celebrates creativity! \nThe Artist Talk will begin with a short introduction to Alberta Fibre Art by Tak Pham\, Curator at the Alberta University of the Arts\, Illingworth Kerr Gallery. \nAfter the Artist talk\, we will be joined downstairs on the second floor\, in the Alberta Craft Gallery by Mackenzie for a short tour of his current exhibition – Drawn. \nMackenzie Kelly-Frère is an artist\, educator and academic living in Mohkinstsis (Calgary). The exhibition examines cloth as a contextual object\, enmeshing ways of thinking and being in the natural world. Kelly-Frère draws on his lived experience of both the Canadian Prairie and a recent artist residency in Blonduos\, Iceland\, to create cloth that reflects situated materialities and our connections to place. \nThis is a free event and everyone is welcome to attend. You don’t need a ticket to attend. \nArtist Talk: Saturday\, September 13\, 2025 | 2 -3:30 pm \nAlberta Craft Calgary Gallery presnts this event at: \ncSPACE – Marda Loop\, Treehouse Room on the 4th floor \n1721 – 29 Avenue SW \nThe parking lot and accessible entrance are off 29 Avenue. Street parking is free around the building. \nExhibition dates September 6 – November 1\, 2025
URL:https://cspacemardaloop.com/event/artist-talk-with-mackenzie-kelly-frere/
LOCATION:AB
CATEGORIES:Alberta Craft Gallery Level 2
ATTACH;FMTTYPE=image/jpeg:https://cspacemardaloop.com/wp-content/uploads/2025/09/d693084857f662effd6e268b8ac01c93.jpg
END:VEVENT
BEGIN:VEVENT
DTSTART;TZID=America/Edmonton:20251122T140000
DTEND;TZID=America/Edmonton:20251122T160000
DTSTAMP:20260420T071248
CREATED:20251103T193538Z
LAST-MODIFIED:20251103T193916Z
UID:10005796-1763820000-1763827200@cspacemardaloop.com
SUMMARY:Alberta Craft Council Presents: Artist Reception for Victoria Sanchez
DESCRIPTION:Alberta Craft Council Presents: Artist Reception for Victoria Sanchez\n\n\n\nRSVP HERE \n\nEveryone is invited to meet the artist at this free SPOTLIGHT Reception for Traces of Becoming by Victoria Sanchez\n\n\n\nWe are pleased to host a public reception with the artist in attendance on November 22 from 2-4 pm. \nAbout the artist Victoria Sanchez \nArtist Statement: \n“Traces of Becoming” reflects a conscious yet playful return to making — a rekindling of my art/jewellery practice as I learn to be a mother and navigate a journey of healing and acceptance. Much like Parenthood\, my ideal process is rooted in passed-on knowledge\, increasingly shaped by instinct and trust. The handmade mark\, the hammer\, the unrepeatable form — each trace becomes both a decision and a memory: an echo of care\, of intention\, and of the quiet hope that I might get it right. \nArtist Bio: Victoria Sanchez is a jeweller\, visual artist\, and arts administrator currently based in Treaty 7 land — Calgary. a jeweller by training (ACAD 2012)\, she likes to explore the intent of personal adornment\, spontaneity and adaptation\, and most importantly\, making with intention and the evidence of human touch. \nReception: Saturday\, November 22\, 2025 | 2 – 4 pm \nAlberta Craft SPOTLIGHT – Calgary cSPACE – Marda Loop\, 2nd floor\, 1729 – 29 Avenue SW\, Calgary \nThe parking lot and accessible entrance are off 29 Avenue. Street parking is available free of charge around the building. \nThis SPOTLIGHT exhibition runs from November 8 to December 24\, 2025.
URL:https://cspacemardaloop.com/event/artist-reception-for-victoria-sanchez/
LOCATION:cSPACE Marda Loop\, 1721 29 Avenue Southwest\, Calgary\, AB\, T2T 6T7\, Canada
CATEGORIES:Alberta Craft Gallery Level 2
ATTACH;FMTTYPE=image/jpeg:https://cspacemardaloop.com/wp-content/uploads/2025/11/https___cdn.evbuc_.com_images_1165701623_227747103692_1_original.jpeg
ORGANIZER;CN="cSPACE Marda Loop":MAILTO:info@cspaceprojects.com
END:VEVENT
BEGIN:VEVENT
DTSTART;TZID=America/Edmonton:20251129T140000
DTEND;TZID=America/Edmonton:20251129T170000
DTSTAMP:20260420T071248
CREATED:20251103T193937Z
LAST-MODIFIED:20251103T193937Z
UID:10005797-1764424800-1764435600@cspacemardaloop.com
SUMMARY:Alberta Craft Council Presents: Bling It! Holiday FunRaiser
DESCRIPTION:Alberta Craft Council Presents: Bling It! Holiday FunRaiser\nGet ready to dazzle and shine! We invited you to embrace the glam and sparkle of the season\, so don your most fabulous bling!\n\n\n\nBling it! Making Spirits Bright and Outfits Brighter!  \nREGISTER HERE \nEveryone is invited to our reimagined holiday FunRaiser \n\nRaffles for Beautiful Craft Pieces\nDoor Prizes\nCookies Galore\nMusic by Erin Ross\nMake a Blingy Holiday Ornament\nMocktail/Cocktail Cash Bar\n\nGet ready to dazzle and shine! We invited you to embrace the glam and sparkle of the season\, so don your most fabulous bling! Let your style radiate with brilliance as we celebrate in a spectacle of shimmering vibes and vibrant energy of Alberta Craft. It’s time to stand out and sparkle like never before! \nwww.albertacraft.ab.ca \nTickets for this fundraising event are non-refundable.
URL:https://cspacemardaloop.com/event/alberta-craft-council-presents-bling-it-holiday-funraiser/
LOCATION:cSPACE Marda Loop\, 1721 29 Avenue Southwest\, Calgary\, AB\, T2T 6T7\, Canada
CATEGORIES:Alberta Craft Gallery Level 2
ATTACH;FMTTYPE=image/jpeg:https://cspacemardaloop.com/wp-content/uploads/2025/11/https___cdn.evbuc_.com_images_1166861583_227747103692_1_original.jpeg
ORGANIZER;CN="cSPACE Marda Loop":MAILTO:info@cspaceprojects.com
END:VEVENT
BEGIN:VEVENT
DTSTART;TZID=America/Edmonton:20251206T093000
DTEND;TZID=America/Edmonton:20251206T170000
DTSTAMP:20260420T071248
CREATED:20251103T192511Z
LAST-MODIFIED:20251103T192511Z
UID:10005795-1765013400-1765040400@cspacemardaloop.com
SUMMARY:Print you own Holiday Stocking with Natalie Gerber
DESCRIPTION:Print you own Holiday Stocking with Natalie Gerber. Presented by Alberta Craft Council\nSaturday\, December 6\n\n9:30am-11:30am\n12:00pm-2:00pm\n3:00pm-5:00pm\n\nREGISTER HERE\n\nJoin surface designer Natalie Gerber for an intro to silkscreen printing. Print a fun one-of-a-kind holiday stocking!\n\n\n\nJoin Alberta Craft Council and Natalie Gerber for a fun and informative workshop and learn about surface pattern design and silkscreen printing. You will be printing your own beautiful linen holiday stocking. \nAbout the artist: Natalie Gerber began her studies in 1995 at The Natal Technikon\, in the Fashion Design program\, Durban (South Africa). After immigrating to Canada her interests in textiles and design developed while studying at The Alberta University of the Arts\, formerly known as Alberta College of Art + Design. Natalie earned a BFA Degree (with Distinction) in Fibre/Textiles in 2003\, and later in 2007\, a post-graduate Certificate in Creative Pattern Cutting for the Fashion Industry\, from the London College of Fashion in London (England). \nHaving recently completed a Master of Fine Arts (MFA) in Craft from the Alberta University of the Arts\, Natalie is currently engaged in a comprehensive exploration of the boundaries and potentialities of textile forms. Her work critically examines the intersection of traditional techniques and contemporary practices\, positioning her contributions within a broader discourse on craft and materiality in the arts. \nNatalie’s work can be found in select boutiques and galleries across Canada\, or in her Calgary-based textile printing studio located at cSPACE. \nAll materials included \nAge: 12+
URL:https://cspacemardaloop.com/event/print-you-own-holiday-stocking-with-natalie-gerber-4/
LOCATION:cSPACE Marda Loop\, 1721 29 Avenue Southwest\, Calgary\, AB\, T2T 6T7\, Canada
CATEGORIES:Alberta Craft Gallery Level 2
ATTACH;FMTTYPE=image/jpeg:https://cspacemardaloop.com/wp-content/uploads/2025/11/https___cdn.evbuc_.com_images_1162418513_227747103692_1_original.jpeg
ORGANIZER;CN="cSPACE Marda Loop":MAILTO:info@cspaceprojects.com
END:VEVENT
BEGIN:VEVENT
DTSTART;TZID=America/Edmonton:20251206T130000
DTEND;TZID=America/Edmonton:20251206T160000
DTSTAMP:20260420T071248
CREATED:20251127T223018Z
LAST-MODIFIED:20251127T223018Z
UID:10005879-1765026000-1765036800@cspacemardaloop.com
SUMMARY:Free Drop-in Workshop - Make a Poinsettia Ornament
DESCRIPTION:Free Drop-in Workshop – Make a Poinsettia Ornament\nPresented by Alberta Craft Council\nSaturday\, December 6 | 1:00-4:00PM\n  \nREGISTER HERE\n\n\nJoin Alberta Craft Council and \n\nSusanah Windrum for a fun holiday flower-making workshop where creativity blooms!\n\n\n\nSusanah Windrum will teach us how to make holiday flowers that will delight. With a string they can be hung anywhere you need a little cheer. \nAbout the Artist: Susanah Windrum earned a Diploma in Theatre Arts Production at Mount Royal University. The program enhanced her technical and creative abilities through the designing and construction of sets\, costumes and props. She also received a BFA from Emily Carr University of Art + Design. \nSince graduating\, she has continued her education with courses and workshops in jewellery and metalwork. Susanah has been teaching classes with Alberta Craft Gallery since 2017. \nAges 4+ \nParents must be present to supervise or make their own flower \nFree workshop
URL:https://cspacemardaloop.com/event/make-a-poinsettia-ornament/
LOCATION:cSPACE Marda Loop\, 1721 29 Avenue Southwest\, Calgary\, AB\, T2T 6T7\, Canada
CATEGORIES:Alberta Craft Gallery Level 2
ATTACH;FMTTYPE=image/jpeg:https://cspacemardaloop.com/wp-content/uploads/2025/11/https___cdn.evbuc_.com_images_1171892254_227747103692_1_original.jpeg
ORGANIZER;CN="cSPACE Marda Loop":MAILTO:info@cspaceprojects.com
END:VEVENT
BEGIN:VEVENT
DTSTART;TZID=America/Edmonton:20251220T100000
DTEND;TZID=America/Edmonton:20251220T140000
DTSTAMP:20260420T071248
CREATED:20251205T182309Z
LAST-MODIFIED:20251205T182639Z
UID:10005881-1766224800-1766239200@cspacemardaloop.com
SUMMARY:Make a Beautiful Holiday Ornament with Lizzie Wharton
DESCRIPTION:Join Alberta Craft Council for a free workshop for 12+. Where you will learn to make a snowflake using beading techniques. \n  \nGet ready for a winter wonderland of creativity! Join ACC for an exciting FREE workshop for ages 12 and up\, where you’ll learn to craft stunning snowflakes using unique beading techniques. Unleash your imagination and design your very own sparkling snowflakes that you can take home and show off! Don’t miss out on this fantastic opportunity to have fun and create something beautiful.  \nInstructor – Lizzie Wharton \nDrop-in\, takes 20-30 minutes to make an Snowflake \nAges 12+ \nFree workshop – suggested donation $10 an ornament
URL:https://cspacemardaloop.com/event/make-a-beautiful-holiday-ornament-with-lizzie-wharton/
LOCATION:AB
CATEGORIES:Alberta Craft Gallery Level 2
ATTACH;FMTTYPE=image/jpeg:https://cspacemardaloop.com/wp-content/uploads/2025/12/b6e71e9ba61e38a595f0946d32321185-1.jpg
END:VEVENT
BEGIN:VEVENT
DTSTART;TZID=UTC:20260411T130000
DTEND;TZID=UTC:20260411T160000
DTSTAMP:20260420T071248
CREATED:20260324T172116Z
LAST-MODIFIED:20260324T172833Z
UID:10007048-1775912400-1775923200@cspacemardaloop.com
SUMMARY:Gallery Reception: Rebus Plates for our Times/Assiettes Rebus pour temps qui Courent
DESCRIPTION:Gallery Reception: Rebus Plates for our Times/Assiettes Rebus pour temps qui Courent\ncSPACE Marda Loop\nAlberta Craft Gallery – Level 2\nApril 11\, 2026\n1:00 PM – 4:00 PM\n \n\n\n\n\n\n\n\n\nJoin Alberta Craft Council and Alliance Française at cSPACE for an afternoon of art\, ideas\, and community with Rebus Plates for Our Times / Assiettes Rébus pour Les Temps Qui Courent. \nBegin your visit on Level 4 in the RGO Treehouse with a thought-provoking craft talk\, Pictorial Puns: Rebus Plates for Our Times\, presented by craft historian Dr. Jennifer Salahub. This engaging talk explores the rich history of rebus imagery—visual riddles that combine pictures and letters to convey layered meanings—and their evolution from 19th-century French ceramic traditions into contemporary artistic practice. \nFollowing the talk\, head down to the Alberta Craft Gallery on Level 2 for the artist reception\, where you can experience the exhibition firsthand and connect with the work in a welcoming\, social setting. \nRooted in a historical tradition popularized by makers such as the Faïencerie de Gien in France\, rebus plates once conveyed everything from moral lessons to political commentary. This contemporary exhibition revisits and reimagines that form\, offering fresh perspectives on the complexities of our current moment. \nFeaturing work by Montréal-born\, Calgary-based artist and Professor Emerita Mireille Perron—founder of the Laboratory of Feminist Pataphysics—this exhibition reflects a playful yet critical approach to art\, craft\, and social discourse. \nWe’re proud to host this free\, public event at cSPACE. Everyone is welcome to attend and experience the creativity and conversation unfolding within our community. \nThis exhibition is generously supported by Alliance Française. \n\nRSVP Online \n\nSCHEDULE: \n\n\n Craft Talk – 1:00 PM- 2:00 PM: Pictorial Puns: Rebus Plates for Our Times Talk with Dr. Jennifer Salahub\, Craft Historian\, RGO Treehouse 4th floor\, cSPACE\nArtist Reception – 2:00 PM – 4:00 PM: Alberta Craft Calgary\, 2nd floor\, cSPACE\n\nFree | Everyone Welcome
URL:https://cspacemardaloop.com/event/rebus-plates-for-our-timesassiettes-rebus-pour-temps-qui-courent/
LOCATION:Alberta Craft Gallery at cSPACE\, 1721 29 Avenue Southwest\, Calgary\, AB\, T2T 1P5\, Canada
CATEGORIES:Alberta Craft Gallery Level 2,RGO Treehouse Full
ATTACH;FMTTYPE=image/jpeg:https://cspacemardaloop.com/wp-content/uploads/2026/03/rebus-plates-for-our-timesassiettes-rebus-pour-temps-qui-courent.jpg
END:VEVENT
BEGIN:VEVENT
DTSTART;TZID=UTC:20260425T093000
DTEND;TZID=UTC:20260425T170000
DTSTAMP:20260420T071248
CREATED:20260324T170619Z
LAST-MODIFIED:20260327T171537Z
UID:10007047-1777109400-1777136400@cspacemardaloop.com
SUMMARY:Workshop: Screen Print a Tea Towel for Mother's Day
DESCRIPTION:Workshop: Screen Print a Tea Towel for Mother’s Day\ncSPACE Marda Loop\nAlberta Craft Gallery – Level 2\nApril 25\, 2026\n9:30 AM – 5:00 PM\n \nJoin surface designer Natalie Gerber for an engaging introduction to silkscreen printing\, where you’ll create your own one-of-a-kind tea towel. This beginner-friendly workshop is a perfect way to celebrate Mother’s Day—whether you’re making a thoughtful handmade gift or spending quality time creating alongside your mom. \nThis relaxed\, in-person session invites you to explore surface pattern design in a fun and supportive environment. No prior experience is needed—just bring your creativity and enjoy an afternoon of printing\, learning\, and crafting something truly special. \nCome experience the creativity that lives within cSPACE and leave with a beautiful\, custom-printed linen tea towel to treasure or gift. \nRegister Online \nThee Available Time Slots: \n\n9:30 AM – 11:30 AM\n12:00 PM – 2:00 PM\n3:00 PM – 5:00 PM\n\nAll materials included\nAge: 12+ \nAbout the artist: \nHaving recently completed a Master of Fine Arts (MFA) in Craft from the Alberta University of the Arts\, Natalie is currently engaged in a comprehensive exploration of the boundaries and potentialities of textile forms. Her work critically examines the intersection of traditional techniques and contemporary practices\, positioning her contributions within a broader discourse on craft and materiality in the arts. \nNatalie’s work can be found in select boutiques and galleries across Canada\, or in her Calgary-based textile printing studio located at cSPACE. \n  \n 
URL:https://cspacemardaloop.com/event/workshop-class-screen-print-a-tea-towel-for-mothers-day/
LOCATION:Alberta Craft Gallery at cSPACE\, 1721 29 Avenue Southwest\, Calgary\, AB\, T2T 1P5\, Canada
CATEGORIES:Alberta Craft Gallery Level 2
ATTACH;FMTTYPE=image/jpeg:https://cspacemardaloop.com/wp-content/uploads/2026/03/screen-print-a-tea-towel-for-mothers-day.jpg
END:VEVENT
END:VCALENDAR