BEGIN:VCALENDAR
VERSION:2.0
PRODID:-//cSPACE Marda Loop - ECPv6.15.20//NONSGML v1.0//EN
CALSCALE:GREGORIAN
METHOD:PUBLISH
X-ORIGINAL-URL:https://cspacemardaloop.com
X-WR-CALDESC:Events for cSPACE Marda Loop
REFRESH-INTERVAL;VALUE=DURATION:PT1H
X-Robots-Tag:noindex
X-PUBLISHED-TTL:PT1H
BEGIN:VTIMEZONE
TZID:America/Edmonton
BEGIN:DAYLIGHT
TZOFFSETFROM:-0700
TZOFFSETTO:-0600
TZNAME:MDT
DTSTART:20240310T090000
END:DAYLIGHT
BEGIN:STANDARD
TZOFFSETFROM:-0600
TZOFFSETTO:-0700
TZNAME:MST
DTSTART:20241103T080000
END:STANDARD
BEGIN:DAYLIGHT
TZOFFSETFROM:-0700
TZOFFSETTO:-0600
TZNAME:MDT
DTSTART:20250309T090000
END:DAYLIGHT
BEGIN:STANDARD
TZOFFSETFROM:-0600
TZOFFSETTO:-0700
TZNAME:MST
DTSTART:20251102T080000
END:STANDARD
BEGIN:DAYLIGHT
TZOFFSETFROM:-0700
TZOFFSETTO:-0600
TZNAME:MDT
DTSTART:20260308T090000
END:DAYLIGHT
BEGIN:STANDARD
TZOFFSETFROM:-0600
TZOFFSETTO:-0700
TZNAME:MST
DTSTART:20261101T080000
END:STANDARD
END:VTIMEZONE
BEGIN:VEVENT
DTSTART;TZID=America/Edmonton:20250927T140000
DTEND;TZID=America/Edmonton:20250927T153000
DTSTAMP:20260421T015959
CREATED:20250902T202946Z
LAST-MODIFIED:20250902T203559Z
UID:10005006-1758981600-1758987000@cspacemardaloop.com
SUMMARY:Artist Talk with Mackenzie Kelly-Frère
DESCRIPTION:Please join Alberta Craft Gallery for an afternoon Artist Talk with Mackenzie Kelly- Frère\n\n\nGet ready for an unforgettable afternoon! Join us at the Alberta Craft Gallery for an inspiring Artist Talk featuring the incredible Mackenzie Kelly-Frère! Discover the creative journey and artistic insights of this talented artist as he shares his passion and process. Don’t miss this chance to engage with the fibre pieces\, ask questions\, and soak in the vibrant atmosphere. Mark your calendars and bring your friends for a delightful experience that celebrates creativity! \nThe Artist Talk will begin with a short introduction to Alberta Fibre Art by Tak Pham\, Curator at the Alberta University of the Arts\, Illingworth Kerr Gallery. \nAfter the Artist talk\, we will be joined downstairs on the second floor\, in the Alberta Craft Gallery by Mackenzie for a short tour of his current exhibition – Drawn. \nMackenzie Kelly-Frère is an artist\, educator and academic living in Mohkinstsis (Calgary). The exhibition examines cloth as a contextual object\, enmeshing ways of thinking and being in the natural world. Kelly-Frère draws on his lived experience of both the Canadian Prairie and a recent artist residency in Blonduos\, Iceland\, to create cloth that reflects situated materialities and our connections to place. \nThis is a free event and everyone is welcome to attend. You don’t need a ticket to attend. \nArtist Talk: Saturday\, September 13\, 2025 | 2 -3:30 pm \nAlberta Craft Calgary Gallery presnts this event at: \ncSPACE – Marda Loop\, Treehouse Room on the 4th floor \n1721 – 29 Avenue SW \nThe parking lot and accessible entrance are off 29 Avenue. Street parking is free around the building. \nExhibition dates September 6 – November 1\, 2025
URL:https://cspacemardaloop.com/event/artist-talk-with-mackenzie-kelly-frere/
LOCATION:AB
CATEGORIES:Alberta Craft Gallery Level 2
ATTACH;FMTTYPE=image/jpeg:https://cspacemardaloop.com/wp-content/uploads/2025/09/d693084857f662effd6e268b8ac01c93.jpg
END:VEVENT
END:VCALENDAR