BEGIN:VCALENDAR
VERSION:2.0
PRODID:-//cSPACE Marda Loop - ECPv6.15.20//NONSGML v1.0//EN
CALSCALE:GREGORIAN
METHOD:PUBLISH
X-WR-CALNAME:cSPACE Marda Loop
X-ORIGINAL-URL:https://cspacemardaloop.com
X-WR-CALDESC:Events for cSPACE Marda Loop
REFRESH-INTERVAL;VALUE=DURATION:PT1H
X-Robots-Tag:noindex
X-PUBLISHED-TTL:PT1H
BEGIN:VTIMEZONE
TZID:UTC
BEGIN:STANDARD
TZOFFSETFROM:+0000
TZOFFSETTO:+0000
TZNAME:UTC
DTSTART:20240101T000000
END:STANDARD
END:VTIMEZONE
BEGIN:VTIMEZONE
TZID:America/Edmonton
BEGIN:DAYLIGHT
TZOFFSETFROM:-0700
TZOFFSETTO:-0600
TZNAME:MDT
DTSTART:20240310T090000
END:DAYLIGHT
BEGIN:STANDARD
TZOFFSETFROM:-0600
TZOFFSETTO:-0700
TZNAME:MST
DTSTART:20241103T080000
END:STANDARD
BEGIN:DAYLIGHT
TZOFFSETFROM:-0700
TZOFFSETTO:-0600
TZNAME:MDT
DTSTART:20250309T090000
END:DAYLIGHT
BEGIN:STANDARD
TZOFFSETFROM:-0600
TZOFFSETTO:-0700
TZNAME:MST
DTSTART:20251102T080000
END:STANDARD
BEGIN:DAYLIGHT
TZOFFSETFROM:-0700
TZOFFSETTO:-0600
TZNAME:MDT
DTSTART:20260308T090000
END:DAYLIGHT
BEGIN:STANDARD
TZOFFSETFROM:-0600
TZOFFSETTO:-0700
TZNAME:MST
DTSTART:20261101T080000
END:STANDARD
END:VTIMEZONE
BEGIN:VEVENT
DTSTART;VALUE=DATE:20250902
DTEND;VALUE=DATE:20250930
DTSTAMP:20260420T153910
CREATED:20250904T175132Z
LAST-MODIFIED:20250904T232526Z
UID:10005009-1756771200-1759190399@cspacemardaloop.com
SUMMARY:Exhibition: Atelier Artista Student Art Show
DESCRIPTION:Atelier Artista Art Show\ncSPACE Marda Loop\nGallery Level 4\nSeptember 2 – 29\, 2025\n8:00 AM – 8:00 PM (Closed Sundays) \n\n\n\nThe 2nd Annual Atelier Artista Student Art Show returns to the 4th floor of cSPACE Marda Loop. The exhibition brings together the works of students and participants who make up the vibrant Atelier Artista studio community. \nAtelier Artista is home to a diverse group of creatives from all walks of life\, with a wide range of backgrounds\, skill levels\, and artistic goals. Some artists take classes\, while others join weekly drop-in sessions—often working on different days and rarely crossing paths. This annual exhibition offers a chance to unite their creativity in a shared gallery space. \nRather than presenting classroom assignments\, the show highlights each artist’s personal voice and vision\, expressed through the craft they develop at the Atelier. The result is a dynamic collection that reflects both individuality and the collective spirit of creativity that defines Atelier Artista. \n*Many of the pieces are available for sale. Since the studio is not taking a commission we ask you contact the artist directly with the info on their label and we hope you do. \nReception:\nSeptember 26\, 2025\n5:00 PM -9:00 PM
URL:https://cspacemardaloop.com/event/atelier-artista-art-ahow/
LOCATION:cSPACE Marda Loop\, 1721 29 Avenue Southwest\, Calgary\, AB\, T2T 6T7\, Canada
CATEGORIES:Gallery Level 4
ATTACH;FMTTYPE=image/jpeg:https://cspacemardaloop.com/wp-content/uploads/2025/09/image1.jpg
END:VEVENT
BEGIN:VEVENT
DTSTART;VALUE=DATE:20250908
DTEND;VALUE=DATE:20250921
DTSTAMP:20260420T153910
CREATED:20250904T233325Z
LAST-MODIFIED:20250904T233633Z
UID:10005011-1757289600-1758412799@cspacemardaloop.com
SUMMARY:Exhibition: Fabulous Over 40 by Laurie MacBrown Photography
DESCRIPTION:Fabulous Over 40 by Laurie MacBrown Photography\ncSPACE Marda Loop\nGallery Level 1\nSeptember 8 – 20\, 2025\n8:00 AM – 8:00 PM (Closed Sundays) \n\n\n\nThis isn’t just pretty pictures. It’s a celebration of women who are part of a growing movement to challenge the false narrative that beauty fades with age. \nThe Fabulous Over 40 Art Exhibit shines a spotlight on the portraits and stories of women aged 40 and up. \nInstead of being shamed into the shadows\, each of these women chose to step into the light. \nThey said yes to a transformative boudoir portrait experience. They said yes to being seen. Boldly\, vulnerably\, and without apology. \nThe goal? To rewrite the story: Women over 40 are beautiful. The ticking clock is a myth. And the years ahead are something to look forward to. \nAs an artist and photographer\, my mission is to challenge outdated beauty standards and offer a new perspective. One that I see for myself every day as a boudoir photographer for women over 40. We’ve been sold a lie. There is no expiration date on beauty. Let me prove it to you! \nThis exhibit is proof that beauty exists in every chapter of life\, and that it’s never too late to feel truly seen. \nAbout the Artist \nWebsite: www.lauriemacbrownphotography.com \nYou may know me as your photographer\, but what you might not know is why I do this. \nI started photographing women to figure out the secret to looking good in photos\, because I never liked photos of myself\, and I thought there was something wrong with me. What I’ve learned is this: being photogenic is not about how you look on the outside. It’s about feeling beautiful and having someone capture that so you can see it too. \nToday\, I’m an accredited\, multi award-winning portrait photographer\, and my mission is to show women\, especially those over 40\, that every body is beautiful and worthy of being photographed\, even without clothes on. \nI invite you to see yourself\, and women like you\, in a whole new light.
URL:https://cspacemardaloop.com/event/exhibition-fabulous-over-40-by-laurie-macbrown-photography/
LOCATION:cSPACE Marda Loop\, 1721 29 Avenue Southwest\, Calgary\, AB\, T2T 6T7\, Canada
CATEGORIES:Gallery Level 1
ATTACH;FMTTYPE=image/jpeg:https://cspacemardaloop.com/wp-content/uploads/2025/09/fabulous-over-40-for-cspace-website.jpg
END:VEVENT
BEGIN:VEVENT
DTSTART;VALUE=DATE:20250909
DTEND;VALUE=DATE:20251007
DTSTAMP:20260420T153910
CREATED:20250904T233640Z
LAST-MODIFIED:20250904T233640Z
UID:10005012-1757376000-1759795199@cspacemardaloop.com
SUMMARY:Exhibition: Abstrait Liquide by Patricia Lortie
DESCRIPTION:Abstrait Liquide by Patricia Lortie\ncSPACE Marda Loop\nGallery Level 3\nSeptember 9 – October 6\, 2025\n8:00 AM – 8:00 PM (Closed Sundays) \n\n\n\nThe Alliance Française is delighted to host “Abstrait Liquide” by Patricia Lortie. \nHer work — including installations\, paintings\, sculptures\, and videos — explores the body’s connection to natural ecosystems\, blending the real and the unconscious to reveal a poetic sensibility. \n“Abstrait Liquide” is a series of acrylic paintings inspired by the movement of natural water systems. Filmed above and below the surface\, subtle ripples\, reflections\, and light guide each brushstroke. The works capture fleeting moments of water\, inviting reflection on nature’s rhythms and patterns. \nThe exhibition will be on view from September 9 to October 6. We warmly invite you to the opening reception on September 19\, where you can experience the spirit of the exhibition firsthand. Register below to join us!
URL:https://cspacemardaloop.com/event/exhibition-abstrait-liquide-by-patricia-lortie/
LOCATION:cSPACE Marda Loop\, 1721 29 Avenue Southwest\, Calgary\, AB\, T2T 6T7\, Canada
CATEGORIES:Gallery Level 3
ATTACH;FMTTYPE=image/jpeg:https://cspacemardaloop.com/wp-content/uploads/2025/09/3.-patricia-lortie-liquid-abstract-3-2024-acrylique-sur-canvas-95h-x-94v_626xa.jpeg
END:VEVENT
BEGIN:VEVENT
DTSTART;TZID=UTC:20250920T100000
DTEND;TZID=UTC:20250920T133000
DTSTAMP:20260420T153910
CREATED:20250820T170939Z
LAST-MODIFIED:20250902T205440Z
UID:10005002-1758362400-1758375000@cspacemardaloop.com
SUMMARY:Flower Hammering on Fabric Workshop
DESCRIPTION:Join the Hammered Flower Wall Hanging Workshop!\nHosted by Alberta Craft Council \nUnleash your creativity and connect with nature in an inspiring and hands-on workshop! Dive into the world of natural art with Chantel\, where you’ll transform vibrant flowers and lush leaves from the garden into a breathtaking textile wall hanging. \nImmerse yourself in this therapeutic\, easy-to-follow experience as you gently hammer botanical treasures onto beautifully mordanted fabric. Feel the joy of creating while surrounded by like-minded individuals! \nWhen: \n\nSeptember 20@ 10:00am-11:30am & 12:00pm-1:30pm\n\nWhat to Expect: \n\nAll necessary materials provided\, including earplugs to keep you comfortable during the fun!\nYou can bring your own small hammer to personalize your crafting experience!\nWho Can Join? – This workshop is open to anyone aged 12 and above.\n\n  \nJoin us for a delightful creative adventure and take home a unique piece of art that reflects the natural beauty around you! Spots are limited\, so reserve yours today! \nChantel is an artist and designer currently based in Calgary; she completed her Bachelor of Fine Art majoring in fibre with distinction at the Alberta College of Art + Design (now Alberta University of the Arts). She frequently collaborates with Contextural\, A Fibre Arts Cooperative. \nHer current practice focuses on fine craft and textile design\, specializing in textile printing\, dyeing\, and silk painting. Utilizing a palette of natural dyes\, fresh flowers\, and leaves\, accompanied by intricate embroidery\, she creates singular artworks that embody a harmonious blend of organic materials and handwork. Chantel Traub is a passionate artist who adores teaching art workshops\, spreading the joy of creation and inspiring all participants in her classes to celebrate lifelong learning. \nThis workshop is made possible by the generous support of Alberta Culture Days.
URL:https://cspacemardaloop.com/event/flower-hammering-on-fabric-workshop-2/
LOCATION:AB
CATEGORIES:Alberta Craft Gallery Level 2
ATTACH;FMTTYPE=image/jpeg:https://cspacemardaloop.com/wp-content/uploads/2025/08/https___cdn.evbuc_.com_images_1096302353_227747103692_1_original.jpeg
END:VEVENT
BEGIN:VEVENT
DTSTART;TZID=UTC:20250920T100000
DTEND;TZID=UTC:20250920T140000
DTSTAMP:20260420T153910
CREATED:20250410T194817Z
LAST-MODIFIED:20250410T194817Z
UID:10004508-1758362400-1758376800@cspacemardaloop.com
SUMMARY:Farmers & Makers Market at cSPACE Marda Loop
DESCRIPTION:Farmers & Makers Market at cSPACE Marda Loop\nFrom May 24 to October 4\, 2025\, join us every Saturday from 10 AM to 2 PM for the Farmers & Makers Market at cSPACE Marda Loop: an unforgettable shopping\, arts\, and entertainment experience! \nMarket: This curated Alberta-approved farmers’ market showcases a diverse lineup of local growers\, artisans\, and creative entrepreneurs. Explore fresh produce\, handcrafted goods\, and unique treasures that reflect Calgary’s thriving maker community. \nArtist Alley: For those who love discovering new artistic talent\, Artist Alley is your must-visit stop. This dedicated space highlights emerging and semi-professional artists\, creative entrepreneurs\, and community impact groups\, offering a platform to share their work with the community. \nSarina Builds Stage: The Farmers and Makers Market experience is never complete without music! Relax and enjoy performances by some of Calgary’s most talented local musicians on the Sarina Builds Stage. With a rotating lineup of artists\, every Saturday brings a fresh soundtrack to your market visit. \nLink: https://cspacemardaloop.com/farmers-makers-market/
URL:https://cspacemardaloop.com/event/farmers-makers-market-at-cspace-marda-loop/2025-09-20/
LOCATION:cSPACE Marda Loop – Art Park
CATEGORIES:Art Park
ATTACH;FMTTYPE=image/jpeg:https://cspacemardaloop.com/wp-content/uploads/2025/04/fmm-artist-alley-5.jpg
END:VEVENT
BEGIN:VEVENT
DTSTART;TZID=America/Edmonton:20250920T140000
DTEND;TZID=America/Edmonton:20250920T160000
DTSTAMP:20260420T153910
CREATED:20250902T201404Z
LAST-MODIFIED:20250902T205321Z
UID:10005003-1758376800-1758384000@cspacemardaloop.com
SUMMARY:Wood Reimagined: John Groen Artist Reception
DESCRIPTION:Wood Reimagined: John Groen Artist Reception\nHosted by Alberta Craft Council\n______ \nEveryone is invited to meet the artist at this free SPOTLIGHT Reception for Wood Reimagined – John Groen\n\n\nWe are please to host a public reception with the artist in attendance on September 20 from 2-4 pm. \nAbout the artist John Groen \nArtist Statement: I have always been passionate about designing and creating unique items from wood. My father’s creativity and resourcefulness inspired me as I watched him transform what others considered unusable wood into functional and beautiful furniture. I strive to blend traditional craftsmanship with playful innovation. \nMy signature material is dyed maple veneer\, often used in skateboards. Through experimental bending\, layering\, and lamination\, I combine these colourful sections with various other wood species to create bowls\, charcuterie boards\, tables\, and wall art. Sustainability is at the core of my work. Each piece is intentionally crafted from repurposed or leftover wood\, adding history and character to every creation. My craft is about giving old wood new stories—stories that you can eat from\, set items on\, or proudly display on your walls. \nArtist Bio: John is a lifelong learner and community-oriented maker who has honed his craft through practical work experience. He is a former woodworking teacher and holds a cabinet-making certification from SAIT. His skills have been enriched by collaborating with fellow members at his local makerspace\, as well as through personal exploration and experimentation. Operating under the name Mient Woodworking\, John has been a member of the Alberta Craft Council since 2022. He has also been a part of Fuse33 Makerspace since 2018 and is a member of Hand Made Here YYC\, a collective of local artisans in Calgary. \nReception: Saturday\, September 20\, 2025 | 2 – 4 pm \nAlberta Craft SPOTLIGHT – cSPACE – Marda Loop\, 2nd floor\, 1729 – 29 Avenue SW\, Calgary \nThe parking lot and accessible entrance are off 29 Avenue. Street parking is available free of charge around the building. \nThis SPOTLIGHT exhibition runs through September 13 – November 1\, 2025.
URL:https://cspacemardaloop.com/event/artist-reception-for-john-groen/
LOCATION:AB
CATEGORIES:Alberta Craft Gallery Level 2
ATTACH;FMTTYPE=image/jpeg:https://cspacemardaloop.com/wp-content/uploads/2025/09/ac5b9c6fdbe7541006780520c8e76c68-1.jpg
END:VEVENT
END:VCALENDAR