BEGIN:VCALENDAR
VERSION:2.0
PRODID:-//cSPACE Marda Loop - ECPv6.15.20//NONSGML v1.0//EN
CALSCALE:GREGORIAN
METHOD:PUBLISH
X-ORIGINAL-URL:https://cspacemardaloop.com
X-WR-CALDESC:Events for cSPACE Marda Loop
REFRESH-INTERVAL;VALUE=DURATION:PT1H
X-Robots-Tag:noindex
X-PUBLISHED-TTL:PT1H
BEGIN:VTIMEZONE
TZID:UTC
BEGIN:STANDARD
TZOFFSETFROM:+0000
TZOFFSETTO:+0000
TZNAME:UTC
DTSTART:20240101T000000
END:STANDARD
END:VTIMEZONE
BEGIN:VTIMEZONE
TZID:America/Edmonton
BEGIN:DAYLIGHT
TZOFFSETFROM:-0700
TZOFFSETTO:-0600
TZNAME:MDT
DTSTART:20240310T090000
END:DAYLIGHT
BEGIN:STANDARD
TZOFFSETFROM:-0600
TZOFFSETTO:-0700
TZNAME:MST
DTSTART:20241103T080000
END:STANDARD
BEGIN:DAYLIGHT
TZOFFSETFROM:-0700
TZOFFSETTO:-0600
TZNAME:MDT
DTSTART:20250309T090000
END:DAYLIGHT
BEGIN:STANDARD
TZOFFSETFROM:-0600
TZOFFSETTO:-0700
TZNAME:MST
DTSTART:20251102T080000
END:STANDARD
BEGIN:DAYLIGHT
TZOFFSETFROM:-0700
TZOFFSETTO:-0600
TZNAME:MDT
DTSTART:20260308T090000
END:DAYLIGHT
BEGIN:STANDARD
TZOFFSETFROM:-0600
TZOFFSETTO:-0700
TZNAME:MST
DTSTART:20261101T080000
END:STANDARD
END:VTIMEZONE
BEGIN:VEVENT
DTSTART;VALUE=DATE:20250804
DTEND;VALUE=DATE:20250902
DTSTAMP:20260425T113441
CREATED:20250614T220007Z
LAST-MODIFIED:20250621T162507Z
UID:10004564-1754265600-1756771199@cspacemardaloop.com
SUMMARY:Exhibition: ABSTRACT PROGRESSION 
DESCRIPTION:Exhibition: ABSTRACT PROGRESSION \ncSPACE Marda Loop\nGallery Level 2\nAugust 4 – September 1\, 2025\n8:00 AM – 8:00 PM (Closed Sundays) \n\n\nExperience the power of bold expression. An exhibit to dazzle the senses : Maria Curcic is a visual and audio artist whose work engages the senses through bold colours\, textures\, and spatial composition. A graduate of the Alberta College of Art and Design (1988)\, she creates vibrant abstract and cityscape paintings. She is also a milliner and a DJ.\n\nOpening night reception: August 7th 6:00pm – 8:00pm\n\n\n\nRSVP (FREE): https://www.eventbrite.ca/e/abstract-progression-tickets-1413513028519\n\n\nTo Learn More: www.curcicfineart.com\n\n 
URL:https://cspacemardaloop.com/event/exhibition-abstract-progression/
LOCATION:cSPACE Marda Loop\, 1721 29 Avenue Southwest\, Calgary\, AB\, T2T 6T7\, Canada
CATEGORIES:Gallery Level 2
ATTACH;FMTTYPE=image/jpeg:https://cspacemardaloop.com/wp-content/uploads/2025/06/1080-poster-for-website.jpg
END:VEVENT
BEGIN:VEVENT
DTSTART;VALUE=DATE:20250811
DTEND;VALUE=DATE:20250903
DTSTAMP:20260425T113441
CREATED:20250811T230054Z
LAST-MODIFIED:20250813T210022Z
UID:10004994-1754870400-1756857599@cspacemardaloop.com
SUMMARY:Exhibition:  Emmène moi à Toulouse
DESCRIPTION:Exhibition: Emmène moi à Toulouse \ncSPACE Marda Loop\nGallery Level 3\nAugust 11 – September 2\, 2025\n8:00 AM – 8:00 PM (Closed Sundays) \n\n\n\nThe Alliance Française & L’Agence d’Attractivité de Toulouse are proud to present a special exhibition celebrating the vibrant city of Toulouse. \nKnown as La Ville Rose — The Pink City — for the warm hue of its brick buildings\, Toulouse lies in the heart of southwestern France\, in the Occitanie region. Famed for its rich heritage\, local gastronomy\, and gentle way of life\, it’s a city where history and modernity blend with elegance. \nThis exhibition showcases the work of photographer Rémi Deligeon\, whose images capture the city’s unique charm\, energy\, and beauty. \n\n\nOpening night reception: August 20th 6:00pm – 8:00pm\n\n\nTo Learn More: https://www.afcalgary.ca/culture/exhibition-on-toulouse/\n\n 
URL:https://cspacemardaloop.com/event/o-toulouse/
LOCATION:cSPACE Marda Loop\, 1721 29 Avenue Southwest\, Calgary\, AB\, T2T 6T7\, Canada
CATEGORIES:Gallery Level 3
ATTACH;FMTTYPE=image/jpeg:https://cspacemardaloop.com/wp-content/uploads/2025/08/o-toulouse-poster-1.jpg
END:VEVENT
BEGIN:VEVENT
DTSTART;VALUE=DATE:20250819
DTEND;VALUE=DATE:20250907
DTSTAMP:20260425T113441
CREATED:20250711T224201Z
LAST-MODIFIED:20250811T232841Z
UID:10004588-1755561600-1757203199@cspacemardaloop.com
SUMMARY:Exhibition: Mitaliscreation
DESCRIPTION:Exhibition: Mitaliscreation\ncSPACE Marda Loop\nGallery Level 1\nAugust 19 – September 6\, 2025\n8:00 AM – 8:00 PM (Closed Sundays) \n\n\nThis exhibition presents a series of acrylic paintings inspired by the Mitali’s life on the prairies. Through her work\, she captures both the serene beauty of the natural landscape and the quiet resilience required to thrive in it. Pharmacist by trade\, she has cultivated her artistic practice in her personal time\, allowing her passion for painting to flourish. Her abstract compositions invite viewers to explore their own interpretations\, offering a deeply personal and introspective experience.\n\nOpening night reception: August 22nd 6:00pm – 8:00pm\n\n\n\nRSVP (FREE): Text Mitali by August 15th @ 403-918-7032\n\n\n 
URL:https://cspacemardaloop.com/event/exhibition-mitaliscreation/
LOCATION:cSPACE Marda Loop\, 1721 29 Avenue Southwest\, Calgary\, AB\, T2T 6T7\, Canada
CATEGORIES:Gallery Level 1
ATTACH;FMTTYPE=image/jpeg:https://cspacemardaloop.com/wp-content/uploads/2025/07/mitalis-creation.jpg
END:VEVENT
BEGIN:VEVENT
DTSTART;TZID=UTC:20250828T100000
DTEND;TZID=UTC:20250828T120000
DTSTAMP:20260425T113441
CREATED:20240911T190648Z
LAST-MODIFIED:20251127T171928Z
UID:10002683-1756375200-1756382400@cspacemardaloop.com
SUMMARY:CALL Member Weekly Guitar Jam
DESCRIPTION:Invitation to Calgary Association of Lifelong Learners (CALL) members.\nBring your guitar and a favourite song and join other CALL members for Guitar Jam. Weekly events are held in the CALL room\, Suite #310\, at cSPACE Marda Loop. \nThursdays 10am-12pm. \nTo learn more please email: info@calgarylifelonglearners.ca \nNot yet a CALL member? Now is a great time to join and enjoy a full year of “making music” or joining other Interest Groups at cSPACE Marda Loop. Annual fee $50 — learn more: https://calgarylifelonglearners.ca/Membership
URL:https://cspacemardaloop.com/event/call-member-guitar-jam/2025-08-28/
LOCATION:cSPACE Marda Loop\, 1721 29 Avenue Southwest\, Calgary\, AB\, T2T 6T7\, Canada
CATEGORIES:Suite #310
ATTACH;FMTTYPE=image/jpeg:https://cspacemardaloop.com/wp-content/uploads/2024/09/guitar-jam.jpg
ORGANIZER;CN="Calgary Association of Lifelong Learners":MAILTO:communications@calgarylifelonglearners.ca
END:VEVENT
BEGIN:VEVENT
DTSTART;TZID=America/Edmonton:20250828T180000
DTEND;TZID=America/Edmonton:20250828T210000
DTSTAMP:20260425T113441
CREATED:20250621T171148Z
LAST-MODIFIED:20250621T171148Z
UID:10004578-1756404000-1756414800@cspacemardaloop.com
SUMMARY:Wood Burning Weekly - Thursday Night Pyrography Sessions
DESCRIPTION:Thursday nights are all right for burning wood and making something fun! Pyrography is notoriously relaxing:) come hang out Thursdays at 6pm
URL:https://cspacemardaloop.com/event/wood-burning-weekly-thursday-night-pyrography-sessions-11/
LOCATION:cSPACE Marda Loop\, 1721 29 Avenue Southwest\, Calgary\, AB\, T2T 6T7\, Canada
ATTACH;FMTTYPE=image/jpeg:https://cspacemardaloop.com/wp-content/uploads/2025/06/bd6e9b9f0a2ddad77640abc16e5498c8.jpg
END:VEVENT
END:VCALENDAR