BEGIN:VCALENDAR
VERSION:2.0
PRODID:-//cSPACE Marda Loop - ECPv6.15.20//NONSGML v1.0//EN
CALSCALE:GREGORIAN
METHOD:PUBLISH
X-WR-CALNAME:cSPACE Marda Loop
X-ORIGINAL-URL:https://cspacemardaloop.com
X-WR-CALDESC:Events for cSPACE Marda Loop
REFRESH-INTERVAL;VALUE=DURATION:PT1H
X-Robots-Tag:noindex
X-PUBLISHED-TTL:PT1H
BEGIN:VTIMEZONE
TZID:UTC
BEGIN:STANDARD
TZOFFSETFROM:+0000
TZOFFSETTO:+0000
TZNAME:UTC
DTSTART:20240101T000000
END:STANDARD
END:VTIMEZONE
BEGIN:VTIMEZONE
TZID:America/Edmonton
BEGIN:DAYLIGHT
TZOFFSETFROM:-0700
TZOFFSETTO:-0600
TZNAME:MDT
DTSTART:20240310T090000
END:DAYLIGHT
BEGIN:STANDARD
TZOFFSETFROM:-0600
TZOFFSETTO:-0700
TZNAME:MST
DTSTART:20241103T080000
END:STANDARD
BEGIN:DAYLIGHT
TZOFFSETFROM:-0700
TZOFFSETTO:-0600
TZNAME:MDT
DTSTART:20250309T090000
END:DAYLIGHT
BEGIN:STANDARD
TZOFFSETFROM:-0600
TZOFFSETTO:-0700
TZNAME:MST
DTSTART:20251102T080000
END:STANDARD
BEGIN:DAYLIGHT
TZOFFSETFROM:-0700
TZOFFSETTO:-0600
TZNAME:MDT
DTSTART:20260308T090000
END:DAYLIGHT
BEGIN:STANDARD
TZOFFSETFROM:-0600
TZOFFSETTO:-0700
TZNAME:MST
DTSTART:20261101T080000
END:STANDARD
END:VTIMEZONE
BEGIN:VEVENT
DTSTART;VALUE=DATE:20250707
DTEND;VALUE=DATE:20250826
DTSTAMP:20260424T092851
CREATED:20250714T231855Z
LAST-MODIFIED:20250721T215006Z
UID:10004589-1751846400-1756166399@cspacemardaloop.com
SUMMARY:Exhibition: Cabinet of Curiosities
DESCRIPTION:Cabinet of Curiosities by Lizzie Wharton\ncSPACE Marda Loop\nCubbyhole Gallery Level 2\nJuly 7 – August 25\, 2025\n8:00 AM – 8:00 PM (Closed on Sunday)  \nLizzie Wharton is a recent graduate of Alberta Univeristy of the Arts in Graphic Design and Advertising. She is currently working at the Alberta Craft Council as a gallery assistant\, and this is her first time showing her work in a public space. \nHer paintings are inspired by Victorian field guides\, and she focuses on mixing images of real-life specimens with her own tantasy creations inspired by playing Dungeons & Dragons with her friends. Many of the pieces in this show are of real creatures\, but some\, even within series\, are entirely fictional. \nLearn More at: www.clevercorvid.ca
URL:https://cspacemardaloop.com/event/exhibition-cabinet-of-curiosities/
LOCATION:cSPACE Marda Loop\, 1721 29 Avenue Southwest\, Calgary\, AB\, T2T 6T7\, Canada
CATEGORIES:Gallery Level 2
ATTACH;FMTTYPE=image/jpeg:https://cspacemardaloop.com/wp-content/uploads/2025/07/img_7704.jpg
END:VEVENT
BEGIN:VEVENT
DTSTART;VALUE=DATE:20250729
DTEND;VALUE=DATE:20250826
DTSTAMP:20260424T092851
CREATED:20250728T231947Z
LAST-MODIFIED:20250728T232136Z
UID:10004985-1753747200-1756166399@cspacemardaloop.com
SUMMARY:Exhibition: Into the Void and Out of the Void
DESCRIPTION:Exhibition: Into the Void and Out of the Void | Carmine Aspen\ncSPACE Marda Loop\nCupola Gallery Level 4\nJuly 29- Aug 25\, 2025\n8:00 AM – 8:00 PM (Closed Sundays) \nOpening Reception: August 1\, 2025\, 6-8pm \nRSVP for Free: https://www.eventbrite.ca/e/into-the-void-and-out-of-the-void-opening-reception-tickets-1533524806979 \nInto the Void and Out of the Void is the first solo exhibition of work by Carmine Aspen as a mixed-media artist. This exhibition is designed to be a journey into the many forms joy takes though an artist’s creations. Most of Carmine’s work is informed by their journey navigating a very chaotic and melancholic mind: bright and hopeful but equally existential and depressive. This collection highlights that dichotomy by bringing together works that were created with a desire to discover what things bring joy regardless of their state of mind. \nPaint flowing in whatever way made sense and made the canvas more inviting; the flow of ink as an understanding of its nature grew; the soothing rhythm of bringing needle to fabric in a orderly way; favorite bits and pieces of paper coming together to create new things; the smooth glide of mud under a spatula; or bringing to light places that would better suit being in a story. \nCome enjoy this diverse collection of eclectic palettes and surreal expressions that lean into the fantastical & abstract\, created in a wide range of mediums: collage\, paint\, embroidery\, and more. \nAbout the Artist \nCarmine Aspen is a Calgary born mixed-media artist. They specialize in finding new and fun ways to mix up all kinds of mediums together to create colourful\, surreal\, and abstract pieces. If they can use their hands to make something pretty and chaotic\, they’re in. They’ve been creating since they were a child as a way to keep their active ADHD brain happy and as a much-needed source of relief from an ongoing series of mental health issues. They choose to see art in everything and truly believe anything can be used for art. When they’re not creating physical art\, you can find them immersed in Calgary’s vibrant writing and live performance scenes. \n 
URL:https://cspacemardaloop.com/event/exhibition-into-the-void-and-out-of-the-void/
LOCATION:cSPACE Marda Loop\, 1721 29 Avenue Southwest\, Calgary\, AB\, T2T 6T7\, Canada
CATEGORIES:Gallery Level 4
ATTACH;FMTTYPE=image/jpeg:https://cspacemardaloop.com/wp-content/uploads/2025/07/screenshot-2025-07-28-at-5.16.05-pm.jpg
END:VEVENT
BEGIN:VEVENT
DTSTART;VALUE=DATE:20250804
DTEND;VALUE=DATE:20250902
DTSTAMP:20260424T092851
CREATED:20250614T220007Z
LAST-MODIFIED:20250621T162507Z
UID:10004564-1754265600-1756771199@cspacemardaloop.com
SUMMARY:Exhibition: ABSTRACT PROGRESSION 
DESCRIPTION:Exhibition: ABSTRACT PROGRESSION \ncSPACE Marda Loop\nGallery Level 2\nAugust 4 – September 1\, 2025\n8:00 AM – 8:00 PM (Closed Sundays) \n\n\nExperience the power of bold expression. An exhibit to dazzle the senses : Maria Curcic is a visual and audio artist whose work engages the senses through bold colours\, textures\, and spatial composition. A graduate of the Alberta College of Art and Design (1988)\, she creates vibrant abstract and cityscape paintings. She is also a milliner and a DJ.\n\nOpening night reception: August 7th 6:00pm – 8:00pm\n\n\n\nRSVP (FREE): https://www.eventbrite.ca/e/abstract-progression-tickets-1413513028519\n\n\nTo Learn More: www.curcicfineart.com\n\n 
URL:https://cspacemardaloop.com/event/exhibition-abstract-progression/
LOCATION:cSPACE Marda Loop\, 1721 29 Avenue Southwest\, Calgary\, AB\, T2T 6T7\, Canada
CATEGORIES:Gallery Level 2
ATTACH;FMTTYPE=image/jpeg:https://cspacemardaloop.com/wp-content/uploads/2025/06/1080-poster-for-website.jpg
END:VEVENT
BEGIN:VEVENT
DTSTART;VALUE=DATE:20250811
DTEND;VALUE=DATE:20250903
DTSTAMP:20260424T092851
CREATED:20250811T230054Z
LAST-MODIFIED:20250813T210022Z
UID:10004994-1754870400-1756857599@cspacemardaloop.com
SUMMARY:Exhibition:  Emmène moi à Toulouse
DESCRIPTION:Exhibition: Emmène moi à Toulouse \ncSPACE Marda Loop\nGallery Level 3\nAugust 11 – September 2\, 2025\n8:00 AM – 8:00 PM (Closed Sundays) \n\n\n\nThe Alliance Française & L’Agence d’Attractivité de Toulouse are proud to present a special exhibition celebrating the vibrant city of Toulouse. \nKnown as La Ville Rose — The Pink City — for the warm hue of its brick buildings\, Toulouse lies in the heart of southwestern France\, in the Occitanie region. Famed for its rich heritage\, local gastronomy\, and gentle way of life\, it’s a city where history and modernity blend with elegance. \nThis exhibition showcases the work of photographer Rémi Deligeon\, whose images capture the city’s unique charm\, energy\, and beauty. \n\n\nOpening night reception: August 20th 6:00pm – 8:00pm\n\n\nTo Learn More: https://www.afcalgary.ca/culture/exhibition-on-toulouse/\n\n 
URL:https://cspacemardaloop.com/event/o-toulouse/
LOCATION:cSPACE Marda Loop\, 1721 29 Avenue Southwest\, Calgary\, AB\, T2T 6T7\, Canada
CATEGORIES:Gallery Level 3
ATTACH;FMTTYPE=image/jpeg:https://cspacemardaloop.com/wp-content/uploads/2025/08/o-toulouse-poster-1.jpg
END:VEVENT
BEGIN:VEVENT
DTSTART;TZID=America/Edmonton:20250817T180000
DTEND;TZID=America/Edmonton:20250817T210000
DTSTAMP:20260424T092851
CREATED:20250608T003502Z
LAST-MODIFIED:20250608T003506Z
UID:10004557-1755453600-1755464400@cspacemardaloop.com
SUMMARY:Intro to Wood Burning aka Pyrography for Beginners -Level 1
DESCRIPTION:Learn to burn!  This intro covers everything you need to know to get started.\n\n\nIntroduction to Wood Burning (Pyrography) for Beginners \nLearn something new and have fun during this hands on workshop. This small class is perfect for those who are new to wood burning and want to explore the art of pyrography. This is also a good opportunity to try the Razer Tip Woodburning tool before you buy one. You will learn step by step how to create a wood burned work of art. Little art experience is necessary just some time and patience. There is something very soothing and relaxing about burning patterns into wood. You will learn how to use the wood-burner safely. We will go over the difference between the wood burning tools that are available. You will learn how to transfer your drawing onto the wood\, which wood works best\, and how to add a bit of colour. Wood is supplied and the tool that we use is the Razer Tip woodburning system. Feel free to bring your own reference material to trace or draw from or use templates provided. Some people freehand and just go for it and some people use reference material and trace their design. You can also do a bit of both:) Magically everyone does something totally different and unique to them! It’s a fun thing to do for a date night or a new activity with friends or family. There are only 4 people maximum in a class\, ages 12 and up. If you would like to book an evening with your younger kids check out my website:) \nLocation: 1721 29 Avenue SW Suite #225\, Calgary\, AB T2T 1P5 \nDiscover the joy of transforming ordinary pieces of wood into your own unique works of art.
URL:https://cspacemardaloop.com/event/intro-to-wood-burning-aka-pyrography-for-beginners-level-1-18/
LOCATION:cSPACE Marda Loop\, 1721 29 Avenue Southwest\, Calgary\, AB\, T2T 6T7\, Canada
ATTACH;FMTTYPE=image/jpeg:https://cspacemardaloop.com/wp-content/uploads/2025/06/81012c0cd38b2cf7408a26f7fd4ecd1b.jpg
END:VEVENT
END:VCALENDAR