BEGIN:VCALENDAR
VERSION:2.0
PRODID:-//cSPACE Marda Loop - ECPv6.15.20//NONSGML v1.0//EN
CALSCALE:GREGORIAN
METHOD:PUBLISH
X-ORIGINAL-URL:https://cspacemardaloop.com
X-WR-CALDESC:Events for cSPACE Marda Loop
REFRESH-INTERVAL;VALUE=DURATION:PT1H
X-Robots-Tag:noindex
X-PUBLISHED-TTL:PT1H
BEGIN:VTIMEZONE
TZID:UTC
BEGIN:STANDARD
TZOFFSETFROM:+0000
TZOFFSETTO:+0000
TZNAME:UTC
DTSTART:20240101T000000
END:STANDARD
END:VTIMEZONE
BEGIN:VEVENT
DTSTART;VALUE=DATE:20250505
DTEND;VALUE=DATE:20250527
DTSTAMP:20260420T015426
CREATED:20250415T190829Z
LAST-MODIFIED:20250415T190829Z
UID:10004516-1746403200-1748303999@cspacemardaloop.com
SUMMARY:Exhibition: "Connected : Artistry of Mind\, Body\, Heart & Spirit" - CBE
DESCRIPTION:Exhibition: “Connected : Artistry of Mind\, Body\, Heart & Spirit” – CBE  \ncSPACE Marda Loop\nGallery Levels 1\, 2\, 3 & 4\nMay 5th to 26th \nThis exhibition is a collaborative art show featuring the works of Calgary high school Visual Art Students from Central Memorial\, Henry Wise Wood\, and William Aberhart. \nOpening Night: Tuesday May 6th from 6pm – 8pm \nCome support our Arts community and celebrate the work of these talented students!
URL:https://cspacemardaloop.com/event/exhibition-connected-artistry-of-mind-body-heart-spirit/
LOCATION:cSPACE Marda Loop\, 1721 29 Avenue Southwest\, Calgary\, AB\, T2T 6T7\, Canada
CATEGORIES:Hallway Galleries
ATTACH;FMTTYPE=image/jpeg:https://cspacemardaloop.com/wp-content/uploads/2025/04/image-2.jpg
END:VEVENT
BEGIN:VEVENT
DTSTART;TZID=UTC:20250519T151500
DTEND;TZID=UTC:20250519T180000
DTSTAMP:20260420T015426
CREATED:20240906T161545Z
LAST-MODIFIED:20240906T161545Z
UID:10002606-1747667700-1747677600@cspacemardaloop.com
SUMMARY:Intermediate Bridge Club
DESCRIPTION:This friendly CALL bridge group has players at intermediate and advanced skill levels.\nSome meet in person at cSPACE Marda Loop\, while some prefer to meet online using BBO and Zoom.\nCALL Members please register on the website. \nNot a CALL Member? Now is a great time to join. Your annual fee provides access to many Interest Groups and monthly Speaker Events.
URL:https://cspacemardaloop.com/event/intermediate-bridge-club/2025-05-19/
LOCATION:cSPACE Marda Loop\, 1721 29 Avenue Southwest\, Calgary\, AB\, T2T 6T7\, Canada
CATEGORIES:Suite #310
ATTACH;FMTTYPE=image/jpeg:https://cspacemardaloop.com/wp-content/uploads/2024/09/bridge.jpg
ORGANIZER;CN="Calgary Association of Lifelong Learners":MAILTO:communications@calgarylifelonglearners.ca
END:VEVENT
END:VCALENDAR