BEGIN:VCALENDAR
VERSION:2.0
PRODID:-//cSPACE Marda Loop - ECPv6.15.20//NONSGML v1.0//EN
CALSCALE:GREGORIAN
METHOD:PUBLISH
X-WR-CALNAME:cSPACE Marda Loop
X-ORIGINAL-URL:https://cspacemardaloop.com
X-WR-CALDESC:Events for cSPACE Marda Loop
REFRESH-INTERVAL;VALUE=DURATION:PT1H
X-Robots-Tag:noindex
X-PUBLISHED-TTL:PT1H
BEGIN:VTIMEZONE
TZID:UTC
BEGIN:STANDARD
TZOFFSETFROM:+0000
TZOFFSETTO:+0000
TZNAME:UTC
DTSTART:20230101T000000
END:STANDARD
END:VTIMEZONE
BEGIN:VEVENT
DTSTART;VALUE=DATE:20240429
DTEND;VALUE=DATE:20240512
DTSTAMP:20260422T224532
CREATED:20240405T213900Z
LAST-MODIFIED:20240425T230812Z
UID:10001646-1714348800-1715471999@cspacemardaloop.com
SUMMARY:Beyond Age: The Fabulous Over Forty Movement
DESCRIPTION:Beyond Age: Fabulous Over 40\, Laurie MacBrown Photography\ncSPACE Marda Loop\nLevel 1 Gallery \nBeauty doesn’t cease to exist because of an arbitrary age\, and it’s time to shatter the stereotypes that say otherwise. \n“Fabulous Over Forty” is our bold statement to the world: Women in their 40s\, 50s\, 60s\, 70s\, are gorgeous and worthy of display in an art gallery. \nAgain this year\, we’ve chosen boudoir portraiture as our medium—a choice that defies expectations and celebrates the unique confidence and sensuality that come with age. Through this second annual series\, we offer a collection of portraits and stories that reveal the confident\, diverse beauty of women who are proudly ranging in age from 40 to 77. \nJoin us in embracing a vision of beauty that grows and evolves throughout life. “Fabulous Over Forty” isn’t just an exhibition; it’s a movement\, inviting everyone to see the strength and confidence that come with every year lived and every experience gained.
URL:https://cspacemardaloop.com/event/beyond-age-the-fabulous-over-forty-movement/
LOCATION:cSPACE Marda Loop\, 1721 29 Avenue Southwest\, Calgary\, AB\, T2T 6T7\, Canada
CATEGORIES:Gallery Level 1
ATTACH;FMTTYPE=image/jpeg:https://cspacemardaloop.com/wp-content/uploads/2024/04/fab-over-forty-charity-gala.jpg
END:VEVENT
BEGIN:VEVENT
DTSTART;TZID=UTC:20240430T080000
DTEND;TZID=UTC:20240511T200000
DTSTAMP:20260422T224532
CREATED:20240330T024123Z
LAST-MODIFIED:20240502T191632Z
UID:10001631-1714464000-1715457600@cspacemardaloop.com
SUMMARY:Alison Frank's Love Aquatic
DESCRIPTION:cSPACE Marda Loop\nLevel 2 Gallery\nApril 29-May 11\, 2024 \nLove Aquatic is an art exhibition featuring the painting\, drawing and photography by Alison Frank. It is the merger of her work as a visual artist and as a professional mermaid. Her paintings in this collection are inspired by the beauty experienced and captured through her freediving as a mermaid. The underwater world is a tranquil escape where time and daily pressures seem to dissolve. Water and the gravity free environment have many therapeutic healing benefits from fitness to pain relief. This solstice has been one component\, for her\, in managing a diagnosis with Multiple Sclerosis in a holistic approach. To this underwater world\, she adds her surreal and playful mix of characters. Children gravitate to water and the joy of swimming. As adults\, we often lose our affinity for this magical place. She visually shares the ephemeral beauty of the way water reflects light in a way we can never experience above the surface. Through this exhibition\, she hopes to connect to viewers in a way that might inspire them to revisit the water and experience it’s many benefits. \nInstagram: @snowbunnymermaid
URL:https://cspacemardaloop.com/event/alison-franks-love-aquatic/
LOCATION:AB
CATEGORIES:Gallery Level 2
ATTACH;FMTTYPE=image/jpeg:https://cspacemardaloop.com/wp-content/uploads/2024/03/alison-frank-love-aquatic-artist-exhibition.jpg
END:VEVENT
BEGIN:VEVENT
DTSTART;TZID=UTC:20240505T140000
DTEND;TZID=UTC:20240505T160000
DTSTAMP:20260422T224532
CREATED:20240318T200954Z
LAST-MODIFIED:20240318T200955Z
UID:10001329-1714917600-1714924800@cspacemardaloop.com
SUMMARY:Buy Me a Drink\, Joe
DESCRIPTION:Fifteen years ago\, Forte Musical Theatre produced its very first musical revue and\, since that time\, we’ve produced twenty-six shows\, won twenty-five local\, provincial and international awards\, and entertained tens of thousands of patrons. Many of those shows were written or co-written by our artistic director\, Joe Slabe\, and this new musical celebrates fifteen years of his songs and tell the story of how a guy with big dreams fell in love with musical theatre. \n\n“Joe Slabe’s songs are beautifully written and his book will have you laughing at one moment\, crying another and fully satisfied by the end” – nytheatre.com \n\n\n\n“Joe Slabe is Calgary’s own Stephen Sondheim.” \n\nLouis B. Hobson\, The Calgary Herald \n\n\nBuy Me a Drink\, Joe\nBook\, Music and Lyrics by Joe SlabeApril 23 – May 5\, 2024
URL:https://cspacemardaloop.com/event/buy-me-a-drink-joe/2024-05-05/
LOCATION:cSPACE Marda Loop-  Studio Theatre\, 1721 29th Ave. SW\, Calgary\, AB\, T2T 6T7\, Canada
CATEGORIES:Studio Theatre
ATTACH;FMTTYPE=image/jpeg:https://cspacemardaloop.com/wp-content/uploads/2017/04/bmadj-banner-fb-final.jpg
END:VEVENT
END:VCALENDAR