BEGIN:VCALENDAR
VERSION:2.0
PRODID:-//cSPACE Marda Loop - ECPv6.15.20//NONSGML v1.0//EN
CALSCALE:GREGORIAN
METHOD:PUBLISH
X-WR-CALNAME:cSPACE Marda Loop
X-ORIGINAL-URL:https://cspacemardaloop.com
X-WR-CALDESC:Events for cSPACE Marda Loop
REFRESH-INTERVAL;VALUE=DURATION:PT1H
X-Robots-Tag:noindex
X-PUBLISHED-TTL:PT1H
BEGIN:VTIMEZONE
TZID:UTC
BEGIN:STANDARD
TZOFFSETFROM:+0000
TZOFFSETTO:+0000
TZNAME:UTC
DTSTART:20230101T000000
END:STANDARD
END:VTIMEZONE
BEGIN:VTIMEZONE
TZID:America/Edmonton
BEGIN:DAYLIGHT
TZOFFSETFROM:-0700
TZOFFSETTO:-0600
TZNAME:MDT
DTSTART:20230312T090000
END:DAYLIGHT
BEGIN:STANDARD
TZOFFSETFROM:-0600
TZOFFSETTO:-0700
TZNAME:MST
DTSTART:20231105T080000
END:STANDARD
BEGIN:DAYLIGHT
TZOFFSETFROM:-0700
TZOFFSETTO:-0600
TZNAME:MDT
DTSTART:20240310T090000
END:DAYLIGHT
BEGIN:STANDARD
TZOFFSETFROM:-0600
TZOFFSETTO:-0700
TZNAME:MST
DTSTART:20241103T080000
END:STANDARD
BEGIN:DAYLIGHT
TZOFFSETFROM:-0700
TZOFFSETTO:-0600
TZNAME:MDT
DTSTART:20250309T090000
END:DAYLIGHT
BEGIN:STANDARD
TZOFFSETFROM:-0600
TZOFFSETTO:-0700
TZNAME:MST
DTSTART:20251102T080000
END:STANDARD
END:VTIMEZONE
BEGIN:VEVENT
DTSTART;TZID=UTC:20240306T100000
DTEND;TZID=UTC:20240306T120000
DTSTAMP:20260425T011738
CREATED:20240116T002530Z
LAST-MODIFIED:20240116T002531Z
UID:10000328-1709719200-1709726400@cspacemardaloop.com
SUMMARY:CALL: Finding Peace and Joy Within
DESCRIPTION:There is a universal human desire to be happy and to avoid suffering. We try to fulfill that desire through our outer world – family\, career\, service\, hobbies\, recreation\, etc. Through modern technology\, we now have wealth and health to an extent that our ancestors (and many in developing nations) could only dream of. Yet which of us is truly happy and free of suffering? Do you have the feeling that “something” is missing? \nWe have known since we were small children that we have a mind and a body. However\, we have a third\, inner resource that we easily overlook\, that can provide a source of joy and respite from suffering. \nPlease join us at “Finding Peace and Joy Within” to have a direct experience of this resource to help you have a happier and more fulfilled life.\nYou must be a member of CALL.
URL:https://cspacemardaloop.com/event/call-finding-peace-and-joy-within/2024-03-06/
LOCATION:cSPACE Marda Loop\, 1721 29 Avenue Southwest\, Calgary\, AB\, T2T 6T7\, Canada
CATEGORIES:Suite #310
ATTACH;FMTTYPE=image/jpeg:https://cspacemardaloop.com/wp-content/uploads/2024/01/peace-and-joy-3.jpg
ORGANIZER;CN="Calgary Association of Lifelong Learners":MAILTO:communications@calgarylifelonglearners.ca
END:VEVENT
BEGIN:VEVENT
DTSTART;TZID=America/Edmonton:20240306T190000
DTEND;TZID=America/Edmonton:20240306T210000
DTSTAMP:20260425T011738
CREATED:20240208T174902Z
LAST-MODIFIED:20240208T175946Z
UID:10000343-1709751600-1709758800@cspacemardaloop.com
SUMMARY:TRACES OF CONSCIOUSNESS opening night live with pianist Roman Rabinovich
DESCRIPTION:Opening night with improvisations\, Roman Rabinovich and Chris Sies on electronic impressions. Mingle with the light and soundscapes.\nJoin us at cSPACE in Calgary from March 6th to 9th\, and be sure not to miss our special opening performance by the extraordinary Roman Rabionovich and Chris Sies sonic artist. They will weave a tapestry of enchanting piano improvisations inspired by the ‘Traces’ installation at cSpace\, adding yet another layer of sensory delight to your extraordinary journey. \nPresented by the artist collective\, LUMINOS.SPACE; James Ziegler\, Alan Fortune\, Dylan Bauer and Chris Sies. \n  \nOpening night\, space for 100 guests. \nTickets: Patrons $38 or pay by donation\, as you can.
URL:https://cspacemardaloop.com/event/traces-of-consciousness-opening-night-live-with-pianist-roman-rabinovich/
LOCATION:cSPACE Marda Loop-  Studio Theatre\, 1721 29th Ave. SW\, Calgary\, AB\, T2T 6T7\, Canada
CATEGORIES:Studio Theatre
ATTACH;FMTTYPE=image/jpeg:https://cspacemardaloop.com/wp-content/uploads/2024/02/a9a10e27dca51039949227507c8ff293.jpg
END:VEVENT
END:VCALENDAR