BEGIN:VCALENDAR
VERSION:2.0
PRODID:-//cSPACE Marda Loop - ECPv6.15.20//NONSGML v1.0//EN
CALSCALE:GREGORIAN
METHOD:PUBLISH
X-WR-CALNAME:cSPACE Marda Loop
X-ORIGINAL-URL:https://cspacemardaloop.com
X-WR-CALDESC:Events for cSPACE Marda Loop
REFRESH-INTERVAL;VALUE=DURATION:PT1H
X-Robots-Tag:noindex
X-PUBLISHED-TTL:PT1H
BEGIN:VTIMEZONE
TZID:UTC
BEGIN:STANDARD
TZOFFSETFROM:+0000
TZOFFSETTO:+0000
TZNAME:UTC
DTSTART:20220101T000000
END:STANDARD
END:VTIMEZONE
BEGIN:VEVENT
DTSTART;VALUE=DATE:20230527
DTEND;VALUE=DATE:20230801
DTSTAMP:20260425T110809
CREATED:20230607T180455Z
LAST-MODIFIED:20230607T180455Z
UID:10000043-1685145600-1690847999@cspacemardaloop.com
SUMMARY:Photographic Exhibition by Manuel Secher
DESCRIPTION:SPACE MARDA LOOP\nLevel 2 Gallery\nMay 27 – July 31\, 2023 \nFROM THE ARTIST\nDuring my travels\, I discovered a fascination for landscape and cityscape photography. The beauty of the Rockies and my thirst for adventure fulfilled my passion so I stayed here. I often combine a wilderness excursion with my landscape photography\, reaching remote locations of spectacular beauty. \nThrough my photography\, I take great pleasure in sharing the magnificence and beauty of all the places I have visited\, with my friends and family … and you!
URL:https://cspacemardaloop.com/event/photographic-exhibition-by-manuel-secher/
LOCATION:cSPACE Marda Loop\, 1721 29 Avenue Southwest\, Calgary\, AB\, T2T 6T7\, Canada
CATEGORIES:Gallery Level 2
ATTACH;FMTTYPE=image/jpeg:https://cspacemardaloop.com/wp-content/uploads/2023/06/img_01791.jpg
END:VEVENT
BEGIN:VEVENT
DTSTART;VALUE=DATE:20230627
DTEND;VALUE=DATE:20230830
DTSTAMP:20260425T110809
CREATED:20230630T212759Z
LAST-MODIFIED:20230811T235112Z
UID:10000065-1687824000-1693353599@cspacemardaloop.com
SUMMARY:Soul/Ful Exhibition
DESCRIPTION:Level 3 Gallery\ncSPACE Marda Loop\nFor the months of July and August \nReception Friday July 7th\, 5pm-8pm \nKate Ware and Darren Flash team up for this Soul/Ful celebration. Kate’s work combines portrait photography and analog projections to eerie effect. Darren shares the maps and routes he followed as a world traveller on a pedal bike\, and the art and writings it inspired.
URL:https://cspacemardaloop.com/event/soul-ful-exhibition/
LOCATION:cSPACE Marda Loop\, 1721 29 Avenue Southwest\, Calgary\, AB\, T2T 6T7\, Canada
CATEGORIES:Gallery Level 3
ATTACH;FMTTYPE=image/jpeg:https://cspacemardaloop.com/wp-content/uploads/2023/06/soul-ful-1.jpg
END:VEVENT
BEGIN:VEVENT
DTSTART;TZID=UTC:20230727T090000
DTEND;TZID=UTC:20230727T160000
DTSTAMP:20260425T110809
CREATED:20230627T152618Z
LAST-MODIFIED:20240606T213341Z
UID:10000058-1690448400-1690473600@cspacemardaloop.com
SUMMARY:Kids Summer Photography Camp
DESCRIPTION:Join us for our Kids Summer Photography Camp\, where shutterbugs will embark on an unforgettable journey through the world of photography! This action-packed camp is designed to inspire creativity\, enhance observation skills\, and ignite a passion for capturing the world through a lens. Throughout the 4-day camp\, participants will take part in loads of hands-on activities\, interactive lessons & discussions and exciting photo adventures. \nHere’s what your child can look forward to: \n1. All things Photography!!\n– get acquainted with the basics of photography\, from understanding their cameras to learning about composition and framing\n– explore different camera functions and settings and become confident working with exposure\, aperture\, shutter speed and ISO\n– be encouraged to play and experiment with their new knowledge \n2. Photo Excursions\n– explore our stunning cSPACE location\n– venture into the neighbourhood to unleash their creativity and capture the world around them \n3. Fun-filled Photography Challenges\n– participate in photography challenges that encourage imagination\, self-expression and storytelling\n– experiment with different themes and subjects \n4. Create Art Pieces\n– Transform their images into unique works of art! \n5. Host a Photography Gala\n– showcase their favourite images in a gala on the 4th floor on our final afternoon\n– celebrate their creativity! \nOur time together provides them with lifelong skills and unforgettable memories. We look forward to sparking passion\, confidence and curiosity in your kids! \nHosted by Marda Loop community member\, Janet Pliszka of Visual Hues Photography
URL:https://cspacemardaloop.com/event/kids-summer-photography-camp-3/2023-07-27/
LOCATION:cSPACE Marda Loop\, 1721 29 Avenue Southwest\, Calgary\, AB\, T2T 6T7\, Canada
CATEGORIES:RGO Treehouse South
ATTACH;FMTTYPE=image/jpeg:https://cspacemardaloop.com/wp-content/uploads/2023/06/2023-summer-camp_cspace_eventlisting.jpg
ORGANIZER;CN="Kids Photography Academy":MAILTO:janetp@kidsphotographyacademy.com
END:VEVENT
END:VCALENDAR