BEGIN:VCALENDAR
VERSION:2.0
PRODID:-//cSPACE Marda Loop - ECPv6.15.20//NONSGML v1.0//EN
CALSCALE:GREGORIAN
METHOD:PUBLISH
X-ORIGINAL-URL:https://cspacemardaloop.com
X-WR-CALDESC:Events for cSPACE Marda Loop
REFRESH-INTERVAL;VALUE=DURATION:PT1H
X-Robots-Tag:noindex
X-PUBLISHED-TTL:PT1H
BEGIN:VTIMEZONE
TZID:UTC
BEGIN:STANDARD
TZOFFSETFROM:+0000
TZOFFSETTO:+0000
TZNAME:UTC
DTSTART:20220101T000000
END:STANDARD
END:VTIMEZONE
BEGIN:VTIMEZONE
TZID:America/Edmonton
BEGIN:DAYLIGHT
TZOFFSETFROM:-0700
TZOFFSETTO:-0600
TZNAME:MDT
DTSTART:20220313T090000
END:DAYLIGHT
BEGIN:STANDARD
TZOFFSETFROM:-0600
TZOFFSETTO:-0700
TZNAME:MST
DTSTART:20221106T080000
END:STANDARD
BEGIN:DAYLIGHT
TZOFFSETFROM:-0700
TZOFFSETTO:-0600
TZNAME:MDT
DTSTART:20230312T090000
END:DAYLIGHT
BEGIN:STANDARD
TZOFFSETFROM:-0600
TZOFFSETTO:-0700
TZNAME:MST
DTSTART:20231105T080000
END:STANDARD
BEGIN:DAYLIGHT
TZOFFSETFROM:-0700
TZOFFSETTO:-0600
TZNAME:MDT
DTSTART:20240310T090000
END:DAYLIGHT
BEGIN:STANDARD
TZOFFSETFROM:-0600
TZOFFSETTO:-0700
TZNAME:MST
DTSTART:20241103T080000
END:STANDARD
END:VTIMEZONE
BEGIN:VEVENT
DTSTART;VALUE=DATE:20230515
DTEND;VALUE=DATE:20230604
DTSTAMP:20260421T021236
CREATED:20230524T210503Z
LAST-MODIFIED:20230524T210523Z
UID:10000024-1684108800-1685836799@cspacemardaloop.com
SUMMARY:Inter(connected)
DESCRIPTION:Level 4 Gallery \nInter(connected) is an exhibition of work by the 2022-2023 hear/d residency artist cohort: Ella Crompton\, Brendan Djentle Hamilton\, Liz Kim\, AJ Kluck\, Sydney Paquette\, Sid Serafin\, Jiaqi Shi\, Juli Song\, Sasha Terway and Christina Yao. \nEach of these artists were prompted to explore themes of mental health and resiliency in ways that resonated with them. Artists met weekly\, throughout the school year\, in meetings facilitated by peer-mentors Elise Lavallee Findlay and Levin Ifko. Through discussions\, as well as their own musings and experiences\, they created Inter(connected)\, an exhibition that explores each artists’ relationships to vulnerability\, growth\, tension and in-betweenness\, in ways that are so much more than linear. \nThe Hear/d Residency is a program where residents collaborate on the research\, development\, creation and curation of an exhibition that explores the theme of mental health.
URL:https://cspacemardaloop.com/event/interconnected/
LOCATION:cSPACE Marda Loop\, 1721 29 Avenue Southwest\, Calgary\, AB\, T2T 6T7\, Canada
CATEGORIES:Gallery Level 4
ATTACH;FMTTYPE=image/jpeg:https://cspacemardaloop.com/wp-content/uploads/2023/05/interconnected.jpg
END:VEVENT
BEGIN:VEVENT
DTSTART;TZID=America/Edmonton:20230520T170000
DTEND;TZID=America/Edmonton:20230520T210000
DTSTAMP:20260421T021236
CREATED:20230511T211038Z
LAST-MODIFIED:20230511T211039Z
UID:10000016-1684602000-1684616400@cspacemardaloop.com
SUMMARY:Celebrating Arab Heritage - FREE Event
DESCRIPTION:Join us for an evening of Arabic dance and music to celebrate Arab Heritage!\n\n\nFREE EVENT – Collecting donations for Syria & Türkiye earthquake relief \nF﻿eaturing dance and musical performances:\nR﻿adwa Egyptian Folk Dance  \nRadwa Nasr is the artistic director of “Egyptian Folk Dance Academy” in Calgary\, Canada’s premier source of Egyptian Folklore. She is a native Egyptian dancer\, who grew up in rich cultural and historical environment of metropolitan Cairo. Radwa was trained and mentored by Master teachers (Reda Troupe)\, a famous dance troupe in Egypt. Radwa established “Egyptian Folk Dance Academy” in 2019 to introduce the authentic Egyptian folk dances to the Canadian community. \nD﻿abketna YYC \nZ﻿affe and Dabke Group – Dabke is a Levantine Arab folk dance\, popular in Palestine\, Jordan\, Lebanon and Syria. Dabke combines circle dance and line dancing and is widely performed at weddings and other joyous occasions. \nAya Mhana Duo \nAya Mhana is a Syrian-born singer\, songwriter and oud player. Now a proud Canadian citizen\, A student\, a worker and a mom. Since emigrating to Calgary\, Canada\, in 2016\, Aya has performed at the Calgary Stampede\, Globalfest\, Folkfest 2021\, and with the Kensington Sinfonia. \nHailing from Sweida\, she taught herself to play the oud (a string instrument similar to the lute) during high school and graduated from the University of Damascus with a degree in education. She volunteered with the Syrian Arab Red Crescent\, working with families displaced during the Syrian war. \nInspired by her volunteer work\, Aya used her music to explore the human capacity for hope during wartime and performed her compositions in her home city. In Canada\, she translates the rich culture of her homeland for audiences who often know little of Syria\, but are eager to embrace her soulful melodies. \nE﻿rror 404 Dance Found \nC﻿ontemporary dance and physical theatre collective based in Calgary \nA﻿aliya Basheer – Henna Artist \nAaliya is a professional henna artist based in Calgary\, who will be available to give free henna tattoos. She has worked on North Indian style\, modern and intricate henna designs back in her home country. The styles in Arabic designs inspired me when I moved to Saudi Arabia. From then\, I started to do Arabian designs with henna. She enjoys doing elegant Arab designs such as flowers\, leaves\, and vines\, as well as Arabic calligraphy names and some portraits.
URL:https://cspacemardaloop.com/event/celebrating-arab-heritage-free-event/
LOCATION:AB
CATEGORIES:Studio Theatre
ATTACH;FMTTYPE=image/jpeg:https://cspacemardaloop.com/wp-content/uploads/2023/05/d1eb3d18f6d931bb1bbb990edf042915-1.jpg
END:VEVENT
END:VCALENDAR